| Back to Mac ARM64 build report for BioC 3.18 |
|
This page was generated on 2024-04-18 11:32:15 -0400 (Thu, 18 Apr 2024).
| Hostname | OS | Arch (*) | R version | Installed pkgs |
|---|---|---|---|---|
| kjohnson1 | macOS 13.6.1 Ventura | arm64 | 4.3.3 (2024-02-29) -- "Angel Food Cake" | 4388 |
| Click on any hostname to see more info about the system (e.g. compilers) (*) as reported by 'uname -p', except on Windows and Mac OS X | ||||
| Package 1506/2266 | Hostname | OS / Arch | INSTALL | BUILD | CHECK | BUILD BIN | ||||||||
| PathoStat 1.28.0 (landing page) Solaiappan Manimaran
| kjohnson1 | macOS 13.6.1 Ventura / arm64 | OK | OK | OK | OK | ||||||||
|
To the developers/maintainers of the PathoStat package: - Use the following Renviron settings to reproduce errors and warnings. - If 'R CMD check' started to fail recently on the Linux builder(s) over a missing dependency, add the missing dependency to 'Suggests:' in your DESCRIPTION file. See Renviron.bioc for more information. |
| Package: PathoStat |
| Version: 1.28.0 |
| Command: /Library/Frameworks/R.framework/Resources/bin/R CMD check --install=check:PathoStat.install-out.txt --library=/Library/Frameworks/R.framework/Resources/library --no-vignettes --timings PathoStat_1.28.0.tar.gz |
| StartedAt: 2024-04-17 22:34:16 -0400 (Wed, 17 Apr 2024) |
| EndedAt: 2024-04-17 22:39:49 -0400 (Wed, 17 Apr 2024) |
| EllapsedTime: 332.7 seconds |
| RetCode: 0 |
| Status: OK |
| CheckDir: PathoStat.Rcheck |
| Warnings: 0 |
##############################################################################
##############################################################################
###
### Running command:
###
### /Library/Frameworks/R.framework/Resources/bin/R CMD check --install=check:PathoStat.install-out.txt --library=/Library/Frameworks/R.framework/Resources/library --no-vignettes --timings PathoStat_1.28.0.tar.gz
###
##############################################################################
##############################################################################
* using log directory ‘/Users/biocbuild/bbs-3.18-bioc-mac-arm64/meat/PathoStat.Rcheck’
* using R version 4.3.3 (2024-02-29)
* using platform: aarch64-apple-darwin20 (64-bit)
* R was compiled by
Apple clang version 14.0.0 (clang-1400.0.29.202)
GNU Fortran (GCC) 12.2.0
* running under: macOS Ventura 13.6.1
* using session charset: UTF-8
* using option ‘--no-vignettes’
* checking for file ‘PathoStat/DESCRIPTION’ ... OK
* checking extension type ... Package
* this is package ‘PathoStat’ version ‘1.28.0’
* package encoding: UTF-8
* checking package namespace information ... OK
* checking package dependencies ... OK
* checking if this is a source package ... OK
* checking if there is a namespace ... OK
* checking for hidden files and directories ... OK
* checking for portable file names ... OK
* checking for sufficient/correct file permissions ... OK
* checking whether package ‘PathoStat’ can be installed ... OK
* checking installed package size ... OK
* checking package directory ... OK
* checking ‘build’ directory ... OK
* checking DESCRIPTION meta-information ... OK
* checking top-level files ... OK
* checking for left-over files ... OK
* checking index information ... OK
* checking package subdirectories ... OK
* checking R files for non-ASCII characters ... OK
* checking R files for syntax errors ... OK
* checking whether the package can be loaded ... OK
* checking whether the package can be loaded with stated dependencies ... OK
* checking whether the package can be unloaded cleanly ... OK
* checking whether the namespace can be loaded with stated dependencies ... OK
* checking whether the namespace can be unloaded cleanly ... OK
* checking dependencies in R code ... NOTE
Namespaces in Imports field not imported from:
‘ComplexHeatmap’ ‘RColorBrewer’
All declared Imports should be used.
* checking S3 generic/method consistency ... OK
* checking replacement functions ... OK
* checking foreign function calls ... OK
* checking R code for possible problems ... OK
* checking Rd files ... OK
* checking Rd metadata ... OK
* checking Rd cross-references ... OK
* checking for missing documentation entries ... OK
* checking for code/documentation mismatches ... OK
* checking Rd \usage sections ... OK
* checking Rd contents ... OK
* checking for unstated dependencies in examples ... OK
* checking contents of ‘data’ directory ... OK
* checking data for non-ASCII characters ... OK
* checking data for ASCII and uncompressed saves ... OK
* checking files in ‘vignettes’ ... OK
* checking examples ... OK
Examples with CPU (user + system) or elapsed time > 5s
user system elapsed
Bootstrap_LOOCV_LR_AUC 9.458 0.150 9.673
getSignatureFromMultipleGlmnet 5.017 0.092 5.157
* checking for unstated dependencies in ‘tests’ ... OK
* checking tests ...
Running ‘testthat.R’
OK
* checking for unstated dependencies in vignettes ... OK
* checking package vignettes in ‘inst/doc’ ... OK
* checking running R code from vignettes ... SKIPPED
* checking re-building of vignette outputs ... SKIPPED
* checking PDF version of manual ... OK
* DONE
Status: 1 NOTE
See
‘/Users/biocbuild/bbs-3.18-bioc-mac-arm64/meat/PathoStat.Rcheck/00check.log’
for details.
PathoStat.Rcheck/00install.out
############################################################################## ############################################################################## ### ### Running command: ### ### /Library/Frameworks/R.framework/Resources/bin/R CMD INSTALL PathoStat ### ############################################################################## ############################################################################## * installing to library ‘/Library/Frameworks/R.framework/Versions/4.3-arm64/Resources/library’ * installing *source* package ‘PathoStat’ ... ** using staged installation ** R ** data ** inst ** byte-compile and prepare package for lazy loading ** help *** installing help indices ** building package indices ** installing vignettes ** testing if installed package can be loaded from temporary location ** testing if installed package can be loaded from final location ** testing if installed package keeps a record of temporary installation path * DONE (PathoStat)
PathoStat.Rcheck/tests/testthat.Rout
R version 4.3.3 (2024-02-29) -- "Angel Food Cake"
Copyright (C) 2024 The R Foundation for Statistical Computing
Platform: aarch64-apple-darwin20 (64-bit)
R is free software and comes with ABSOLUTELY NO WARRANTY.
You are welcome to redistribute it under certain conditions.
Type 'license()' or 'licence()' for distribution details.
R is a collaborative project with many contributors.
Type 'contributors()' for more information and
'citation()' on how to cite R or R packages in publications.
Type 'demo()' for some demos, 'help()' for on-line help, or
'help.start()' for an HTML browser interface to help.
Type 'q()' to quit R.
> library(testthat)
> library(PathoStat)
>
> test_check("PathoStat")
[ FAIL 0 | WARN 0 | SKIP 0 | PASS 1 ]
>
> proc.time()
user system elapsed
13.967 0.597 14.865
PathoStat.Rcheck/PathoStat-Ex.timings
| name | user | system | elapsed | |
| Bootstrap_LOOCV_LR_AUC | 9.458 | 0.150 | 9.673 | |
| Chisq_Test_Pam | 0.003 | 0.000 | 0.004 | |
| Fisher_Test_Pam | 0.005 | 0.001 | 0.006 | |
| GET_PAM | 0.003 | 0.001 | 0.003 | |
| LOOAUC_simple_multiple_noplot_one_df | 2.012 | 0.015 | 2.049 | |
| LOOAUC_simple_multiple_one_df | 1.937 | 0.014 | 1.975 | |
| PathoStat-class | 0.050 | 0.001 | 0.051 | |
| TranslateIdToTaxLevel | 0.003 | 0.001 | 0.004 | |
| Wilcox_Test_df | 0.012 | 0.002 | 0.015 | |
| findRAfromCount | 0.147 | 0.001 | 0.149 | |
| findTaxonMat | 0.082 | 0.005 | 0.088 | |
| findTaxonomy | 0.080 | 0.003 | 0.084 | |
| findTaxonomy300 | 0.075 | 0.004 | 0.090 | |
| getShinyInput | 0.000 | 0.000 | 0.001 | |
| getShinyInputCombat | 0.000 | 0.001 | 0.000 | |
| getShinyInputOrig | 0.000 | 0.000 | 0.001 | |
| getSignatureFromMultipleGlmnet | 5.017 | 0.092 | 5.157 | |
| grepTid | 0.000 | 0.001 | 0.000 | |
| loadPathoscopeReports | 0.001 | 0.001 | 0.003 | |
| loadPstat | 0.002 | 0.001 | 0.003 | |
| log2CPM | 0.001 | 0.001 | 0.002 | |
| percent | 0.000 | 0.000 | 0.001 | |
| phyloseq_to_edgeR | 0.063 | 0.005 | 0.069 | |
| plotPCAPlotly | 0.235 | 0.027 | 0.287 | |
| plotPCoAPlotly | 0.135 | 0.015 | 0.159 | |
| readPathoscopeData | 0.076 | 0.004 | 0.092 | |
| runPathoStat | 0.062 | 0.002 | 0.073 | |
| savePstat | 0.006 | 0.002 | 0.011 | |
| setShinyInput | 0 | 0 | 0 | |
| setShinyInputCombat | 0.001 | 0.000 | 0.001 | |
| setShinyInputOrig | 0.000 | 0.000 | 0.001 | |
| summarizeTable | 0.004 | 0.000 | 0.004 | |