| Back to Mac ARM64 build report for BioC 3.18 |
|
This page was generated on 2024-04-18 11:32:11 -0400 (Thu, 18 Apr 2024).
| Hostname | OS | Arch (*) | R version | Installed pkgs |
|---|---|---|---|---|
| kjohnson1 | macOS 13.6.1 Ventura | arm64 | 4.3.3 (2024-02-29) -- "Angel Food Cake" | 4388 |
| Click on any hostname to see more info about the system (e.g. compilers) (*) as reported by 'uname -p', except on Windows and Mac OS X | ||||
| Package 877/2266 | Hostname | OS / Arch | INSTALL | BUILD | CHECK | BUILD BIN | ||||||||
| GNOSIS 1.0.0 (landing page) Lydia King
| kjohnson1 | macOS 13.6.1 Ventura / arm64 | OK | OK | WARNINGS | OK | ||||||||
|
To the developers/maintainers of the GNOSIS package: - Use the following Renviron settings to reproduce errors and warnings. - If 'R CMD check' started to fail recently on the Linux builder(s) over a missing dependency, add the missing dependency to 'Suggests:' in your DESCRIPTION file. See Renviron.bioc for more information. |
| Package: GNOSIS |
| Version: 1.0.0 |
| Command: /Library/Frameworks/R.framework/Resources/bin/R CMD INSTALL GNOSIS |
| StartedAt: 2024-04-16 12:45:30 -0400 (Tue, 16 Apr 2024) |
| EndedAt: 2024-04-16 12:46:42 -0400 (Tue, 16 Apr 2024) |
| EllapsedTime: 72.5 seconds |
| RetCode: 0 |
| Status: OK |
##############################################################################
##############################################################################
###
### Running command:
###
### /Library/Frameworks/R.framework/Resources/bin/R CMD INSTALL GNOSIS
###
##############################################################################
##############################################################################
* installing to library ‘/Library/Frameworks/R.framework/Versions/4.3-arm64/Resources/library’
* installing *source* package ‘GNOSIS’ ...
** using staged installation
** R
** inst
** byte-compile and prepare package for lazy loading
Warning messages:
1: In normalizePath(tools::R_user_dir("R.cache", which = "cache")) :
path[1]="/Users/biocbuild/Library/Caches/org.R-project.R/R/R.cache": No such file or directory
2: In normalizePath(tools::R_user_dir("R.cache", which = "cache")) :
path[1]="/Users/biocbuild/Library/Caches/org.R-project.R/R/R.cache": No such file or directory
3: In normalizePath(tools::R_user_dir("R.cache", which = "cache")) :
path[1]="/Users/biocbuild/Library/Caches/org.R-project.R/R/R.cache": No such file or directory
Warning: replacing previous import ‘shinydashboard::taskItem’ by ‘shinydashboardPlus::taskItem’ when loading ‘GNOSIS’
Warning: replacing previous import ‘shinydashboard::dashboardHeader’ by ‘shinydashboardPlus::dashboardHeader’ when loading ‘GNOSIS’
Warning: replacing previous import ‘shinydashboard::box’ by ‘shinydashboardPlus::box’ when loading ‘GNOSIS’
Warning: replacing previous import ‘shinydashboard::messageItem’ by ‘shinydashboardPlus::messageItem’ when loading ‘GNOSIS’
Warning: replacing previous import ‘shinydashboard::dashboardSidebar’ by ‘shinydashboardPlus::dashboardSidebar’ when loading ‘GNOSIS’
Warning: replacing previous import ‘shinydashboard::dashboardPage’ by ‘shinydashboardPlus::dashboardPage’ when loading ‘GNOSIS’
Warning: replacing previous import ‘shinyWidgets::progressBar’ by ‘shinydashboardPlus::progressBar’ when loading ‘GNOSIS’
Warning: replacing previous import ‘shinydashboard::notificationItem’ by ‘shinydashboardPlus::notificationItem’ when loading ‘GNOSIS’
Warning: replacing previous import ‘shiny::dataTableOutput’ by ‘DT::dataTableOutput’ when loading ‘GNOSIS’
Warning: replacing previous import ‘shiny::renderDataTable’ by ‘DT::renderDataTable’ when loading ‘GNOSIS’
** help
*** installing help indices
** building package indices
** installing vignettes
** testing if installed package can be loaded from temporary location
Warning in normalizePath(tools::R_user_dir("R.cache", which = "cache")) :
path[1]="/Users/biocbuild/Library/Caches/org.R-project.R/R/R.cache": No such file or directory
Warning in normalizePath(tools::R_user_dir("R.cache", which = "cache")) :
path[1]="/Users/biocbuild/Library/Caches/org.R-project.R/R/R.cache": No such file or directory
Warning in normalizePath(tools::R_user_dir("R.cache", which = "cache")) :
path[1]="/Users/biocbuild/Library/Caches/org.R-project.R/R/R.cache": No such file or directory
Warning: replacing previous import ‘shinydashboard::taskItem’ by ‘shinydashboardPlus::taskItem’ when loading ‘GNOSIS’
Warning: replacing previous import ‘shinydashboard::dashboardHeader’ by ‘shinydashboardPlus::dashboardHeader’ when loading ‘GNOSIS’
Warning: replacing previous import ‘shinydashboard::box’ by ‘shinydashboardPlus::box’ when loading ‘GNOSIS’
Warning: replacing previous import ‘shinydashboard::messageItem’ by ‘shinydashboardPlus::messageItem’ when loading ‘GNOSIS’
Warning: replacing previous import ‘shinydashboard::dashboardSidebar’ by ‘shinydashboardPlus::dashboardSidebar’ when loading ‘GNOSIS’
Warning: replacing previous import ‘shinydashboard::dashboardPage’ by ‘shinydashboardPlus::dashboardPage’ when loading ‘GNOSIS’
Warning: replacing previous import ‘shinyWidgets::progressBar’ by ‘shinydashboardPlus::progressBar’ when loading ‘GNOSIS’
Warning: replacing previous import ‘shinydashboard::notificationItem’ by ‘shinydashboardPlus::notificationItem’ when loading ‘GNOSIS’
Warning: replacing previous import ‘shiny::dataTableOutput’ by ‘DT::dataTableOutput’ when loading ‘GNOSIS’
Warning: replacing previous import ‘shiny::renderDataTable’ by ‘DT::renderDataTable’ when loading ‘GNOSIS’
** testing if installed package can be loaded from final location
Warning in normalizePath(tools::R_user_dir("R.cache", which = "cache")) :
path[1]="/Users/biocbuild/Library/Caches/org.R-project.R/R/R.cache": No such file or directory
Warning in normalizePath(tools::R_user_dir("R.cache", which = "cache")) :
path[1]="/Users/biocbuild/Library/Caches/org.R-project.R/R/R.cache": No such file or directory
Warning in normalizePath(tools::R_user_dir("R.cache", which = "cache")) :
path[1]="/Users/biocbuild/Library/Caches/org.R-project.R/R/R.cache": No such file or directory
Warning: replacing previous import ‘shinydashboard::taskItem’ by ‘shinydashboardPlus::taskItem’ when loading ‘GNOSIS’
Warning: replacing previous import ‘shinydashboard::dashboardHeader’ by ‘shinydashboardPlus::dashboardHeader’ when loading ‘GNOSIS’
Warning: replacing previous import ‘shinydashboard::box’ by ‘shinydashboardPlus::box’ when loading ‘GNOSIS’
Warning: replacing previous import ‘shinydashboard::messageItem’ by ‘shinydashboardPlus::messageItem’ when loading ‘GNOSIS’
Warning: replacing previous import ‘shinydashboard::dashboardSidebar’ by ‘shinydashboardPlus::dashboardSidebar’ when loading ‘GNOSIS’
Warning: replacing previous import ‘shinydashboard::dashboardPage’ by ‘shinydashboardPlus::dashboardPage’ when loading ‘GNOSIS’
Warning: replacing previous import ‘shinyWidgets::progressBar’ by ‘shinydashboardPlus::progressBar’ when loading ‘GNOSIS’
Warning: replacing previous import ‘shinydashboard::notificationItem’ by ‘shinydashboardPlus::notificationItem’ when loading ‘GNOSIS’
Warning: replacing previous import ‘shiny::dataTableOutput’ by ‘DT::dataTableOutput’ when loading ‘GNOSIS’
Warning: replacing previous import ‘shiny::renderDataTable’ by ‘DT::renderDataTable’ when loading ‘GNOSIS’
** testing if installed package keeps a record of temporary installation path
* DONE (GNOSIS)