Back to Multiple platform build/check report for BioC 3.18: simplified long |
|
This page was generated on 2023-11-02 11:41:18 -0400 (Thu, 02 Nov 2023).
Hostname | OS | Arch (*) | R version | Installed pkgs |
---|---|---|---|---|
nebbiolo2 | Linux (Ubuntu 22.04.2 LTS) | x86_64 | 4.3.1 (2023-06-16) -- "Beagle Scouts" | 4729 |
palomino4 | Windows Server 2022 Datacenter | x64 | 4.3.1 (2023-06-16 ucrt) -- "Beagle Scouts" | 4463 |
lconway | macOS 12.6.5 Monterey | x86_64 | 4.3.1 Patched (2023-06-17 r84564) -- "Beagle Scouts" | 4478 |
kunpeng2 | Linux (openEuler 22.03 LTS-SP1) | aarch64 | 4.3.1 (2023-06-16) -- "Beagle Scouts" | 4464 |
Click on any hostname to see more info about the system (e.g. compilers) (*) as reported by 'uname -p', except on Windows and Mac OS X |
Package 1988/2266 | Hostname | OS / Arch | INSTALL | BUILD | CHECK | BUILD BIN | ||||||||
John Marioni
| nebbiolo2 | Linux (Ubuntu 22.04.2 LTS) / x86_64 | OK | OK | WARNINGS | |||||||||
palomino4 | Windows Server 2022 Datacenter / x64 | OK | OK | WARNINGS | OK | |||||||||
lconway | macOS 12.6.5 Monterey / x86_64 | OK | OK | WARNINGS | OK | |||||||||
kjohnson1 | macOS 13.6.1 Ventura / arm64 | see weekly results here | ||||||||||||
kunpeng2 | Linux (openEuler 22.03 LTS-SP1) / aarch64 | OK | OK | WARNINGS | ||||||||||
To the developers/maintainers of the snapCGH package: - Allow up to 24 hours (and sometimes 48 hours) for your latest push to git@git.bioconductor.org:packages/snapCGH.git to reflect on this report. See Troubleshooting Build Report for more information. - Use the following Renviron settings to reproduce errors and warnings. - If 'R CMD check' started to fail recently on the Linux builder(s) over a missing dependency, add the missing dependency to 'Suggests:' in your DESCRIPTION file. See Renviron.bioc for more information. - See Martin Grigorov's blog post for how to debug Linux ARM64 related issues on a x86_64 host. |
Package: snapCGH |
Version: 1.72.0 |
Command: /home/biocbuild/R/R-4.3.1/bin/R CMD INSTALL snapCGH |
StartedAt: 2023-11-01 20:48:30 -0000 (Wed, 01 Nov 2023) |
EndedAt: 2023-11-01 20:49:07 -0000 (Wed, 01 Nov 2023) |
EllapsedTime: 36.7 seconds |
RetCode: 0 |
Status: OK |
############################################################################## ############################################################################## ### ### Running command: ### ### /home/biocbuild/R/R-4.3.1/bin/R CMD INSTALL snapCGH ### ############################################################################## ############################################################################## * installing to library ‘/home/biocbuild/R/R-4.3.1/site-library’ * installing *source* package ‘snapCGH’ ... ** using staged installation ** libs using C compiler: ‘gcc (GCC) 10.3.1’ gcc -I"/home/biocbuild/R/R-4.3.1/include" -DNDEBUG -I/usr/local/include -fPIC -g -O2 -Wall -c optimizer.c -o optimizer.o optimizer.c: In function ‘fr_two’: optimizer.c:26:30: warning: unused variable ‘temp3’ [-Wunused-variable] 26 | double denom, temp, temp2, temp3; | ^~~~~ optimizer.c:26:23: warning: unused variable ‘temp2’ [-Wunused-variable] 26 | double denom, temp, temp2, temp3; | ^~~~~ optimizer.c:26:10: warning: unused variable ‘denom’ [-Wunused-variable] 26 | double denom, temp, temp2, temp3; | ^~~~~ optimizer.c: In function ‘fr_three’: optimizer.c:195:30: warning: unused variable ‘temp3’ [-Wunused-variable] 195 | double denom, temp, temp2, temp3; | ^~~~~ optimizer.c:195:23: warning: unused variable ‘temp2’ [-Wunused-variable] 195 | double denom, temp, temp2, temp3; | ^~~~~ optimizer.c:195:10: warning: unused variable ‘denom’ [-Wunused-variable] 195 | double denom, temp, temp2, temp3; | ^~~~~ optimizer.c:194:69: warning: unused variable ‘alphahat’ [-Wunused-variable] 194 | double gammaA[3][3], gammaB[3][3], gammaC[3][3], alpha[3][nrow1], alphahat[3][nrow1], emis_prob[3][nrow1]; | ^~~~~~~~ optimizer.c: In function ‘fr_four’: optimizer.c:413:30: warning: unused variable ‘temp3’ [-Wunused-variable] 413 | double denom, temp, temp2, temp3; | ^~~~~ optimizer.c:413:23: warning: unused variable ‘temp2’ [-Wunused-variable] 413 | double denom, temp, temp2, temp3; | ^~~~~ optimizer.c:413:10: warning: unused variable ‘denom’ [-Wunused-variable] 413 | double denom, temp, temp2, temp3; | ^~~~~ optimizer.c:412:69: warning: unused variable ‘alphahat’ [-Wunused-variable] 412 | double gammaA[4][4], gammaB[4][4], gammaC[4][4], alpha[4][nrow1], alphahat[4][nrow1], emis_prob[4][nrow1]; | ^~~~~~~~ optimizer.c: In function ‘fr_five’: optimizer.c:687:30: warning: unused variable ‘temp3’ [-Wunused-variable] 687 | double denom, temp, temp2, temp3; | ^~~~~ optimizer.c:687:23: warning: unused variable ‘temp2’ [-Wunused-variable] 687 | double denom, temp, temp2, temp3; | ^~~~~ optimizer.c:687:10: warning: unused variable ‘denom’ [-Wunused-variable] 687 | double denom, temp, temp2, temp3; | ^~~~~ optimizer.c:686:69: warning: unused variable ‘alphahat’ [-Wunused-variable] 686 | double gammaA[5][5], gammaB[5][5], gammaC[5][5], alpha[5][nrow1], alphahat[5][nrow1], emis_prob[5][nrow1]; | ^~~~~~~~ gcc -shared -L/home/biocbuild/R/R-4.3.1/lib -L/usr/local/lib -o snapCGH.so optimizer.o -L/home/biocbuild/R/R-4.3.1/lib -lR installing to /home/biocbuild/R/R-4.3.1/site-library/00LOCK-snapCGH/00new/snapCGH/libs ** R ** inst ** byte-compile and prepare package for lazy loading ** help *** installing help indices ** building package indices ** installing vignettes ** testing if installed package can be loaded from temporary location Warning: Package 'snapCGH' is deprecated and will be removed from Bioconductor version 3.19 ** checking absolute paths in shared objects and dynamic libraries ** testing if installed package can be loaded from final location Warning: Package 'snapCGH' is deprecated and will be removed from Bioconductor version 3.19 ** testing if installed package keeps a record of temporary installation path * DONE (snapCGH)