| Back to Multiple platform build/check report for BioC 3.18: simplified long |
|
This page was generated on 2023-10-24 11:41:31 -0400 (Tue, 24 Oct 2023).
| Hostname | OS | Arch (*) | R version | Installed pkgs |
|---|---|---|---|---|
| nebbiolo2 | Linux (Ubuntu 22.04.2 LTS) | x86_64 | 4.3.1 (2023-06-16) -- "Beagle Scouts" | 4724 |
| palomino4 | Windows Server 2022 Datacenter | x64 | 4.3.1 (2023-06-16 ucrt) -- "Beagle Scouts" | 4459 |
| lconway | macOS 12.6.5 Monterey | x86_64 | 4.3.1 Patched (2023-06-17 r84564) -- "Beagle Scouts" | 4473 |
| kunpeng2 | Linux (openEuler 22.03 LTS-SP1) | aarch64 | 4.3.1 (2023-06-16) -- "Beagle Scouts" | 4461 |
| Click on any hostname to see more info about the system (e.g. compilers) (*) as reported by 'uname -p', except on Windows and Mac OS X | ||||
| Package 1932/2264 | Hostname | OS / Arch | INSTALL | BUILD | CHECK | BUILD BIN | ||||||||
| sesame 1.19.10 (landing page) Wanding Zhou
| nebbiolo2 | Linux (Ubuntu 22.04.2 LTS) / x86_64 | OK | OK | OK | |||||||||
| palomino4 | Windows Server 2022 Datacenter / x64 | OK | OK | OK | OK | |||||||||
| lconway | macOS 12.6.5 Monterey / x86_64 | OK | OK | OK | OK | |||||||||
| kjohnson1 | macOS 13.3.1 Ventura / arm64 | see weekly results here | ||||||||||||
| kunpeng2 | Linux (openEuler 22.03 LTS-SP1) / aarch64 | OK | OK | OK | ||||||||||
|
To the developers/maintainers of the sesame package: - Allow up to 24 hours (and sometimes 48 hours) for your latest push to git@git.bioconductor.org:packages/sesame.git to reflect on this report. See Troubleshooting Build Report for more information. - Use the following Renviron settings to reproduce errors and warnings. - If 'R CMD check' started to fail recently on the Linux builder(s) over a missing dependency, add the missing dependency to 'Suggests:' in your DESCRIPTION file. See Renviron.bioc for more information. - See Martin Grigorov's blog post for how to debug Linux ARM64 related issues on a x86_64 host. |
| Package: sesame |
| Version: 1.19.10 |
| Command: /home/biocbuild/R/R-4.3.1/bin/R CMD check --install=check:sesame.install-out.txt --library=/home/biocbuild/R/R-4.3.1/site-library --timings sesame_1.19.10.tar.gz |
| StartedAt: 2023-10-24 12:54:51 -0000 (Tue, 24 Oct 2023) |
| EndedAt: 2023-10-24 13:25:04 -0000 (Tue, 24 Oct 2023) |
| EllapsedTime: 1812.8 seconds |
| RetCode: 0 |
| Status: OK |
| CheckDir: sesame.Rcheck |
| Warnings: 0 |
##############################################################################
##############################################################################
###
### Running command:
###
### /home/biocbuild/R/R-4.3.1/bin/R CMD check --install=check:sesame.install-out.txt --library=/home/biocbuild/R/R-4.3.1/site-library --timings sesame_1.19.10.tar.gz
###
##############################################################################
##############################################################################
* using log directory ‘/home/biocbuild/bbs-3.18-bioc/meat/sesame.Rcheck’
* using R version 4.3.1 (2023-06-16)
* using platform: aarch64-unknown-linux-gnu (64-bit)
* R was compiled by
gcc (GCC) 10.3.1
GNU Fortran (GCC) 10.3.1
* running under: openEuler 22.03 (LTS-SP1)
* using session charset: UTF-8
* checking for file ‘sesame/DESCRIPTION’ ... OK
* checking extension type ... Package
* this is package ‘sesame’ version ‘1.19.10’
* package encoding: UTF-8
* checking package namespace information ... OK
* checking package dependencies ... OK
* checking if this is a source package ... OK
* checking if there is a namespace ... OK
* checking for hidden files and directories ... OK
* checking for portable file names ... OK
* checking for sufficient/correct file permissions ... OK
* checking whether package ‘sesame’ can be installed ... OK
* checking installed package size ... OK
* checking package directory ... OK
* checking ‘build’ directory ... OK
* checking DESCRIPTION meta-information ... OK
* checking top-level files ... OK
* checking for left-over files ... OK
* checking index information ... OK
* checking package subdirectories ... OK
* checking R files for non-ASCII characters ... OK
* checking R files for syntax errors ... OK
* checking whether the package can be loaded ... OK
* checking whether the package can be loaded with stated dependencies ... OK
* checking whether the package can be unloaded cleanly ... OK
* checking whether the namespace can be loaded with stated dependencies ... OK
* checking whether the namespace can be unloaded cleanly ... OK
* checking loading without being on the library search path ... OK
* checking startup messages can be suppressed ... OK
* checking dependencies in R code ... OK
* checking S3 generic/method consistency ... OK
* checking replacement functions ... OK
* checking foreign function calls ... OK
* checking R code for possible problems ... OK
* checking Rd files ... OK
* checking Rd metadata ... OK
* checking Rd cross-references ... OK
* checking for missing documentation entries ... OK
* checking for code/documentation mismatches ... OK
* checking Rd \usage sections ... OK
* checking Rd contents ... OK
* checking for unstated dependencies in examples ... OK
* checking files in ‘vignettes’ ... OK
* checking examples ... OK
Examples with CPU (user + system) or elapsed time > 5s
user system elapsed
testEnrichmentGene 128.352 4.393 155.183
sesameQC_calcStats 31.012 2.779 35.280
sesameQC_plotHeatSNPs 27.894 1.740 30.971
KYCG_plotMeta 24.311 1.325 29.215
KYCG_plotEnrichAll 22.427 1.856 32.358
ELBAR 22.203 0.942 24.306
matchDesign 20.962 0.522 22.638
inferSpecies 19.014 1.828 24.291
sesameQC_plotBetaByDesign 18.425 0.941 19.424
compareMouseStrainReference 17.339 0.922 20.524
compareReference 16.065 1.050 19.353
testEnrichmentSEA 15.955 0.543 19.858
KYCG_annoProbes 15.211 1.066 19.642
diffRefSet 14.707 1.018 19.710
convertTo 14.340 0.957 17.706
sesameQC_plotBar 13.786 0.614 16.794
getRefSet 13.360 0.871 16.544
inferTissue 12.608 0.997 17.068
KYCG_plotMetaEnrichment 11.604 0.801 16.878
DMR 11.368 0.662 14.391
KYCG_buildGeneDBs 11.136 0.881 16.448
visualizeGene 11.271 0.259 14.826
inferStrain 10.317 0.718 13.464
getSexInfo 9.967 0.688 14.677
KYCG_plotSetEnrichment 9.261 0.870 12.476
dbStats 8.965 1.046 12.478
sdf_read_table 8.898 1.022 12.275
DML 9.166 0.614 12.150
dyeBiasNL 8.588 0.586 10.292
createUCSCtrack 8.219 0.650 11.268
deidentify 8.002 0.546 10.792
estimateLeukocyte 7.794 0.520 10.602
openSesame 6.805 0.977 10.034
testEnrichment 6.674 1.037 11.069
reIdentify 6.710 0.558 8.842
dyeBiasCorrMostBalanced 6.803 0.384 9.504
probeSuccessRate 6.671 0.318 10.422
scrubSoft 6.586 0.319 6.919
inferSex 5.782 0.415 8.404
inferSexKaryotypes 5.464 0.663 7.253
getMask 5.523 0.538 9.390
sesameQC_rankStats 5.511 0.312 8.200
prepSesame 5.387 0.303 6.918
bisConversionControl 4.681 0.239 7.209
visualizeProbes 4.784 0.052 5.962
parseGEOsignalMU 4.072 0.351 5.547
mapToMammal40 4.011 0.303 6.634
qualityMask 3.735 0.252 6.207
sesame-package 3.356 0.562 5.030
checkLevels 3.531 0.347 5.103
summaryExtractTest 3.626 0.234 6.098
meanIntensity 3.470 0.319 6.415
dyeBiasCorr 3.502 0.195 5.920
print.DMLSummary 3.294 0.395 6.115
totalIntensities 3.416 0.096 5.997
updateSigDF 3.259 0.144 5.629
KYCG_getDBs 3.106 0.280 5.711
getAFTypeIbySumAlleles 2.236 0.164 5.013
* checking for unstated dependencies in ‘tests’ ... OK
* checking tests ...
Running ‘testthat.R’
OK
* checking for unstated dependencies in vignettes ... OK
* checking package vignettes in ‘inst/doc’ ... OK
* checking running R code from vignettes ...
‘KYCG.Rmd’ using ‘UTF-8’... OK
‘QC.Rmd’ using ‘UTF-8’... OK
‘inferences.Rmd’ using ‘UTF-8’... OK
‘modeling.Rmd’ using ‘UTF-8’... OK
‘nonhuman.Rmd’ using ‘UTF-8’... OK
‘sesame.Rmd’ using ‘UTF-8’... OK
NONE
* checking re-building of vignette outputs ... OK
* checking PDF version of manual ... OK
* DONE
Status: OK
sesame.Rcheck/00install.out
############################################################################## ############################################################################## ### ### Running command: ### ### /home/biocbuild/R/R-4.3.1/bin/R CMD INSTALL sesame ### ############################################################################## ############################################################################## * installing to library ‘/home/biocbuild/R/R-4.3.1/site-library’ * installing *source* package ‘sesame’ ... ** using staged installation ** R ** inst ** byte-compile and prepare package for lazy loading ** help *** installing help indices ** building package indices ** installing vignettes ** testing if installed package can be loaded from temporary location ** testing if installed package can be loaded from final location ** testing if installed package keeps a record of temporary installation path * DONE (sesame)
sesame.Rcheck/tests/testthat.Rout
R version 4.3.1 (2023-06-16) -- "Beagle Scouts"
Copyright (C) 2023 The R Foundation for Statistical Computing
Platform: aarch64-unknown-linux-gnu (64-bit)
R is free software and comes with ABSOLUTELY NO WARRANTY.
You are welcome to redistribute it under certain conditions.
Type 'license()' or 'licence()' for distribution details.
R is a collaborative project with many contributors.
Type 'contributors()' for more information and
'citation()' on how to cite R or R packages in publications.
Type 'demo()' for some demos, 'help()' for on-line help, or
'help.start()' for an HTML browser interface to help.
Type 'q()' to quit R.
> library(testthat)
> library(sesame)
Loading required package: sesameData
Loading required package: ExperimentHub
Loading required package: BiocGenerics
Attaching package: 'BiocGenerics'
The following objects are masked from 'package:stats':
IQR, mad, sd, var, xtabs
The following objects are masked from 'package:base':
Filter, Find, Map, Position, Reduce, anyDuplicated, aperm, append,
as.data.frame, basename, cbind, colnames, dirname, do.call,
duplicated, eval, evalq, get, grep, grepl, intersect, is.unsorted,
lapply, mapply, match, mget, order, paste, pmax, pmax.int, pmin,
pmin.int, rank, rbind, rownames, sapply, setdiff, sort, table,
tapply, union, unique, unsplit, which.max, which.min
Loading required package: AnnotationHub
Loading required package: BiocFileCache
Loading required package: dbplyr
Loading sesameData.
----------------------------------------------------------
| SEnsible Step-wise Analysis of DNA MEthylation (SeSAMe)
| --------------------------------------------------------
| Please cache auxiliary data by "sesameDataCache()".
| This needs to be done only once per SeSAMe installation.
----------------------------------------------------------
>
> test_check("sesame")
[ FAIL 0 | WARN 0 | SKIP 0 | PASS 1 ]
>
> proc.time()
user system elapsed
23.560 1.318 27.178
sesame.Rcheck/sesame-Ex.timings
| name | user | system | elapsed | |
| BetaValueToMValue | 0.000 | 0.000 | 0.001 | |
| DML | 9.166 | 0.614 | 12.150 | |
| DMLpredict | 1.556 | 0.106 | 2.903 | |
| DMR | 11.368 | 0.662 | 14.391 | |
| ELBAR | 22.203 | 0.942 | 24.306 | |
| KYCG_annoProbes | 15.211 | 1.066 | 19.642 | |
| KYCG_buildGeneDBs | 11.136 | 0.881 | 16.448 | |
| KYCG_getDBs | 3.106 | 0.280 | 5.711 | |
| KYCG_listDBGroups | 0.037 | 0.004 | 0.040 | |
| KYCG_loadDBs | 0 | 0 | 0 | |
| KYCG_plotBar | 0.248 | 0.020 | 0.269 | |
| KYCG_plotDot | 0.369 | 0.008 | 0.377 | |
| KYCG_plotEnrichAll | 22.427 | 1.856 | 32.358 | |
| KYCG_plotLollipop | 0.223 | 0.012 | 0.235 | |
| KYCG_plotManhattan | 1.512 | 0.171 | 1.687 | |
| KYCG_plotMeta | 24.311 | 1.325 | 29.215 | |
| KYCG_plotMetaEnrichment | 11.604 | 0.801 | 16.878 | |
| KYCG_plotPointRange | 2.933 | 0.387 | 4.530 | |
| KYCG_plotSetEnrichment | 9.261 | 0.870 | 12.476 | |
| KYCG_plotVolcano | 0.229 | 0.004 | 0.233 | |
| KYCG_plotWaterfall | 3.236 | 0.275 | 4.635 | |
| MValueToBetaValue | 0 | 0 | 0 | |
| SigDF | 0.341 | 0.080 | 1.627 | |
| addMask | 0.110 | 0.004 | 0.115 | |
| aggregateTestEnrichments | 2.544 | 0.180 | 2.729 | |
| betasCollapseToPfx | 0.000 | 0.002 | 0.003 | |
| bisConversionControl | 4.681 | 0.239 | 7.209 | |
| calcEffectSize | 1.790 | 0.148 | 3.158 | |
| checkLevels | 3.531 | 0.347 | 5.103 | |
| cnSegmentation | 0.352 | 0.020 | 1.592 | |
| compareMouseStrainReference | 17.339 | 0.922 | 20.524 | |
| compareMouseTissueReference | 0 | 0 | 0 | |
| compareReference | 16.065 | 1.050 | 19.353 | |
| controls | 2.396 | 0.120 | 4.828 | |
| convertTo | 14.340 | 0.957 | 17.706 | |
| createUCSCtrack | 8.219 | 0.650 | 11.268 | |
| dataFrame2sesameQC | 1.341 | 0.102 | 2.661 | |
| dbStats | 8.965 | 1.046 | 12.478 | |
| deidentify | 8.002 | 0.546 | 10.792 | |
| detectionPnegEcdf | 3.024 | 0.172 | 4.498 | |
| diffRefSet | 14.707 | 1.018 | 19.710 | |
| dmContrasts | 2.365 | 0.196 | 3.769 | |
| dyeBiasCorr | 3.502 | 0.195 | 5.920 | |
| dyeBiasCorrMostBalanced | 6.803 | 0.384 | 9.504 | |
| dyeBiasL | 3.263 | 0.379 | 4.867 | |
| dyeBiasNL | 8.588 | 0.586 | 10.292 | |
| estimateLeukocyte | 7.794 | 0.520 | 10.602 | |
| formatVCF | 2.427 | 0.131 | 4.765 | |
| getAFTypeIbySumAlleles | 2.236 | 0.164 | 5.013 | |
| getAFs | 1.708 | 0.124 | 2.933 | |
| getBetas | 1.178 | 0.120 | 2.407 | |
| getMask | 5.523 | 0.538 | 9.390 | |
| getRefSet | 13.360 | 0.871 | 16.544 | |
| getSexInfo | 9.967 | 0.688 | 14.677 | |
| imputeTo | 1.985 | 0.228 | 3.324 | |
| inferEthnicity | 2.632 | 0.212 | 3.946 | |
| inferInfiniumIChannel | 0.378 | 0.191 | 0.572 | |
| inferSex | 5.782 | 0.415 | 8.404 | |
| inferSexKaryotypes | 5.464 | 0.663 | 7.253 | |
| inferSpecies | 19.014 | 1.828 | 24.291 | |
| inferStrain | 10.317 | 0.718 | 13.464 | |
| inferTissue | 12.608 | 0.997 | 17.068 | |
| initFileSet | 1.317 | 0.071 | 2.499 | |
| listAvailableMasks | 2.076 | 0.100 | 3.374 | |
| mapFileSet | 0.037 | 0.004 | 0.041 | |
| mapToMammal40 | 4.011 | 0.303 | 6.634 | |
| matchDesign | 20.962 | 0.522 | 22.638 | |
| meanIntensity | 3.470 | 0.319 | 6.415 | |
| medianTotalIntensity | 1.327 | 0.159 | 2.740 | |
| noMasked | 2.262 | 0.140 | 3.516 | |
| noob | 3.744 | 0.176 | 3.928 | |
| openSesame | 6.805 | 0.977 | 10.034 | |
| openSesameToFile | 2.059 | 0.159 | 2.224 | |
| pOOBAH | 1.748 | 0.068 | 1.821 | |
| palgen | 0.045 | 0.024 | 0.070 | |
| parseGEOsignalMU | 4.072 | 0.351 | 5.547 | |
| predictAge | 2.600 | 0.180 | 3.998 | |
| predictAgeHorvath353 | 0 | 0 | 0 | |
| predictAgeSkinBlood | 0 | 0 | 0 | |
| predictMouseAgeInMonth | 0 | 0 | 0 | |
| prefixMask | 0.552 | 0.007 | 0.561 | |
| prefixMaskButC | 0.159 | 0.000 | 0.160 | |
| prefixMaskButCG | 0.069 | 0.000 | 0.069 | |
| prepSesame | 5.387 | 0.303 | 6.918 | |
| prepSesameList | 0.002 | 0.000 | 0.003 | |
| print.DMLSummary | 3.294 | 0.395 | 6.115 | |
| print.fileSet | 1.414 | 0.088 | 2.719 | |
| probeID_designType | 0.000 | 0.001 | 0.001 | |
| probeSuccessRate | 6.671 | 0.318 | 10.422 | |
| qualityMask | 3.735 | 0.252 | 6.207 | |
| reIdentify | 6.710 | 0.558 | 8.842 | |
| readFileSet | 0.062 | 0.001 | 0.062 | |
| readIDATpair | 0.139 | 0.007 | 0.148 | |
| recommendedMaskNames | 0.000 | 0.000 | 0.001 | |
| resetMask | 0.504 | 0.056 | 1.665 | |
| scrub | 4.224 | 0.243 | 4.478 | |
| scrubSoft | 6.586 | 0.319 | 6.919 | |
| sdfPlatform | 0.359 | 0.054 | 1.521 | |
| sdf_read_table | 8.898 | 1.022 | 12.275 | |
| sdf_write_table | 2.228 | 0.124 | 3.484 | |
| searchIDATprefixes | 0.004 | 0.004 | 0.009 | |
| sesame-package | 3.356 | 0.562 | 5.030 | |
| sesameAnno_buildAddressFile | 0.000 | 0.000 | 0.001 | |
| sesameAnno_buildManifestGRanges | 0.000 | 0.000 | 0.001 | |
| sesameAnno_download | 0 | 0 | 0 | |
| sesameAnno_get | 0.001 | 0.000 | 0.000 | |
| sesameAnno_readManifestTSV | 0 | 0 | 0 | |
| sesameData_getAnno | 0 | 0 | 0 | |
| sesameQC_calcStats | 31.012 | 2.779 | 35.280 | |
| sesameQC_getStats | 2.602 | 0.024 | 2.631 | |
| sesameQC_plotBar | 13.786 | 0.614 | 16.794 | |
| sesameQC_plotBetaByDesign | 18.425 | 0.941 | 19.424 | |
| sesameQC_plotHeatSNPs | 27.894 | 1.740 | 30.971 | |
| sesameQC_plotIntensVsBetas | 3.425 | 0.204 | 4.737 | |
| sesameQC_plotRedGrnQQ | 2.027 | 0.100 | 3.243 | |
| sesameQC_rankStats | 5.511 | 0.312 | 8.200 | |
| sesame_checkVersion | 0.006 | 0.000 | 0.006 | |
| sesamize | 0.000 | 0.000 | 0.001 | |
| setMask | 0.154 | 0.004 | 0.158 | |
| signalMU | 1.552 | 0.071 | 2.749 | |
| sliceFileSet | 0.040 | 0.001 | 0.041 | |
| summaryExtractTest | 3.626 | 0.234 | 6.098 | |
| testEnrichment | 6.674 | 1.037 | 11.069 | |
| testEnrichmentGene | 128.352 | 4.393 | 155.183 | |
| testEnrichmentSEA | 15.955 | 0.543 | 19.858 | |
| totalIntensities | 3.416 | 0.096 | 5.997 | |
| updateSigDF | 3.259 | 0.144 | 5.629 | |
| visualizeGene | 11.271 | 0.259 | 14.826 | |
| visualizeProbes | 4.784 | 0.052 | 5.962 | |
| visualizeRegion | 0.520 | 0.004 | 0.525 | |
| visualizeSegments | 2.231 | 0.075 | 3.407 | |