| Back to Multiple platform build/check report for BioC 3.18: simplified long |
|
This page was generated on 2024-04-17 11:36:23 -0400 (Wed, 17 Apr 2024).
| Hostname | OS | Arch (*) | R version | Installed pkgs |
|---|---|---|---|---|
| nebbiolo2 | Linux (Ubuntu 22.04.3 LTS) | x86_64 | 4.3.3 (2024-02-29) -- "Angel Food Cake" | 4676 |
| palomino4 | Windows Server 2022 Datacenter | x64 | 4.3.3 (2024-02-29 ucrt) -- "Angel Food Cake" | 4414 |
| merida1 | macOS 12.7.1 Monterey | x86_64 | 4.3.3 (2024-02-29) -- "Angel Food Cake" | 4437 |
| Click on any hostname to see more info about the system (e.g. compilers) (*) as reported by 'uname -p', except on Windows and Mac OS X | ||||
| Package 1934/2266 | Hostname | OS / Arch | INSTALL | BUILD | CHECK | BUILD BIN | ||||||||
| sesame 1.20.0 (landing page) Wanding Zhou
| nebbiolo2 | Linux (Ubuntu 22.04.3 LTS) / x86_64 | OK | OK | OK | |||||||||
| palomino4 | Windows Server 2022 Datacenter / x64 | OK | OK | OK | OK | |||||||||
| merida1 | macOS 12.7.1 Monterey / x86_64 | OK | OK | OK | OK | |||||||||
| kjohnson1 | macOS 13.6.1 Ventura / arm64 | see weekly results here | ||||||||||||
|
To the developers/maintainers of the sesame package: - Allow up to 24 hours (and sometimes 48 hours) for your latest push to git@git.bioconductor.org:packages/sesame.git to reflect on this report. See Troubleshooting Build Report for more information. - Use the following Renviron settings to reproduce errors and warnings. - If 'R CMD check' started to fail recently on the Linux builder(s) over a missing dependency, add the missing dependency to 'Suggests:' in your DESCRIPTION file. See Renviron.bioc for more information. |
| Package: sesame |
| Version: 1.20.0 |
| Command: /home/biocbuild/bbs-3.18-bioc/R/bin/R CMD check --install=check:sesame.install-out.txt --library=/home/biocbuild/bbs-3.18-bioc/R/site-library --timings sesame_1.20.0.tar.gz |
| StartedAt: 2024-04-16 03:52:11 -0400 (Tue, 16 Apr 2024) |
| EndedAt: 2024-04-16 04:16:38 -0400 (Tue, 16 Apr 2024) |
| EllapsedTime: 1466.7 seconds |
| RetCode: 0 |
| Status: OK |
| CheckDir: sesame.Rcheck |
| Warnings: 0 |
##############################################################################
##############################################################################
###
### Running command:
###
### /home/biocbuild/bbs-3.18-bioc/R/bin/R CMD check --install=check:sesame.install-out.txt --library=/home/biocbuild/bbs-3.18-bioc/R/site-library --timings sesame_1.20.0.tar.gz
###
##############################################################################
##############################################################################
* using log directory ‘/home/biocbuild/bbs-3.18-bioc/meat/sesame.Rcheck’
* using R version 4.3.3 (2024-02-29)
* using platform: x86_64-pc-linux-gnu (64-bit)
* R was compiled by
gcc (Ubuntu 11.4.0-1ubuntu1~22.04) 11.4.0
GNU Fortran (Ubuntu 11.4.0-1ubuntu1~22.04) 11.4.0
* running under: Ubuntu 22.04.4 LTS
* using session charset: UTF-8
* checking for file ‘sesame/DESCRIPTION’ ... OK
* checking extension type ... Package
* this is package ‘sesame’ version ‘1.20.0’
* package encoding: UTF-8
* checking package namespace information ... OK
* checking package dependencies ... OK
* checking if this is a source package ... OK
* checking if there is a namespace ... OK
* checking for hidden files and directories ... OK
* checking for portable file names ... OK
* checking for sufficient/correct file permissions ... OK
* checking whether package ‘sesame’ can be installed ... OK
* checking installed package size ... OK
* checking package directory ... OK
* checking ‘build’ directory ... OK
* checking DESCRIPTION meta-information ... OK
* checking top-level files ... OK
* checking for left-over files ... OK
* checking index information ... OK
* checking package subdirectories ... OK
* checking R files for non-ASCII characters ... OK
* checking R files for syntax errors ... OK
* checking whether the package can be loaded ... OK
* checking whether the package can be loaded with stated dependencies ... OK
* checking whether the package can be unloaded cleanly ... OK
* checking whether the namespace can be loaded with stated dependencies ... OK
* checking whether the namespace can be unloaded cleanly ... OK
* checking loading without being on the library search path ... OK
* checking startup messages can be suppressed ... OK
* checking dependencies in R code ... OK
* checking S3 generic/method consistency ... OK
* checking replacement functions ... OK
* checking foreign function calls ... OK
* checking R code for possible problems ... OK
* checking Rd files ... OK
* checking Rd metadata ... OK
* checking Rd cross-references ... OK
* checking for missing documentation entries ... OK
* checking for code/documentation mismatches ... OK
* checking Rd \usage sections ... OK
* checking Rd contents ... OK
* checking for unstated dependencies in examples ... OK
* checking files in ‘vignettes’ ... OK
* checking examples ... OK
Examples with CPU (user + system) or elapsed time > 5s
user system elapsed
testEnrichmentGene 102.347 6.204 111.739
sesameQC_calcStats 18.783 1.436 20.387
KYCG_plotEnrichAll 17.908 1.689 20.724
KYCG_plotMeta 18.633 0.962 20.068
inferSpecies 17.301 1.928 19.711
sesameQC_plotHeatSNPs 16.790 1.088 18.076
ELBAR 14.909 1.008 16.076
matchDesign 14.627 0.831 15.650
KYCG_annoProbes 12.688 0.896 14.109
convertTo 12.708 0.736 13.765
sesameQC_plotBar 11.929 1.247 13.664
testEnrichmentSEA 11.297 1.424 13.135
diffRefSet 11.740 0.760 12.816
inferTissue 11.107 1.308 12.894
compareReference 11.206 1.148 12.670
getRefSet 11.394 0.783 12.518
compareMouseStrainReference 11.328 0.513 12.062
KYCG_buildGeneDBs 9.639 0.636 10.591
visualizeGene 9.469 0.780 10.784
sesameQC_plotBetaByDesign 9.394 0.580 9.974
DMR 9.298 0.560 10.218
KYCG_plotMetaEnrichment 9.393 0.432 10.296
sdf_read_table 8.743 0.400 9.462
getSexInfo 8.524 0.481 9.485
inferStrain 7.599 0.912 8.826
dbStats 7.036 1.024 8.380
createUCSCtrack 6.966 0.832 8.019
estimateLeukocyte 6.818 0.752 7.900
DML 7.157 0.337 7.850
probeSuccessRate 6.695 0.584 7.749
dyeBiasCorrMostBalanced 6.505 0.268 7.087
testEnrichment 6.105 0.556 7.135
dyeBiasNL 5.769 0.388 6.314
deidentify 5.714 0.381 6.413
openSesame 5.606 0.460 6.514
sesameQC_rankStats 5.236 0.567 6.125
getMask 4.989 0.412 5.916
KYCG_plotSetEnrichment 4.961 0.404 5.682
bisConversionControl 4.668 0.695 5.722
reIdentify 4.606 0.527 5.290
* checking for unstated dependencies in ‘tests’ ... OK
* checking tests ...
Running ‘testthat.R’
OK
* checking for unstated dependencies in vignettes ... OK
* checking package vignettes in ‘inst/doc’ ... OK
* checking running R code from vignettes ...
‘KYCG.Rmd’ using ‘UTF-8’... OK
‘QC.Rmd’ using ‘UTF-8’... OK
‘inferences.Rmd’ using ‘UTF-8’... OK
‘modeling.Rmd’ using ‘UTF-8’... OK
‘nonhuman.Rmd’ using ‘UTF-8’... OK
‘sesame.Rmd’ using ‘UTF-8’... OK
OK
* checking re-building of vignette outputs ... OK
* checking PDF version of manual ... OK
* DONE
Status: OK
sesame.Rcheck/00install.out
############################################################################## ############################################################################## ### ### Running command: ### ### /home/biocbuild/bbs-3.18-bioc/R/bin/R CMD INSTALL sesame ### ############################################################################## ############################################################################## * installing to library ‘/home/biocbuild/bbs-3.18-bioc/R/site-library’ * installing *source* package ‘sesame’ ... ** using staged installation ** R ** inst ** byte-compile and prepare package for lazy loading ** help *** installing help indices ** building package indices ** installing vignettes ** testing if installed package can be loaded from temporary location ** testing if installed package can be loaded from final location ** testing if installed package keeps a record of temporary installation path * DONE (sesame)
sesame.Rcheck/tests/testthat.Rout
R version 4.3.3 (2024-02-29) -- "Angel Food Cake"
Copyright (C) 2024 The R Foundation for Statistical Computing
Platform: x86_64-pc-linux-gnu (64-bit)
R is free software and comes with ABSOLUTELY NO WARRANTY.
You are welcome to redistribute it under certain conditions.
Type 'license()' or 'licence()' for distribution details.
R is a collaborative project with many contributors.
Type 'contributors()' for more information and
'citation()' on how to cite R or R packages in publications.
Type 'demo()' for some demos, 'help()' for on-line help, or
'help.start()' for an HTML browser interface to help.
Type 'q()' to quit R.
> library(testthat)
> library(sesame)
Loading required package: sesameData
Loading required package: ExperimentHub
Loading required package: BiocGenerics
Attaching package: 'BiocGenerics'
The following objects are masked from 'package:stats':
IQR, mad, sd, var, xtabs
The following objects are masked from 'package:base':
Filter, Find, Map, Position, Reduce, anyDuplicated, aperm, append,
as.data.frame, basename, cbind, colnames, dirname, do.call,
duplicated, eval, evalq, get, grep, grepl, intersect, is.unsorted,
lapply, mapply, match, mget, order, paste, pmax, pmax.int, pmin,
pmin.int, rank, rbind, rownames, sapply, setdiff, sort, table,
tapply, union, unique, unsplit, which.max, which.min
Loading required package: AnnotationHub
Loading required package: BiocFileCache
Loading required package: dbplyr
Loading sesameData.
----------------------------------------------------------
| SEnsible Step-wise Analysis of DNA MEthylation (SeSAMe)
| --------------------------------------------------------
| Please cache auxiliary data by "sesameDataCache()".
| This needs to be done only once per SeSAMe installation.
----------------------------------------------------------
>
> test_check("sesame")
[ FAIL 0 | WARN 0 | SKIP 0 | PASS 1 ]
>
> proc.time()
user system elapsed
18.402 0.870 19.577
sesame.Rcheck/sesame-Ex.timings
| name | user | system | elapsed | |
| BetaValueToMValue | 0 | 0 | 0 | |
| DML | 7.157 | 0.337 | 7.850 | |
| DMLpredict | 1.482 | 0.080 | 1.720 | |
| DMR | 9.298 | 0.560 | 10.218 | |
| ELBAR | 14.909 | 1.008 | 16.076 | |
| KYCG_annoProbes | 12.688 | 0.896 | 14.109 | |
| KYCG_buildGeneDBs | 9.639 | 0.636 | 10.591 | |
| KYCG_getDBs | 3.200 | 0.327 | 3.856 | |
| KYCG_listDBGroups | 0.039 | 0.000 | 0.039 | |
| KYCG_loadDBs | 0.001 | 0.000 | 0.001 | |
| KYCG_plotBar | 0.194 | 0.008 | 0.202 | |
| KYCG_plotDot | 1.852 | 0.388 | 2.240 | |
| KYCG_plotEnrichAll | 17.908 | 1.689 | 20.724 | |
| KYCG_plotLollipop | 0.150 | 0.016 | 0.166 | |
| KYCG_plotManhattan | 1.243 | 0.136 | 1.379 | |
| KYCG_plotMeta | 18.633 | 0.962 | 20.068 | |
| KYCG_plotMetaEnrichment | 9.393 | 0.432 | 10.296 | |
| KYCG_plotPointRange | 3.681 | 0.436 | 4.277 | |
| KYCG_plotSetEnrichment | 4.961 | 0.404 | 5.682 | |
| KYCG_plotVolcano | 0.125 | 0.004 | 0.129 | |
| KYCG_plotWaterfall | 2.381 | 0.196 | 2.734 | |
| MValueToBetaValue | 0 | 0 | 0 | |
| SigDF | 0.350 | 0.020 | 0.528 | |
| addMask | 0.081 | 0.004 | 0.086 | |
| aggregateTestEnrichments | 1.686 | 0.187 | 1.874 | |
| betasCollapseToPfx | 0.001 | 0.002 | 0.002 | |
| bisConversionControl | 4.668 | 0.695 | 5.722 | |
| calcEffectSize | 1.465 | 0.244 | 1.866 | |
| checkLevels | 2.809 | 0.300 | 3.310 | |
| cnSegmentation | 0.340 | 0.016 | 0.515 | |
| compareMouseStrainReference | 11.328 | 0.513 | 12.062 | |
| compareMouseTissueReference | 0 | 0 | 0 | |
| compareReference | 11.206 | 1.148 | 12.670 | |
| controls | 2.042 | 0.072 | 2.372 | |
| convertTo | 12.708 | 0.736 | 13.765 | |
| createUCSCtrack | 6.966 | 0.832 | 8.019 | |
| dataFrame2sesameQC | 1.274 | 0.056 | 1.388 | |
| dbStats | 7.036 | 1.024 | 8.380 | |
| deidentify | 5.714 | 0.381 | 6.413 | |
| detectionPnegEcdf | 2.723 | 0.090 | 3.003 | |
| diffRefSet | 11.740 | 0.760 | 12.816 | |
| dmContrasts | 2.080 | 0.220 | 2.454 | |
| dyeBiasCorr | 2.814 | 0.266 | 3.396 | |
| dyeBiasCorrMostBalanced | 6.505 | 0.268 | 7.087 | |
| dyeBiasL | 2.533 | 0.388 | 3.092 | |
| dyeBiasNL | 5.769 | 0.388 | 6.314 | |
| estimateLeukocyte | 6.818 | 0.752 | 7.900 | |
| formatVCF | 2.294 | 0.112 | 2.775 | |
| getAFTypeIbySumAlleles | 2.068 | 0.176 | 2.559 | |
| getAFs | 1.265 | 0.095 | 1.519 | |
| getBetas | 0.857 | 0.112 | 1.134 | |
| getMask | 4.989 | 0.412 | 5.916 | |
| getRefSet | 11.394 | 0.783 | 12.518 | |
| getSexInfo | 8.524 | 0.481 | 9.485 | |
| imputeTo | 1.781 | 0.075 | 2.014 | |
| inferEthnicity | 2.578 | 0.193 | 2.969 | |
| inferInfiniumIChannel | 0.266 | 0.151 | 0.417 | |
| inferSex | 4.095 | 0.169 | 4.590 | |
| inferSexKaryotypes | 2.908 | 0.107 | 3.073 | |
| inferSpecies | 17.301 | 1.928 | 19.711 | |
| inferStrain | 7.599 | 0.912 | 8.826 | |
| inferTissue | 11.107 | 1.308 | 12.894 | |
| initFileSet | 1.324 | 0.068 | 1.551 | |
| listAvailableMasks | 2.266 | 0.140 | 2.565 | |
| mapFileSet | 0.032 | 0.004 | 0.036 | |
| mapToMammal40 | 3.437 | 0.248 | 3.999 | |
| matchDesign | 14.627 | 0.831 | 15.650 | |
| meanIntensity | 2.921 | 0.279 | 3.513 | |
| medianTotalIntensity | 1.020 | 0.192 | 1.370 | |
| noMasked | 2.115 | 0.179 | 2.451 | |
| noob | 2.003 | 0.211 | 2.214 | |
| openSesame | 5.606 | 0.460 | 6.514 | |
| openSesameToFile | 1.550 | 0.148 | 1.699 | |
| pOOBAH | 1.289 | 0.076 | 1.365 | |
| palgen | 0.048 | 0.008 | 0.056 | |
| parseGEOsignalMU | 3.276 | 0.332 | 3.773 | |
| predictAge | 2.785 | 0.156 | 3.099 | |
| predictAgeHorvath353 | 0 | 0 | 0 | |
| predictAgeSkinBlood | 0.000 | 0.000 | 0.001 | |
| predictMouseAgeInMonth | 0 | 0 | 0 | |
| prefixMask | 0.396 | 0.000 | 0.396 | |
| prefixMaskButC | 0.104 | 0.000 | 0.104 | |
| prefixMaskButCG | 0.037 | 0.000 | 0.037 | |
| prepSesame | 3.890 | 0.444 | 4.492 | |
| prepSesameList | 0.002 | 0.000 | 0.002 | |
| print.DMLSummary | 3.541 | 0.500 | 4.356 | |
| print.fileSet | 1.403 | 0.071 | 1.631 | |
| probeID_designType | 0.000 | 0.000 | 0.001 | |
| probeSuccessRate | 6.695 | 0.584 | 7.749 | |
| qualityMask | 3.095 | 0.328 | 3.776 | |
| reIdentify | 4.606 | 0.527 | 5.290 | |
| readFileSet | 0.047 | 0.012 | 0.059 | |
| readIDATpair | 0.115 | 0.012 | 0.128 | |
| recommendedMaskNames | 0 | 0 | 0 | |
| resetMask | 0.469 | 0.060 | 0.686 | |
| scrub | 2.375 | 0.372 | 2.747 | |
| scrubSoft | 3.294 | 0.376 | 3.670 | |
| sdfPlatform | 0.397 | 0.060 | 0.627 | |
| sdf_read_table | 8.743 | 0.400 | 9.462 | |
| sdf_write_table | 2.619 | 0.088 | 2.981 | |
| searchIDATprefixes | 0.004 | 0.003 | 0.006 | |
| sesame-package | 1.820 | 0.213 | 2.191 | |
| sesameAnno_buildAddressFile | 0 | 0 | 0 | |
| sesameAnno_buildManifestGRanges | 0.001 | 0.000 | 0.000 | |
| sesameAnno_download | 0 | 0 | 0 | |
| sesameAnno_get | 0.001 | 0.000 | 0.000 | |
| sesameAnno_readManifestTSV | 0 | 0 | 0 | |
| sesameData_getAnno | 0 | 0 | 0 | |
| sesameQC_calcStats | 18.783 | 1.436 | 20.387 | |
| sesameQC_getStats | 1.633 | 0.083 | 1.716 | |
| sesameQC_plotBar | 11.929 | 1.247 | 13.664 | |
| sesameQC_plotBetaByDesign | 9.394 | 0.580 | 9.974 | |
| sesameQC_plotHeatSNPs | 16.790 | 1.088 | 18.076 | |
| sesameQC_plotIntensVsBetas | 1.961 | 0.273 | 2.391 | |
| sesameQC_plotRedGrnQQ | 1.890 | 0.132 | 2.178 | |
| sesameQC_rankStats | 5.236 | 0.567 | 6.125 | |
| sesame_checkVersion | 0.004 | 0.000 | 0.003 | |
| sesamize | 0 | 0 | 0 | |
| setMask | 0.090 | 0.008 | 0.099 | |
| signalMU | 0.776 | 0.104 | 1.044 | |
| sliceFileSet | 0.035 | 0.004 | 0.039 | |
| summaryExtractTest | 2.977 | 0.312 | 3.607 | |
| testEnrichment | 6.105 | 0.556 | 7.135 | |
| testEnrichmentGene | 102.347 | 6.204 | 111.739 | |
| testEnrichmentSEA | 11.297 | 1.424 | 13.135 | |
| totalIntensities | 3.208 | 0.456 | 4.001 | |
| updateSigDF | 3.238 | 0.345 | 3.899 | |
| visualizeGene | 9.469 | 0.780 | 10.784 | |
| visualizeProbes | 3.719 | 0.272 | 4.147 | |
| visualizeRegion | 0.321 | 0.012 | 0.333 | |
| visualizeSegments | 1.860 | 0.252 | 2.269 | |