| Back to Multiple platform build/check report for BioC 3.18: simplified long |
|
This page was generated on 2024-03-04 11:37:41 -0500 (Mon, 04 Mar 2024).
| Hostname | OS | Arch (*) | R version | Installed pkgs |
|---|---|---|---|---|
| nebbiolo2 | Linux (Ubuntu 22.04.3 LTS) | x86_64 | 4.3.2 Patched (2023-11-13 r85521) -- "Eye Holes" | 4692 |
| palomino4 | Windows Server 2022 Datacenter | x64 | 4.3.2 (2023-10-31 ucrt) -- "Eye Holes" | 4445 |
| lconway | macOS 12.7.1 Monterey | x86_64 | 4.3.2 Patched (2023-11-01 r85457) -- "Eye Holes" | 4466 |
| Click on any hostname to see more info about the system (e.g. compilers) (*) as reported by 'uname -p', except on Windows and Mac OS X | ||||
| Package 1553/2266 | Hostname | OS / Arch | INSTALL | BUILD | CHECK | BUILD BIN | ||||||||
| pipeComp 1.12.0 (landing page) Pierre-Luc Germain
| nebbiolo2 | Linux (Ubuntu 22.04.3 LTS) / x86_64 | OK | OK | OK | |||||||||
| palomino4 | Windows Server 2022 Datacenter / x64 | OK | OK | OK | OK | |||||||||
| lconway | macOS 12.7.1 Monterey / x86_64 | OK | OK | OK | OK | |||||||||
| kjohnson1 | macOS 13.6.1 Ventura / arm64 | see weekly results here | ||||||||||||
|
To the developers/maintainers of the pipeComp package: - Allow up to 24 hours (and sometimes 48 hours) for your latest push to git@git.bioconductor.org:packages/pipeComp.git to reflect on this report. See Troubleshooting Build Report for more information. - Use the following Renviron settings to reproduce errors and warnings. - If 'R CMD check' started to fail recently on the Linux builder(s) over a missing dependency, add the missing dependency to 'Suggests:' in your DESCRIPTION file. See Renviron.bioc for more information. |
| Package: pipeComp |
| Version: 1.12.0 |
| Command: /Library/Frameworks/R.framework/Resources/bin/R CMD check --install=check:pipeComp.install-out.txt --library=/Library/Frameworks/R.framework/Resources/library --no-vignettes --timings pipeComp_1.12.0.tar.gz |
| StartedAt: 2024-03-03 22:34:17 -0500 (Sun, 03 Mar 2024) |
| EndedAt: 2024-03-03 22:41:51 -0500 (Sun, 03 Mar 2024) |
| EllapsedTime: 453.9 seconds |
| RetCode: 0 |
| Status: OK |
| CheckDir: pipeComp.Rcheck |
| Warnings: 0 |
##############################################################################
##############################################################################
###
### Running command:
###
### /Library/Frameworks/R.framework/Resources/bin/R CMD check --install=check:pipeComp.install-out.txt --library=/Library/Frameworks/R.framework/Resources/library --no-vignettes --timings pipeComp_1.12.0.tar.gz
###
##############################################################################
##############################################################################
* using log directory ‘/Users/biocbuild/bbs-3.18-bioc/meat/pipeComp.Rcheck’
* using R version 4.3.2 Patched (2023-11-01 r85457)
* using platform: x86_64-apple-darwin20 (64-bit)
* R was compiled by
Apple clang version 14.0.3 (clang-1403.0.22.14.1)
GNU Fortran (GCC) 12.2.0
* running under: macOS Monterey 12.7.1
* using session charset: UTF-8
* using option ‘--no-vignettes’
* checking for file ‘pipeComp/DESCRIPTION’ ... OK
* checking extension type ... Package
* this is package ‘pipeComp’ version ‘1.12.0’
* package encoding: UTF-8
* checking package namespace information ... OK
* checking package dependencies ... OK
* checking if this is a source package ... OK
* checking if there is a namespace ... OK
* checking for hidden files and directories ... OK
* checking for portable file names ... OK
* checking for sufficient/correct file permissions ... OK
* checking whether package ‘pipeComp’ can be installed ... OK
* checking installed package size ... OK
* checking package directory ... OK
* checking ‘build’ directory ... OK
* checking DESCRIPTION meta-information ... OK
* checking top-level files ... NOTE
File
LICENSE
is not mentioned in the DESCRIPTION file.
* checking for left-over files ... OK
* checking index information ... OK
* checking package subdirectories ... OK
* checking R files for non-ASCII characters ... OK
* checking R files for syntax errors ... OK
* checking whether the package can be loaded ... OK
* checking whether the package can be loaded with stated dependencies ... OK
* checking whether the package can be unloaded cleanly ... OK
* checking whether the namespace can be loaded with stated dependencies ... OK
* checking whether the namespace can be unloaded cleanly ... OK
* checking dependencies in R code ... NOTE
There are ::: calls to the package's namespace in its code. A package
almost never needs to use ::: for its own objects:
‘.compileExcludedCells’ ‘.getMM’ ‘.homogenizeDEA’ ‘.runf’
* checking S3 generic/method consistency ... OK
* checking replacement functions ... OK
* checking foreign function calls ... OK
* checking R code for possible problems ... NOTE
scrna_describeDatasets: no visible binding for global variable
‘cluster’
scrna_describeDatasets: no visible binding for global variable ‘nb’
scrna_describeDatasets : pf: no visible binding for global variable
‘.x’
scrna_describeDatasets : rd: no visible binding for global variable ‘y’
scrna_describeDatasets : rd: no visible binding for global variable
‘cluster’
scrna_evalPlot_filtering: no visible binding for global variable
‘max.lost’
scrna_evalPlot_filtering: no visible binding for global variable
‘mean_F1’
scrna_evalPlot_filtering: no visible binding for global variable ‘filt’
scrna_evalPlot_filtering: no visible binding for global variable
‘doubletmethod’
scrna_evalPlot_filtering: no visible binding for global variable
‘method’
scrna_evalPlot_overall: no visible binding for global variable
‘true.nbClusts’
scrna_evalPlot_overall: no visible binding for global variable ‘n_clus’
Undefined global functions or variables:
.x cluster doubletmethod filt max.lost mean_F1 method n_clus nb
true.nbClusts y
* checking Rd files ... OK
* checking Rd metadata ... OK
* checking Rd cross-references ... OK
* checking for missing documentation entries ... OK
* checking for code/documentation mismatches ... OK
* checking Rd \usage sections ... OK
* checking Rd contents ... OK
* checking for unstated dependencies in examples ... OK
* checking contents of ‘data’ directory ... OK
* checking data for non-ASCII characters ... OK
* checking data for ASCII and uncompressed saves ... OK
* checking files in ‘vignettes’ ... OK
* checking examples ... OK
* checking for unstated dependencies in vignettes ... OK
* checking package vignettes in ‘inst/doc’ ... OK
* checking running R code from vignettes ... SKIPPED
* checking re-building of vignette outputs ... SKIPPED
* checking PDF version of manual ... OK
* DONE
Status: 3 NOTEs
See
‘/Users/biocbuild/bbs-3.18-bioc/meat/pipeComp.Rcheck/00check.log’
for details.
pipeComp.Rcheck/00install.out
############################################################################## ############################################################################## ### ### Running command: ### ### /Library/Frameworks/R.framework/Resources/bin/R CMD INSTALL pipeComp ### ############################################################################## ############################################################################## * installing to library ‘/Library/Frameworks/R.framework/Versions/4.3-x86_64/Resources/library’ * installing *source* package ‘pipeComp’ ... ** using staged installation ** R ** data ** inst ** byte-compile and prepare package for lazy loading ** help *** installing help indices ** building package indices ** installing vignettes ** testing if installed package can be loaded from temporary location ** testing if installed package can be loaded from final location ** testing if installed package keeps a record of temporary installation path * DONE (pipeComp)
pipeComp.Rcheck/pipeComp-Ex.timings
| name | user | system | elapsed | |
| PipelineDefinition-methods | 0.011 | 0.003 | 0.015 | |
| PipelineDefinition | 0.001 | 0.001 | 0.008 | |
| addPipelineStep | 0.004 | 0.001 | 0.006 | |
| aggregatePipelineResults | 1.103 | 0.051 | 1.173 | |
| buildCombMatrix | 0.003 | 0.000 | 0.004 | |
| checkPipelinePackages | 1.603 | 0.950 | 2.578 | |
| colCenterScale | 0.002 | 0.001 | 0.006 | |
| dea_evalPlot_curve | 0.759 | 0.050 | 0.819 | |
| dea_pipeline | 0.003 | 0.001 | 0.003 | |
| evalHeatmap | 2.729 | 0.053 | 2.813 | |
| evaluateClustering | 0.017 | 0.004 | 0.023 | |
| evaluateDEA | 0.063 | 0.001 | 0.065 | |
| evaluateDimRed | 2.065 | 0.065 | 2.159 | |
| evaluateNorm | 2.070 | 0.086 | 2.175 | |
| farthestPoint | 0.007 | 0.002 | 0.010 | |
| getQualitativePalette | 0.000 | 0.001 | 0.000 | |
| match_evaluate_multiple | 0.002 | 0.001 | 0.004 | |
| mergePipelineResults | 2.216 | 0.087 | 2.330 | |
| mockPipeline | 0.002 | 0.000 | 0.002 | |
| parsePipNames | 0.002 | 0.001 | 0.002 | |
| plotElapsed | 0.670 | 0.014 | 0.688 | |
| readPipelineResults | 1.047 | 0.043 | 1.097 | |
| runPipeline | 1.039 | 0.043 | 1.092 | |
| scrna_evalPlot_filtering | 0.385 | 0.006 | 0.394 | |
| scrna_evalPlot_overall | 4.381 | 0.057 | 4.479 | |
| scrna_evalPlot_silh | 0.811 | 0.009 | 0.825 | |
| scrna_pipeline | 0.002 | 0.001 | 0.002 | |