Back to Multiple platform build/check report for BioC 3.18: simplified long |
|
This page was generated on 2024-04-17 11:36:14 -0400 (Wed, 17 Apr 2024).
Hostname | OS | Arch (*) | R version | Installed pkgs |
---|---|---|---|---|
nebbiolo2 | Linux (Ubuntu 22.04.3 LTS) | x86_64 | 4.3.3 (2024-02-29) -- "Angel Food Cake" | 4676 |
palomino4 | Windows Server 2022 Datacenter | x64 | 4.3.3 (2024-02-29 ucrt) -- "Angel Food Cake" | 4414 |
merida1 | macOS 12.7.1 Monterey | x86_64 | 4.3.3 (2024-02-29) -- "Angel Food Cake" | 4437 |
Click on any hostname to see more info about the system (e.g. compilers) (*) as reported by 'uname -p', except on Windows and Mac OS X |
Package 1553/2266 | Hostname | OS / Arch | INSTALL | BUILD | CHECK | BUILD BIN | ||||||||
pipeComp 1.12.0 (landing page) Pierre-Luc Germain
| nebbiolo2 | Linux (Ubuntu 22.04.3 LTS) / x86_64 | OK | OK | OK | ![]() | ||||||||
palomino4 | Windows Server 2022 Datacenter / x64 | OK | OK | OK | OK | ![]() | ||||||||
merida1 | macOS 12.7.1 Monterey / x86_64 | OK | OK | OK | OK | ![]() | ||||||||
kjohnson1 | macOS 13.6.1 Ventura / arm64 | see weekly results here | ||||||||||||
To the developers/maintainers of the pipeComp package: - Allow up to 24 hours (and sometimes 48 hours) for your latest push to git@git.bioconductor.org:packages/pipeComp.git to reflect on this report. See Troubleshooting Build Report for more information. - Use the following Renviron settings to reproduce errors and warnings. - If 'R CMD check' started to fail recently on the Linux builder(s) over a missing dependency, add the missing dependency to 'Suggests:' in your DESCRIPTION file. See Renviron.bioc for more information. |
Package: pipeComp |
Version: 1.12.0 |
Command: /home/biocbuild/bbs-3.18-bioc/R/bin/R CMD check --install=check:pipeComp.install-out.txt --library=/home/biocbuild/bbs-3.18-bioc/R/site-library --timings pipeComp_1.12.0.tar.gz |
StartedAt: 2024-04-16 02:19:54 -0400 (Tue, 16 Apr 2024) |
EndedAt: 2024-04-16 02:28:31 -0400 (Tue, 16 Apr 2024) |
EllapsedTime: 516.2 seconds |
RetCode: 0 |
Status: OK |
CheckDir: pipeComp.Rcheck |
Warnings: 0 |
############################################################################## ############################################################################## ### ### Running command: ### ### /home/biocbuild/bbs-3.18-bioc/R/bin/R CMD check --install=check:pipeComp.install-out.txt --library=/home/biocbuild/bbs-3.18-bioc/R/site-library --timings pipeComp_1.12.0.tar.gz ### ############################################################################## ############################################################################## * using log directory ‘/home/biocbuild/bbs-3.18-bioc/meat/pipeComp.Rcheck’ * using R version 4.3.3 (2024-02-29) * using platform: x86_64-pc-linux-gnu (64-bit) * R was compiled by gcc (Ubuntu 11.4.0-1ubuntu1~22.04) 11.4.0 GNU Fortran (Ubuntu 11.4.0-1ubuntu1~22.04) 11.4.0 * running under: Ubuntu 22.04.4 LTS * using session charset: UTF-8 * checking for file ‘pipeComp/DESCRIPTION’ ... OK * checking extension type ... Package * this is package ‘pipeComp’ version ‘1.12.0’ * package encoding: UTF-8 * checking package namespace information ... OK * checking package dependencies ... OK * checking if this is a source package ... OK * checking if there is a namespace ... OK * checking for hidden files and directories ... OK * checking for portable file names ... OK * checking for sufficient/correct file permissions ... OK * checking whether package ‘pipeComp’ can be installed ... OK * checking installed package size ... OK * checking package directory ... OK * checking ‘build’ directory ... OK * checking DESCRIPTION meta-information ... OK * checking top-level files ... NOTE File LICENSE is not mentioned in the DESCRIPTION file. * checking for left-over files ... OK * checking index information ... OK * checking package subdirectories ... OK * checking R files for non-ASCII characters ... OK * checking R files for syntax errors ... OK * checking whether the package can be loaded ... OK * checking whether the package can be loaded with stated dependencies ... OK * checking whether the package can be unloaded cleanly ... OK * checking whether the namespace can be loaded with stated dependencies ... OK * checking whether the namespace can be unloaded cleanly ... OK * checking loading without being on the library search path ... OK * checking dependencies in R code ... NOTE There are ::: calls to the package's namespace in its code. A package almost never needs to use ::: for its own objects: ‘.compileExcludedCells’ ‘.getMM’ ‘.homogenizeDEA’ ‘.runf’ * checking S3 generic/method consistency ... OK * checking replacement functions ... OK * checking foreign function calls ... OK * checking R code for possible problems ... NOTE scrna_describeDatasets: no visible binding for global variable ‘cluster’ scrna_describeDatasets: no visible binding for global variable ‘nb’ scrna_describeDatasets : pf: no visible binding for global variable ‘.x’ scrna_describeDatasets : rd: no visible binding for global variable ‘y’ scrna_describeDatasets : rd: no visible binding for global variable ‘cluster’ scrna_evalPlot_filtering: no visible binding for global variable ‘max.lost’ scrna_evalPlot_filtering: no visible binding for global variable ‘mean_F1’ scrna_evalPlot_filtering: no visible binding for global variable ‘filt’ scrna_evalPlot_filtering: no visible binding for global variable ‘doubletmethod’ scrna_evalPlot_filtering: no visible binding for global variable ‘method’ scrna_evalPlot_overall: no visible binding for global variable ‘true.nbClusts’ scrna_evalPlot_overall: no visible binding for global variable ‘n_clus’ Undefined global functions or variables: .x cluster doubletmethod filt max.lost mean_F1 method n_clus nb true.nbClusts y * checking Rd files ... OK * checking Rd metadata ... OK * checking Rd cross-references ... OK * checking for missing documentation entries ... OK * checking for code/documentation mismatches ... OK * checking Rd \usage sections ... OK * checking Rd contents ... OK * checking for unstated dependencies in examples ... OK * checking contents of ‘data’ directory ... OK * checking data for non-ASCII characters ... OK * checking data for ASCII and uncompressed saves ... OK * checking files in ‘vignettes’ ... OK * checking examples ... OK * checking for unstated dependencies in vignettes ... OK * checking package vignettes in ‘inst/doc’ ... OK * checking running R code from vignettes ... ‘pipeComp.Rmd’ using ‘UTF-8’... OK ‘pipeComp_dea.Rmd’ using ‘UTF-8’... OK ‘pipeComp_scRNA.Rmd’ using ‘UTF-8’... OK OK * checking re-building of vignette outputs ... OK * checking PDF version of manual ... OK * DONE Status: 3 NOTEs See ‘/home/biocbuild/bbs-3.18-bioc/meat/pipeComp.Rcheck/00check.log’ for details.
pipeComp.Rcheck/00install.out
############################################################################## ############################################################################## ### ### Running command: ### ### /home/biocbuild/bbs-3.18-bioc/R/bin/R CMD INSTALL pipeComp ### ############################################################################## ############################################################################## * installing to library ‘/home/biocbuild/bbs-3.18-bioc/R/site-library’ * installing *source* package ‘pipeComp’ ... ** using staged installation ** R ** data ** inst ** byte-compile and prepare package for lazy loading ** help *** installing help indices ** building package indices ** installing vignettes ** testing if installed package can be loaded from temporary location ** testing if installed package can be loaded from final location ** testing if installed package keeps a record of temporary installation path * DONE (pipeComp)
pipeComp.Rcheck/pipeComp-Ex.timings
name | user | system | elapsed | |
PipelineDefinition-methods | 0.005 | 0.004 | 0.008 | |
PipelineDefinition | 0.001 | 0.000 | 0.001 | |
addPipelineStep | 0.002 | 0.000 | 0.003 | |
aggregatePipelineResults | 0.997 | 0.067 | 1.066 | |
buildCombMatrix | 0.002 | 0.000 | 0.003 | |
checkPipelinePackages | 0.059 | 0.004 | 0.063 | |
colCenterScale | 0.001 | 0.000 | 0.001 | |
dea_evalPlot_curve | 0.531 | 0.004 | 0.535 | |
dea_pipeline | 0.002 | 0.000 | 0.002 | |
evalHeatmap | 2.139 | 0.132 | 2.270 | |
evaluateClustering | 0.009 | 0.000 | 0.009 | |
evaluateDEA | 0.043 | 0.004 | 0.046 | |
evaluateDimRed | 1.607 | 0.116 | 1.723 | |
evaluateNorm | 1.764 | 0.120 | 1.884 | |
farthestPoint | 0.006 | 0.000 | 0.006 | |
getQualitativePalette | 0 | 0 | 0 | |
match_evaluate_multiple | 0.002 | 0.000 | 0.003 | |
mergePipelineResults | 2.178 | 0.244 | 2.423 | |
mockPipeline | 0.001 | 0.000 | 0.001 | |
parsePipNames | 0.002 | 0.000 | 0.001 | |
plotElapsed | 0.575 | 0.008 | 0.583 | |
readPipelineResults | 0.958 | 0.136 | 1.094 | |
runPipeline | 0.962 | 0.040 | 1.002 | |
scrna_evalPlot_filtering | 0.318 | 0.000 | 0.317 | |
scrna_evalPlot_overall | 3.623 | 0.112 | 3.734 | |
scrna_evalPlot_silh | 0.737 | 0.016 | 0.753 | |
scrna_pipeline | 0.001 | 0.000 | 0.002 | |