Back to Multiple platform build/check report for BioC 3.18: simplified long |
|
This page was generated on 2023-11-02 11:40:57 -0400 (Thu, 02 Nov 2023).
Hostname | OS | Arch (*) | R version | Installed pkgs |
---|---|---|---|---|
nebbiolo2 | Linux (Ubuntu 22.04.2 LTS) | x86_64 | 4.3.1 (2023-06-16) -- "Beagle Scouts" | 4729 |
palomino4 | Windows Server 2022 Datacenter | x64 | 4.3.1 (2023-06-16 ucrt) -- "Beagle Scouts" | 4463 |
lconway | macOS 12.6.5 Monterey | x86_64 | 4.3.1 Patched (2023-06-17 r84564) -- "Beagle Scouts" | 4478 |
kunpeng2 | Linux (openEuler 22.03 LTS-SP1) | aarch64 | 4.3.1 (2023-06-16) -- "Beagle Scouts" | 4464 |
Click on any hostname to see more info about the system (e.g. compilers) (*) as reported by 'uname -p', except on Windows and Mac OS X |
Package 1299/2266 | Hostname | OS / Arch | INSTALL | BUILD | CHECK | BUILD BIN | ||||||||
mogsa 1.36.0 (landing page) Chen Meng
| nebbiolo2 | Linux (Ubuntu 22.04.2 LTS) / x86_64 | OK | OK | OK | |||||||||
palomino4 | Windows Server 2022 Datacenter / x64 | OK | OK | OK | OK | |||||||||
lconway | macOS 12.6.5 Monterey / x86_64 | OK | OK | OK | OK | |||||||||
kjohnson1 | macOS 13.6.1 Ventura / arm64 | see weekly results here | ||||||||||||
kunpeng2 | Linux (openEuler 22.03 LTS-SP1) / aarch64 | OK | OK | OK | ||||||||||
To the developers/maintainers of the mogsa package: - Allow up to 24 hours (and sometimes 48 hours) for your latest push to git@git.bioconductor.org:packages/mogsa.git to reflect on this report. See Troubleshooting Build Report for more information. - Use the following Renviron settings to reproduce errors and warnings. - If 'R CMD check' started to fail recently on the Linux builder(s) over a missing dependency, add the missing dependency to 'Suggests:' in your DESCRIPTION file. See Renviron.bioc for more information. - See Martin Grigorov's blog post for how to debug Linux ARM64 related issues on a x86_64 host. |
Package: mogsa |
Version: 1.36.0 |
Command: /home/biocbuild/R/R-4.3.1/bin/R CMD check --install=check:mogsa.install-out.txt --library=/home/biocbuild/R/R-4.3.1/site-library --no-vignettes --timings mogsa_1.36.0.tar.gz |
StartedAt: 2023-11-02 12:20:30 -0000 (Thu, 02 Nov 2023) |
EndedAt: 2023-11-02 12:23:57 -0000 (Thu, 02 Nov 2023) |
EllapsedTime: 206.8 seconds |
RetCode: 0 |
Status: OK |
CheckDir: mogsa.Rcheck |
Warnings: 0 |
############################################################################## ############################################################################## ### ### Running command: ### ### /home/biocbuild/R/R-4.3.1/bin/R CMD check --install=check:mogsa.install-out.txt --library=/home/biocbuild/R/R-4.3.1/site-library --no-vignettes --timings mogsa_1.36.0.tar.gz ### ############################################################################## ############################################################################## * using log directory ‘/home/biocbuild/bbs-3.18-bioc/meat/mogsa.Rcheck’ * using R version 4.3.1 (2023-06-16) * using platform: aarch64-unknown-linux-gnu (64-bit) * R was compiled by gcc (GCC) 10.3.1 GNU Fortran (GCC) 10.3.1 * running under: openEuler 22.03 (LTS-SP1) * using session charset: UTF-8 * using option ‘--no-vignettes’ * checking for file ‘mogsa/DESCRIPTION’ ... OK * checking extension type ... Package * this is package ‘mogsa’ version ‘1.36.0’ * checking package namespace information ... OK * checking package dependencies ... OK * checking if this is a source package ... OK * checking if there is a namespace ... OK * checking for hidden files and directories ... OK * checking for portable file names ... OK * checking for sufficient/correct file permissions ... OK * checking whether package ‘mogsa’ can be installed ... OK * checking installed package size ... OK * checking package directory ... OK * checking ‘build’ directory ... OK * checking DESCRIPTION meta-information ... OK * checking top-level files ... OK * checking for left-over files ... OK * checking index information ... OK * checking package subdirectories ... OK * checking R files for non-ASCII characters ... OK * checking R files for syntax errors ... OK * checking whether the package can be loaded ... OK * checking whether the package can be loaded with stated dependencies ... OK * checking whether the package can be unloaded cleanly ... OK * checking whether the namespace can be loaded with stated dependencies ... OK * checking whether the namespace can be unloaded cleanly ... OK * checking loading without being on the library search path ... OK * checking dependencies in R code ... OK * checking S3 generic/method consistency ... OK * checking replacement functions ... OK * checking foreign function calls ... OK * checking R code for possible problems ... OK * checking Rd files ... NOTE checkRd: (-1) NCI60_4array_supdata.Rd:15: Escaped LaTeX specials: \$ checkRd: (-1) NCI60_4array_supdata.Rd:19: Escaped LaTeX specials: \$ checkRd: (-1) NCI60_4array_supdata.Rd:23: Escaped LaTeX specials: \$ checkRd: (-1) NCI60_4array_supdata.Rd:27: Escaped LaTeX specials: \$ checkRd: (-1) NCI60_4arrays.Rd:21: Escaped LaTeX specials: \$ checkRd: (-1) NCI60_4arrays.Rd:25: Escaped LaTeX specials: \$ checkRd: (-1) NCI60_4arrays.Rd:29: Escaped LaTeX specials: \$ checkRd: (-1) NCI60_4arrays.Rd:33: Escaped LaTeX specials: \$ * checking Rd metadata ... OK * checking Rd cross-references ... OK * checking for missing documentation entries ... OK * checking for code/documentation mismatches ... OK * checking Rd \usage sections ... OK * checking Rd contents ... OK * checking for unstated dependencies in examples ... OK * checking contents of ‘data’ directory ... OK * checking data for non-ASCII characters ... OK * checking data for ASCII and uncompressed saves ... OK * checking files in ‘vignettes’ ... OK * checking examples ... OK Examples with CPU (user + system) or elapsed time > 5s user system elapsed prepSupMoa 5.458 0.095 5.63 * checking for unstated dependencies in vignettes ... OK * checking package vignettes in ‘inst/doc’ ... OK * checking running R code from vignettes ... SKIPPED * checking re-building of vignette outputs ... SKIPPED * checking PDF version of manual ... OK * DONE Status: 1 NOTE See ‘/home/biocbuild/bbs-3.18-bioc/meat/mogsa.Rcheck/00check.log’ for details.
mogsa.Rcheck/00install.out
############################################################################## ############################################################################## ### ### Running command: ### ### /home/biocbuild/R/R-4.3.1/bin/R CMD INSTALL mogsa ### ############################################################################## ############################################################################## * installing to library ‘/home/biocbuild/R/R-4.3.1/site-library’ * installing *source* package ‘mogsa’ ... ** using staged installation ** R ** data ** inst ** byte-compile and prepare package for lazy loading ** help *** installing help indices ** building package indices ** installing vignettes ** testing if installed package can be loaded from temporary location ** testing if installed package can be loaded from final location ** testing if installed package keeps a record of temporary installation path * DONE (mogsa)
mogsa.Rcheck/mogsa-Ex.timings
name | user | system | elapsed | |
GIS | 0.844 | 0.007 | 0.864 | |
annotate.gs | 0.176 | 0.012 | 0.188 | |
bootMbpca | 0 | 0 | 0 | |
bootMoa | 0 | 0 | 0 | |
box.gs.feature | 0.294 | 0.003 | 0.299 | |
combine-methods | 0.340 | 0.004 | 0.344 | |
decompose.gs.group | 0.209 | 0.008 | 0.218 | |
decompose.gs.ind | 0.199 | 0.000 | 0.200 | |
distMoa | 0.318 | 0.004 | 0.322 | |
getmgsa | 0.188 | 0.000 | 0.189 | |
matpower | 0.000 | 0.000 | 0.001 | |
mbpca | 3.646 | 0.040 | 3.695 | |
mgsa-class | 0.329 | 0.012 | 0.342 | |
moGap | 2.757 | 0.108 | 2.870 | |
moa-class | 0.131 | 0.004 | 0.138 | |
moa | 1.026 | 0.008 | 1.035 | |
moa.sup-class | 0.177 | 0.000 | 0.177 | |
moaCoef | 0.354 | 0.000 | 0.354 | |
moaScore | 0.350 | 0.016 | 0.372 | |
mogsa-package | 0.434 | 1.939 | 4.202 | |
mogsa | 0.587 | 0.000 | 0.595 | |
pairwise.rv | 0.015 | 0.001 | 0.017 | |
plotGS | 0.198 | 0.004 | 0.208 | |
prepGraphite | 0.898 | 0.004 | 0.916 | |
prepMsigDB | 0.003 | 0.000 | 0.006 | |
prepSupMoa | 5.458 | 0.095 | 5.630 | |
softK | 0.000 | 0.000 | 0.001 | |
sup.moa | 0.466 | 0.002 | 0.469 | |
wsvd | 0.001 | 0.000 | 0.001 | |