Back to Multiple platform build/check report for BioC 3.18: simplified long |
|
This page was generated on 2024-04-17 11:36:08 -0400 (Wed, 17 Apr 2024).
Hostname | OS | Arch (*) | R version | Installed pkgs |
---|---|---|---|---|
nebbiolo2 | Linux (Ubuntu 22.04.3 LTS) | x86_64 | 4.3.3 (2024-02-29) -- "Angel Food Cake" | 4676 |
palomino4 | Windows Server 2022 Datacenter | x64 | 4.3.3 (2024-02-29 ucrt) -- "Angel Food Cake" | 4414 |
merida1 | macOS 12.7.1 Monterey | x86_64 | 4.3.3 (2024-02-29) -- "Angel Food Cake" | 4437 |
Click on any hostname to see more info about the system (e.g. compilers) (*) as reported by 'uname -p', except on Windows and Mac OS X |
Package 1299/2266 | Hostname | OS / Arch | INSTALL | BUILD | CHECK | BUILD BIN | ||||||||
mogsa 1.36.0 (landing page) Chen Meng
| nebbiolo2 | Linux (Ubuntu 22.04.3 LTS) / x86_64 | OK | OK | OK | ![]() | ||||||||
palomino4 | Windows Server 2022 Datacenter / x64 | OK | OK | OK | OK | ![]() | ||||||||
merida1 | macOS 12.7.1 Monterey / x86_64 | OK | OK | OK | OK | ![]() | ||||||||
kjohnson1 | macOS 13.6.1 Ventura / arm64 | see weekly results here | ||||||||||||
To the developers/maintainers of the mogsa package: - Allow up to 24 hours (and sometimes 48 hours) for your latest push to git@git.bioconductor.org:packages/mogsa.git to reflect on this report. See Troubleshooting Build Report for more information. - Use the following Renviron settings to reproduce errors and warnings. - If 'R CMD check' started to fail recently on the Linux builder(s) over a missing dependency, add the missing dependency to 'Suggests:' in your DESCRIPTION file. See Renviron.bioc for more information. |
Package: mogsa |
Version: 1.36.0 |
Command: /home/biocbuild/bbs-3.18-bioc/R/bin/R CMD check --install=check:mogsa.install-out.txt --library=/home/biocbuild/bbs-3.18-bioc/R/site-library --timings mogsa_1.36.0.tar.gz |
StartedAt: 2024-04-16 01:05:29 -0400 (Tue, 16 Apr 2024) |
EndedAt: 2024-04-16 01:11:26 -0400 (Tue, 16 Apr 2024) |
EllapsedTime: 356.6 seconds |
RetCode: 0 |
Status: OK |
CheckDir: mogsa.Rcheck |
Warnings: 0 |
############################################################################## ############################################################################## ### ### Running command: ### ### /home/biocbuild/bbs-3.18-bioc/R/bin/R CMD check --install=check:mogsa.install-out.txt --library=/home/biocbuild/bbs-3.18-bioc/R/site-library --timings mogsa_1.36.0.tar.gz ### ############################################################################## ############################################################################## * using log directory ‘/home/biocbuild/bbs-3.18-bioc/meat/mogsa.Rcheck’ * using R version 4.3.3 (2024-02-29) * using platform: x86_64-pc-linux-gnu (64-bit) * R was compiled by gcc (Ubuntu 11.4.0-1ubuntu1~22.04) 11.4.0 GNU Fortran (Ubuntu 11.4.0-1ubuntu1~22.04) 11.4.0 * running under: Ubuntu 22.04.4 LTS * using session charset: UTF-8 * checking for file ‘mogsa/DESCRIPTION’ ... OK * checking extension type ... Package * this is package ‘mogsa’ version ‘1.36.0’ * checking package namespace information ... OK * checking package dependencies ... OK * checking if this is a source package ... OK * checking if there is a namespace ... OK * checking for hidden files and directories ... OK * checking for portable file names ... OK * checking for sufficient/correct file permissions ... OK * checking whether package ‘mogsa’ can be installed ... OK * checking installed package size ... OK * checking package directory ... OK * checking ‘build’ directory ... OK * checking DESCRIPTION meta-information ... OK * checking top-level files ... OK * checking for left-over files ... OK * checking index information ... OK * checking package subdirectories ... OK * checking R files for non-ASCII characters ... OK * checking R files for syntax errors ... OK * checking whether the package can be loaded ... OK * checking whether the package can be loaded with stated dependencies ... OK * checking whether the package can be unloaded cleanly ... OK * checking whether the namespace can be loaded with stated dependencies ... OK * checking whether the namespace can be unloaded cleanly ... OK * checking loading without being on the library search path ... OK * checking dependencies in R code ... OK * checking S3 generic/method consistency ... OK * checking replacement functions ... OK * checking foreign function calls ... OK * checking R code for possible problems ... OK * checking Rd files ... NOTE checkRd: (-1) NCI60_4array_supdata.Rd:15: Escaped LaTeX specials: \$ checkRd: (-1) NCI60_4array_supdata.Rd:19: Escaped LaTeX specials: \$ checkRd: (-1) NCI60_4array_supdata.Rd:23: Escaped LaTeX specials: \$ checkRd: (-1) NCI60_4array_supdata.Rd:27: Escaped LaTeX specials: \$ checkRd: (-1) NCI60_4arrays.Rd:21: Escaped LaTeX specials: \$ checkRd: (-1) NCI60_4arrays.Rd:25: Escaped LaTeX specials: \$ checkRd: (-1) NCI60_4arrays.Rd:29: Escaped LaTeX specials: \$ checkRd: (-1) NCI60_4arrays.Rd:33: Escaped LaTeX specials: \$ * checking Rd metadata ... OK * checking Rd cross-references ... OK * checking for missing documentation entries ... OK * checking for code/documentation mismatches ... OK * checking Rd \usage sections ... OK * checking Rd contents ... OK * checking for unstated dependencies in examples ... OK * checking contents of ‘data’ directory ... OK * checking data for non-ASCII characters ... OK * checking data for ASCII and uncompressed saves ... OK * checking files in ‘vignettes’ ... OK * checking examples ... OK * checking for unstated dependencies in vignettes ... OK * checking package vignettes in ‘inst/doc’ ... OK * checking running R code from vignettes ... ‘moCluster-knitr.Rnw’... OK ‘mogsa-knitr.Rnw’... OK OK * checking re-building of vignette outputs ... OK * checking PDF version of manual ... OK * DONE Status: 1 NOTE See ‘/home/biocbuild/bbs-3.18-bioc/meat/mogsa.Rcheck/00check.log’ for details.
mogsa.Rcheck/00install.out
############################################################################## ############################################################################## ### ### Running command: ### ### /home/biocbuild/bbs-3.18-bioc/R/bin/R CMD INSTALL mogsa ### ############################################################################## ############################################################################## * installing to library ‘/home/biocbuild/bbs-3.18-bioc/R/site-library’ * installing *source* package ‘mogsa’ ... ** using staged installation ** R ** data ** inst ** byte-compile and prepare package for lazy loading ** help *** installing help indices ** building package indices ** installing vignettes ** testing if installed package can be loaded from temporary location ** testing if installed package can be loaded from final location ** testing if installed package keeps a record of temporary installation path * DONE (mogsa)
mogsa.Rcheck/mogsa-Ex.timings
name | user | system | elapsed | |
GIS | 0.861 | 0.012 | 0.891 | |
annotate.gs | 0.104 | 0.012 | 0.116 | |
bootMbpca | 0 | 0 | 0 | |
bootMoa | 0 | 0 | 0 | |
box.gs.feature | 0.166 | 0.000 | 0.165 | |
combine-methods | 0.210 | 0.004 | 0.214 | |
decompose.gs.group | 0.156 | 0.020 | 0.176 | |
decompose.gs.ind | 0.196 | 0.004 | 0.271 | |
distMoa | 0.361 | 0.005 | 0.433 | |
getmgsa | 0.160 | 0.003 | 0.162 | |
matpower | 0.001 | 0.000 | 0.001 | |
mbpca | 3.661 | 0.155 | 3.964 | |
mgsa-class | 0.878 | 0.100 | 1.028 | |
moGap | 2.352 | 0.056 | 2.490 | |
moa-class | 0.080 | 0.016 | 0.096 | |
moa | 0.640 | 0.008 | 0.648 | |
moa.sup-class | 0.101 | 0.000 | 0.101 | |
moaCoef | 0.234 | 0.000 | 0.234 | |
moaScore | 0.235 | 0.000 | 0.235 | |
mogsa-package | 0.208 | 0.004 | 0.212 | |
mogsa | 0.275 | 0.004 | 0.279 | |
pairwise.rv | 0.018 | 0.000 | 0.019 | |
plotGS | 0.119 | 0.000 | 0.120 | |
prepGraphite | 0.269 | 0.004 | 0.273 | |
prepMsigDB | 0.003 | 0.000 | 0.002 | |
prepSupMoa | 4.196 | 0.076 | 4.272 | |
softK | 0 | 0 | 0 | |
sup.moa | 0.851 | 0.036 | 0.887 | |
wsvd | 0.001 | 0.000 | 0.001 | |