Back to Multiple platform build/check report for BioC 3.18:   simplified   long
ABCDEFGHIJKL[M]NOPQRSTUVWXYZ

This page was generated on 2023-10-24 11:41:09 -0400 (Tue, 24 Oct 2023).

HostnameOSArch (*)R versionInstalled pkgs
nebbiolo2Linux (Ubuntu 22.04.2 LTS)x86_644.3.1 (2023-06-16) -- "Beagle Scouts" 4724
palomino4Windows Server 2022 Datacenterx644.3.1 (2023-06-16 ucrt) -- "Beagle Scouts" 4459
lconwaymacOS 12.6.5 Montereyx86_644.3.1 Patched (2023-06-17 r84564) -- "Beagle Scouts" 4473
kunpeng2Linux (openEuler 22.03 LTS-SP1)aarch644.3.1 (2023-06-16) -- "Beagle Scouts" 4461
Click on any hostname to see more info about the system (e.g. compilers)      (*) as reported by 'uname -p', except on Windows and Mac OS X

Package 1256/2264HostnameOS / ArchINSTALLBUILDCHECKBUILD BIN
miloR 1.9.1  (landing page)
Mike Morgan
Snapshot Date: 2023-10-23 14:05:08 -0400 (Mon, 23 Oct 2023)
git_url: https://git.bioconductor.org/packages/miloR
git_branch: devel
git_last_commit: c1e90e0
git_last_commit_date: 2023-04-25 12:47:20 -0400 (Tue, 25 Apr 2023)
nebbiolo2Linux (Ubuntu 22.04.2 LTS) / x86_64  OK    OK    OK  UNNEEDED, same version is already published
palomino4Windows Server 2022 Datacenter / x64  OK    OK    OK    OK  UNNEEDED, same version is already published
lconwaymacOS 12.6.5 Monterey / x86_64  OK    OK    OK    OK  UNNEEDED, same version is already published
kjohnson1macOS 13.3.1 Ventura / arm64see weekly results here
kunpeng2Linux (openEuler 22.03 LTS-SP1) / aarch64  OK    OK    OK  

CHECK results for miloR on kunpeng2


To the developers/maintainers of the miloR package:
- Allow up to 24 hours (and sometimes 48 hours) for your latest push to git@git.bioconductor.org:packages/miloR.git to reflect on this report. See Troubleshooting Build Report for more information.
- Use the following Renviron settings to reproduce errors and warnings.
- If 'R CMD check' started to fail recently on the Linux builder(s) over a missing dependency, add the missing dependency to 'Suggests:' in your DESCRIPTION file. See Renviron.bioc for more information.
- See Martin Grigorov's blog post for how to debug Linux ARM64 related issues on a x86_64 host.

raw results


Summary

Package: miloR
Version: 1.9.1
Command: /home/biocbuild/R/R-4.3.1/bin/R CMD check --install=check:miloR.install-out.txt --library=/home/biocbuild/R/R-4.3.1/site-library --timings miloR_1.9.1.tar.gz
StartedAt: 2023-10-24 09:15:31 -0000 (Tue, 24 Oct 2023)
EndedAt: 2023-10-24 09:38:04 -0000 (Tue, 24 Oct 2023)
EllapsedTime: 1353.1 seconds
RetCode: 0
Status:   OK  
CheckDir: miloR.Rcheck
Warnings: 0

Command output

##############################################################################
##############################################################################
###
### Running command:
###
###   /home/biocbuild/R/R-4.3.1/bin/R CMD check --install=check:miloR.install-out.txt --library=/home/biocbuild/R/R-4.3.1/site-library --timings miloR_1.9.1.tar.gz
###
##############################################################################
##############################################################################


* using log directory ‘/home/biocbuild/bbs-3.18-bioc/meat/miloR.Rcheck’
* using R version 4.3.1 (2023-06-16)
* using platform: aarch64-unknown-linux-gnu (64-bit)
* R was compiled by
    gcc (GCC) 10.3.1
    GNU Fortran (GCC) 10.3.1
* running under: openEuler 22.03 (LTS-SP1)
* using session charset: UTF-8
* checking for file ‘miloR/DESCRIPTION’ ... OK
* checking extension type ... Package
* this is package ‘miloR’ version ‘1.9.1’
* package encoding: UTF-8
* checking package namespace information ... OK
* checking package dependencies ... OK
* checking if this is a source package ... OK
* checking if there is a namespace ... OK
* checking for hidden files and directories ... OK
* checking for portable file names ... OK
* checking for sufficient/correct file permissions ... OK
* checking whether package ‘miloR’ can be installed ... OK
* checking installed package size ... OK
* checking package directory ... OK
* checking ‘build’ directory ... OK
* checking DESCRIPTION meta-information ... OK
* checking top-level files ... OK
* checking for left-over files ... OK
* checking index information ... OK
* checking package subdirectories ... OK
* checking R files for non-ASCII characters ... OK
* checking R files for syntax errors ... OK
* checking whether the package can be loaded ... OK
* checking whether the package can be loaded with stated dependencies ... OK
* checking whether the package can be unloaded cleanly ... OK
* checking whether the namespace can be loaded with stated dependencies ... OK
* checking whether the namespace can be unloaded cleanly ... OK
* checking loading without being on the library search path ... OK
* checking dependencies in R code ... NOTE
Unexported object imported by a ':::' call: ‘S4Vectors:::disableValidity’
  See the note in ?`:::` about the use of this operator.
* checking S3 generic/method consistency ... OK
* checking replacement functions ... OK
* checking foreign function calls ... OK
* checking R code for possible problems ... NOTE
.fromMatrix: no visible binding for global variable ‘sce’
plotDAbeeswarm: no visible binding for global variable ‘SpatialFDR’
plotDAbeeswarm: no visible binding for global variable ‘logFC’
plotDAbeeswarm: no visible binding for global variable ‘is_signif’
plotDAbeeswarm: no visible binding for global variable ‘Nhood’
plotDAbeeswarm: no visible binding for global variable ‘logFC_color’
plotNhoodCounts: no visible binding for global variable ‘values’
plotNhoodCounts: no visible binding for global variable ‘..y..’
plotNhoodExpressionDA: no visible binding for global variable ‘Nhood’
plotNhoodExpressionDA: no visible binding for global variable ‘logFC’
plotNhoodExpressionDA: no visible binding for global variable
  ‘SpatialFDR’
plotNhoodExpressionDA: no visible binding for global variable
  ‘logFC_rank’
plotNhoodExpressionDA: no visible binding for global variable ‘.’
plotNhoodExpressionDA: no visible binding for global variable
  ‘is_signif’
plotNhoodExpressionDA: no visible binding for global variable ‘feature’
plotNhoodExpressionDA: no visible binding for global variable
  ‘avg_expr’
plotNhoodExpressionDA: no visible binding for global variable ‘label’
plotNhoodExpressionGroups: no visible binding for global variable
  ‘Nhood’
plotNhoodExpressionGroups: no visible binding for global variable
  ‘NhoodGroup’
plotNhoodExpressionGroups: no visible binding for global variable
  ‘logFC’
plotNhoodExpressionGroups: no visible binding for global variable
  ‘feature’
plotNhoodExpressionGroups: no visible binding for global variable
  ‘logFC_rank’
plotNhoodExpressionGroups: no visible binding for global variable
  ‘avg_expr’
plotNhoodExpressionGroups: no visible binding for global variable ‘.’
plotNhoodExpressionGroups: no visible binding for global variable
  ‘label’
plotNhoodGraph: no visible binding for global variable ‘weight’
plotNhoodGraph: no visible binding for global variable ‘size’
plotNhoodGraphDA: no visible binding for global variable ‘layout’
plotNhoodGroups: no visible binding for global variable ‘layout’
plotNhoodMA: no visible binding for global variable ‘logCPM’
plotNhoodMA: no visible binding for global variable ‘logFC’
plotNhoodMA: no visible binding for global variable ‘Sig’
plotNhoodSizeHist: no visible binding for global variable ‘nh_size’
Undefined global functions or variables:
  . ..y.. Nhood NhoodGroup Sig SpatialFDR avg_expr feature is_signif
  label layout logCPM logFC logFC_color logFC_rank nh_size sce size
  values weight
Consider adding
  importFrom("graphics", "layout")
to your NAMESPACE file.
* checking Rd files ... OK
* checking Rd metadata ... OK
* checking Rd cross-references ... OK
* checking for missing documentation entries ... OK
* checking for code/documentation mismatches ... OK
* checking Rd \usage sections ... OK
* checking Rd contents ... OK
* checking for unstated dependencies in examples ... OK
* checking contents of ‘data’ directory ... OK
* checking data for non-ASCII characters ... OK
* checking data for ASCII and uncompressed saves ... OK
* checking files in ‘vignettes’ ... OK
* checking examples ... OK
Examples with CPU (user + system) or elapsed time > 5s
                  user system elapsed
testDiffExp      6.699  0.064   6.774
findNhoodMarkers 5.452  0.020   5.482
testNhoods       4.985  0.036   5.031
* checking for unstated dependencies in ‘tests’ ... OK
* checking tests ...
  Running ‘testthat.R’
 OK
* checking for unstated dependencies in vignettes ... OK
* checking package vignettes in ‘inst/doc’ ... OK
* checking running R code from vignettes ...
  ‘milo_contrasts.Rmd’ using ‘UTF-8’... OK
  ‘milo_demo.Rmd’ using ‘UTF-8’... OK
  ‘milo_gastrulation.Rmd’ using ‘UTF-8’... OK
 NONE
* checking re-building of vignette outputs ... OK
* checking PDF version of manual ... OK
* DONE

Status: 2 NOTEs
See
  ‘/home/biocbuild/bbs-3.18-bioc/meat/miloR.Rcheck/00check.log’
for details.



Installation output

miloR.Rcheck/00install.out

##############################################################################
##############################################################################
###
### Running command:
###
###   /home/biocbuild/R/R-4.3.1/bin/R CMD INSTALL miloR
###
##############################################################################
##############################################################################


* installing to library ‘/home/biocbuild/R/R-4.3.1/site-library’
* installing *source* package ‘miloR’ ...
** using staged installation
** R
** data
** byte-compile and prepare package for lazy loading
Creating a new generic function for ‘graph’ in package ‘miloR’
** help
*** installing help indices
** building package indices
** installing vignettes
** testing if installed package can be loaded from temporary location
** testing if installed package can be loaded from final location
** testing if installed package keeps a record of temporary installation path
* DONE (miloR)

Tests output

miloR.Rcheck/tests/testthat.Rout


R version 4.3.1 (2023-06-16) -- "Beagle Scouts"
Copyright (C) 2023 The R Foundation for Statistical Computing
Platform: aarch64-unknown-linux-gnu (64-bit)

R is free software and comes with ABSOLUTELY NO WARRANTY.
You are welcome to redistribute it under certain conditions.
Type 'license()' or 'licence()' for distribution details.

R is a collaborative project with many contributors.
Type 'contributors()' for more information and
'citation()' on how to cite R or R packages in publications.

Type 'demo()' for some demos, 'help()' for on-line help, or
'help.start()' for an HTML browser interface to help.
Type 'q()' to quit R.

> library(testthat)
> library(miloR)
Loading required package: edgeR
Loading required package: limma
> require(mvtnorm)
Loading required package: mvtnorm
> require(scran)
Loading required package: scran
Loading required package: SingleCellExperiment
Loading required package: SummarizedExperiment
Loading required package: MatrixGenerics
Loading required package: matrixStats

Attaching package: 'MatrixGenerics'

The following objects are masked from 'package:matrixStats':

    colAlls, colAnyNAs, colAnys, colAvgsPerRowSet, colCollapse,
    colCounts, colCummaxs, colCummins, colCumprods, colCumsums,
    colDiffs, colIQRDiffs, colIQRs, colLogSumExps, colMadDiffs,
    colMads, colMaxs, colMeans2, colMedians, colMins, colOrderStats,
    colProds, colQuantiles, colRanges, colRanks, colSdDiffs, colSds,
    colSums2, colTabulates, colVarDiffs, colVars, colWeightedMads,
    colWeightedMeans, colWeightedMedians, colWeightedSds,
    colWeightedVars, rowAlls, rowAnyNAs, rowAnys, rowAvgsPerColSet,
    rowCollapse, rowCounts, rowCummaxs, rowCummins, rowCumprods,
    rowCumsums, rowDiffs, rowIQRDiffs, rowIQRs, rowLogSumExps,
    rowMadDiffs, rowMads, rowMaxs, rowMeans2, rowMedians, rowMins,
    rowOrderStats, rowProds, rowQuantiles, rowRanges, rowRanks,
    rowSdDiffs, rowSds, rowSums2, rowTabulates, rowVarDiffs, rowVars,
    rowWeightedMads, rowWeightedMeans, rowWeightedMedians,
    rowWeightedSds, rowWeightedVars

Loading required package: GenomicRanges
Loading required package: stats4
Loading required package: BiocGenerics

Attaching package: 'BiocGenerics'

The following object is masked from 'package:limma':

    plotMA

The following objects are masked from 'package:stats':

    IQR, mad, sd, var, xtabs

The following objects are masked from 'package:base':

    Filter, Find, Map, Position, Reduce, anyDuplicated, aperm, append,
    as.data.frame, basename, cbind, colnames, dirname, do.call,
    duplicated, eval, evalq, get, grep, grepl, intersect, is.unsorted,
    lapply, mapply, match, mget, order, paste, pmax, pmax.int, pmin,
    pmin.int, rank, rbind, rownames, sapply, setdiff, sort, table,
    tapply, union, unique, unsplit, which.max, which.min

Loading required package: S4Vectors

Attaching package: 'S4Vectors'

The following object is masked from 'package:utils':

    findMatches

The following objects are masked from 'package:base':

    I, expand.grid, unname

Loading required package: IRanges
Loading required package: GenomeInfoDb
Loading required package: Biobase
Welcome to Bioconductor

    Vignettes contain introductory material; view with
    'browseVignettes()'. To cite Bioconductor, see
    'citation("Biobase")', and for packages 'citation("pkgname")'.


Attaching package: 'Biobase'

The following object is masked from 'package:MatrixGenerics':

    rowMedians

The following objects are masked from 'package:matrixStats':

    anyMissing, rowMedians


Attaching package: 'SingleCellExperiment'

The following object is masked from 'package:edgeR':

    cpm

Loading required package: scuttle
> require(scater)
Loading required package: scater
Loading required package: ggplot2

Attaching package: 'scater'

The following object is masked from 'package:limma':

    plotMDS

> require(MASS)
Loading required package: MASS
> 
> test_check("miloR")
A patchwork composed of 2 patches
- Autotagging is turned off
- Guides are collected

Layout:
2 patch areas, spanning 2 columns and 1 rows

    t l b r
1:  1 1 1 1
2:  1 2 1 2
A patchwork composed of 2 patches
- Autotagging is turned off
- Guides are collected

Layout:
2 patch areas, spanning 2 columns and 1 rows

    t l b r
1:  1 1 1 1
2:  1 2 1 2
Coefficients not estimable: ConditionA 
[ FAIL 0 | WARN 0 | SKIP 0 | PASS 189 ]
> 
> proc.time()
   user  system elapsed 
521.509   2.534 525.046 

Example timings

miloR.Rcheck/miloR-Ex.timings

nameusersystemelapsed
Milo1.5970.0481.648
annotateNhoods000
buildFromAdjacency0.5670.0280.596
buildGraph0.7880.0320.822
buildNhoodGraph0.0000.0000.001
calcNhoodDistance2.0280.0602.091
calcNhoodExpression1.4350.0241.462
countCells1.4570.0081.468
findNhoodMarkers5.4520.0205.482
graphSpatialFDR000
makeNhoods1.7700.0671.841
methods0.6340.0000.635
plotDAbeeswarm0.0000.0000.001
plotNhoodCounts4.5710.0244.604
plotNhoodExpressionDA000
plotNhoodGraph000
plotNhoodGraphDA000
plotNhoodMA0.0010.0000.000
plotNhoodSizeHist1.1190.0281.149
sim_discrete0.0000.0000.001
sim_trajectory0.0010.0000.000
testDiffExp6.6990.0646.774
testNhoods4.9850.0365.031