| Back to Multiple platform build/check report for BioC 3.18: simplified long |
|
This page was generated on 2024-03-04 11:37:20 -0500 (Mon, 04 Mar 2024).
| Hostname | OS | Arch (*) | R version | Installed pkgs |
|---|---|---|---|---|
| nebbiolo2 | Linux (Ubuntu 22.04.3 LTS) | x86_64 | 4.3.2 Patched (2023-11-13 r85521) -- "Eye Holes" | 4692 |
| palomino4 | Windows Server 2022 Datacenter | x64 | 4.3.2 (2023-10-31 ucrt) -- "Eye Holes" | 4445 |
| lconway | macOS 12.7.1 Monterey | x86_64 | 4.3.2 Patched (2023-11-01 r85457) -- "Eye Holes" | 4466 |
| Click on any hostname to see more info about the system (e.g. compilers) (*) as reported by 'uname -p', except on Windows and Mac OS X | ||||
| Package 721/2266 | Hostname | OS / Arch | INSTALL | BUILD | CHECK | BUILD BIN | ||||||||
| flowCHIC 1.36.0 (landing page) Author: Joachim Schumann
| nebbiolo2 | Linux (Ubuntu 22.04.3 LTS) / x86_64 | OK | OK | OK | |||||||||
| palomino4 | Windows Server 2022 Datacenter / x64 | OK | OK | OK | OK | |||||||||
| lconway | macOS 12.7.1 Monterey / x86_64 | OK | OK | OK | OK | |||||||||
| kjohnson1 | macOS 13.6.1 Ventura / arm64 | see weekly results here | ||||||||||||
|
To the developers/maintainers of the flowCHIC package: - Allow up to 24 hours (and sometimes 48 hours) for your latest push to git@git.bioconductor.org:packages/flowCHIC.git to reflect on this report. See Troubleshooting Build Report for more information. - Use the following Renviron settings to reproduce errors and warnings. - If 'R CMD check' started to fail recently on the Linux builder(s) over a missing dependency, add the missing dependency to 'Suggests:' in your DESCRIPTION file. See Renviron.bioc for more information. |
| Package: flowCHIC |
| Version: 1.36.0 |
| Command: /Library/Frameworks/R.framework/Resources/bin/R CMD check --install=check:flowCHIC.install-out.txt --library=/Library/Frameworks/R.framework/Resources/library --no-vignettes --timings flowCHIC_1.36.0.tar.gz |
| StartedAt: 2024-03-03 20:38:34 -0500 (Sun, 03 Mar 2024) |
| EndedAt: 2024-03-03 20:40:49 -0500 (Sun, 03 Mar 2024) |
| EllapsedTime: 135.4 seconds |
| RetCode: 0 |
| Status: OK |
| CheckDir: flowCHIC.Rcheck |
| Warnings: 0 |
##############################################################################
##############################################################################
###
### Running command:
###
### /Library/Frameworks/R.framework/Resources/bin/R CMD check --install=check:flowCHIC.install-out.txt --library=/Library/Frameworks/R.framework/Resources/library --no-vignettes --timings flowCHIC_1.36.0.tar.gz
###
##############################################################################
##############################################################################
* using log directory ‘/Users/biocbuild/bbs-3.18-bioc/meat/flowCHIC.Rcheck’
* using R version 4.3.2 Patched (2023-11-01 r85457)
* using platform: x86_64-apple-darwin20 (64-bit)
* R was compiled by
Apple clang version 14.0.3 (clang-1403.0.22.14.1)
GNU Fortran (GCC) 12.2.0
* running under: macOS Monterey 12.7.1
* using session charset: UTF-8
* using option ‘--no-vignettes’
* checking for file ‘flowCHIC/DESCRIPTION’ ... OK
* checking extension type ... Package
* this is package ‘flowCHIC’ version ‘1.36.0’
* package encoding: UTF-8
* checking package namespace information ... OK
* checking package dependencies ... OK
* checking if this is a source package ... OK
* checking if there is a namespace ... OK
* checking for hidden files and directories ... OK
* checking for portable file names ... OK
* checking for sufficient/correct file permissions ... OK
* checking whether package ‘flowCHIC’ can be installed ... OK
* checking installed package size ... NOTE
installed size is 5.9Mb
sub-directories of 1Mb or more:
extdata 5.7Mb
* checking package directory ... OK
* checking ‘build’ directory ... OK
* checking DESCRIPTION meta-information ... NOTE
Malformed Description field: should contain one or more complete sentences.
* checking top-level files ... OK
* checking for left-over files ... OK
* checking index information ... OK
* checking package subdirectories ... OK
* checking R files for non-ASCII characters ... OK
* checking R files for syntax errors ... OK
* checking whether the package can be loaded ... OK
* checking whether the package can be loaded with stated dependencies ... OK
* checking whether the package can be unloaded cleanly ... OK
* checking whether the namespace can be loaded with stated dependencies ... OK
* checking whether the namespace can be unloaded cleanly ... OK
* checking dependencies in R code ... OK
* checking S3 generic/method consistency ... OK
* checking replacement functions ... OK
* checking foreign function calls ... OK
* checking R code for possible problems ... NOTE
fcs_to_img,character: warning in hexbin(x, y, xbin = 128): partial
argument match of 'xbin' to 'xbins'
img_sub,character: warning in hexbin(x, y, xbin = xbin): partial
argument match of 'xbin' to 'xbins'
fcs_to_img,character: no visible global function definition for ‘png’
fcs_to_img,character: no visible binding for global variable ‘count’
fcs_to_img,character: no visible global function definition for
‘dev.off’
img_sub,character: no visible global function definition for ‘png’
img_sub,character: no visible binding for global variable ‘count’
img_sub,character: no visible global function definition for ‘dev.off’
plot_nmds,data.frame-data.frame: no visible global function definition
for ‘as.dist’
plot_nmds,data.frame-data.frame: no visible global function definition
for ‘par’
plot_nmds,data.frame-data.frame: no visible global function definition
for ‘hclust’
plot_nmds,data.frame-data.frame: no visible global function definition
for ‘points’
plot_nmds,data.frame-data.frame: no visible global function definition
for ‘text’
plot_nmds,data.frame-data.frame: no visible global function definition
for ‘legend’
Undefined global functions or variables:
as.dist count dev.off hclust legend par png points text
Consider adding
importFrom("grDevices", "dev.off", "png")
importFrom("graphics", "legend", "par", "points", "text")
importFrom("stats", "as.dist", "hclust")
to your NAMESPACE file.
* checking Rd files ... OK
* checking Rd metadata ... OK
* checking Rd cross-references ... OK
* checking for missing documentation entries ... OK
* checking for code/documentation mismatches ... OK
* checking Rd \usage sections ... OK
* checking Rd contents ... OK
* checking for unstated dependencies in examples ... OK
* checking contents of ‘data’ directory ... OK
* checking data for non-ASCII characters ... OK
* checking data for ASCII and uncompressed saves ... OK
* checking sizes of PDF files under ‘inst/doc’ ... OK
* checking files in ‘vignettes’ ... OK
* checking examples ... OK
Examples with CPU (user + system) or elapsed time > 5s
user system elapsed
calculate_overlaps_xor 10.330 0.640 11.127
plot_nmds 5.751 0.361 6.198
* checking for unstated dependencies in vignettes ... OK
* checking package vignettes in ‘inst/doc’ ... OK
* checking running R code from vignettes ... SKIPPED
* checking re-building of vignette outputs ... SKIPPED
* checking PDF version of manual ... OK
* DONE
Status: 3 NOTEs
See
‘/Users/biocbuild/bbs-3.18-bioc/meat/flowCHIC.Rcheck/00check.log’
for details.
flowCHIC.Rcheck/00install.out
############################################################################## ############################################################################## ### ### Running command: ### ### /Library/Frameworks/R.framework/Resources/bin/R CMD INSTALL flowCHIC ### ############################################################################## ############################################################################## * installing to library ‘/Library/Frameworks/R.framework/Versions/4.3-x86_64/Resources/library’ * installing *source* package ‘flowCHIC’ ... ** using staged installation ** R ** data ** inst ** byte-compile and prepare package for lazy loading ** help *** installing help indices ** building package indices ** installing vignettes ** testing if installed package can be loaded from temporary location ** testing if installed package can be loaded from final location ** testing if installed package keeps a record of temporary installation path * DONE (flowCHIC)
flowCHIC.Rcheck/flowCHIC-Ex.timings
| name | user | system | elapsed | |
| calculate_overlaps_xor | 10.330 | 0.640 | 11.127 | |
| fcs_to_img | 1.615 | 0.102 | 1.736 | |
| img_sub | 2.752 | 0.136 | 2.924 | |
| plot_nmds | 5.751 | 0.361 | 6.198 | |