| Back to Multiple platform build/check report for BioC 3.18: simplified long |
|
This page was generated on 2024-04-17 11:35:57 -0400 (Wed, 17 Apr 2024).
| Hostname | OS | Arch (*) | R version | Installed pkgs |
|---|---|---|---|---|
| nebbiolo2 | Linux (Ubuntu 22.04.3 LTS) | x86_64 | 4.3.3 (2024-02-29) -- "Angel Food Cake" | 4676 |
| palomino4 | Windows Server 2022 Datacenter | x64 | 4.3.3 (2024-02-29 ucrt) -- "Angel Food Cake" | 4414 |
| merida1 | macOS 12.7.1 Monterey | x86_64 | 4.3.3 (2024-02-29) -- "Angel Food Cake" | 4437 |
| Click on any hostname to see more info about the system (e.g. compilers) (*) as reported by 'uname -p', except on Windows and Mac OS X | ||||
| Package 721/2266 | Hostname | OS / Arch | INSTALL | BUILD | CHECK | BUILD BIN | ||||||||
| flowCHIC 1.36.0 (landing page) Author: Joachim Schumann
| nebbiolo2 | Linux (Ubuntu 22.04.3 LTS) / x86_64 | OK | OK | OK | |||||||||
| palomino4 | Windows Server 2022 Datacenter / x64 | OK | OK | OK | OK | |||||||||
| merida1 | macOS 12.7.1 Monterey / x86_64 | OK | OK | OK | OK | |||||||||
| kjohnson1 | macOS 13.6.1 Ventura / arm64 | see weekly results here | ||||||||||||
|
To the developers/maintainers of the flowCHIC package: - Allow up to 24 hours (and sometimes 48 hours) for your latest push to git@git.bioconductor.org:packages/flowCHIC.git to reflect on this report. See Troubleshooting Build Report for more information. - Use the following Renviron settings to reproduce errors and warnings. - If 'R CMD check' started to fail recently on the Linux builder(s) over a missing dependency, add the missing dependency to 'Suggests:' in your DESCRIPTION file. See Renviron.bioc for more information. |
| Package: flowCHIC |
| Version: 1.36.0 |
| Command: /home/biocbuild/bbs-3.18-bioc/R/bin/R CMD check --install=check:flowCHIC.install-out.txt --library=/home/biocbuild/bbs-3.18-bioc/R/site-library --timings flowCHIC_1.36.0.tar.gz |
| StartedAt: 2024-04-15 22:49:45 -0400 (Mon, 15 Apr 2024) |
| EndedAt: 2024-04-15 22:51:37 -0400 (Mon, 15 Apr 2024) |
| EllapsedTime: 112.1 seconds |
| RetCode: 0 |
| Status: OK |
| CheckDir: flowCHIC.Rcheck |
| Warnings: 0 |
##############################################################################
##############################################################################
###
### Running command:
###
### /home/biocbuild/bbs-3.18-bioc/R/bin/R CMD check --install=check:flowCHIC.install-out.txt --library=/home/biocbuild/bbs-3.18-bioc/R/site-library --timings flowCHIC_1.36.0.tar.gz
###
##############################################################################
##############################################################################
* using log directory ‘/home/biocbuild/bbs-3.18-bioc/meat/flowCHIC.Rcheck’
* using R version 4.3.3 (2024-02-29)
* using platform: x86_64-pc-linux-gnu (64-bit)
* R was compiled by
gcc (Ubuntu 11.4.0-1ubuntu1~22.04) 11.4.0
GNU Fortran (Ubuntu 11.4.0-1ubuntu1~22.04) 11.4.0
* running under: Ubuntu 22.04.4 LTS
* using session charset: UTF-8
* checking for file ‘flowCHIC/DESCRIPTION’ ... OK
* checking extension type ... Package
* this is package ‘flowCHIC’ version ‘1.36.0’
* package encoding: UTF-8
* checking package namespace information ... OK
* checking package dependencies ... OK
* checking if this is a source package ... OK
* checking if there is a namespace ... OK
* checking for hidden files and directories ... OK
* checking for portable file names ... OK
* checking for sufficient/correct file permissions ... OK
* checking whether package ‘flowCHIC’ can be installed ... OK
* checking installed package size ... NOTE
installed size is 5.9Mb
sub-directories of 1Mb or more:
extdata 5.7Mb
* checking package directory ... OK
* checking ‘build’ directory ... OK
* checking DESCRIPTION meta-information ... NOTE
Malformed Description field: should contain one or more complete sentences.
* checking top-level files ... OK
* checking for left-over files ... OK
* checking index information ... OK
* checking package subdirectories ... OK
* checking R files for non-ASCII characters ... OK
* checking R files for syntax errors ... OK
* checking whether the package can be loaded ... OK
* checking whether the package can be loaded with stated dependencies ... OK
* checking whether the package can be unloaded cleanly ... OK
* checking whether the namespace can be loaded with stated dependencies ... OK
* checking whether the namespace can be unloaded cleanly ... OK
* checking loading without being on the library search path ... OK
* checking dependencies in R code ... OK
* checking S3 generic/method consistency ... OK
* checking replacement functions ... OK
* checking foreign function calls ... OK
* checking R code for possible problems ... NOTE
fcs_to_img,character: warning in hexbin(x, y, xbin = 128): partial
argument match of 'xbin' to 'xbins'
img_sub,character: warning in hexbin(x, y, xbin = xbin): partial
argument match of 'xbin' to 'xbins'
fcs_to_img,character: no visible global function definition for ‘png’
fcs_to_img,character: no visible binding for global variable ‘count’
fcs_to_img,character: no visible global function definition for
‘dev.off’
img_sub,character: no visible global function definition for ‘png’
img_sub,character: no visible binding for global variable ‘count’
img_sub,character: no visible global function definition for ‘dev.off’
plot_nmds,data.frame-data.frame: no visible global function definition
for ‘as.dist’
plot_nmds,data.frame-data.frame: no visible global function definition
for ‘par’
plot_nmds,data.frame-data.frame: no visible global function definition
for ‘hclust’
plot_nmds,data.frame-data.frame: no visible global function definition
for ‘points’
plot_nmds,data.frame-data.frame: no visible global function definition
for ‘text’
plot_nmds,data.frame-data.frame: no visible global function definition
for ‘legend’
Undefined global functions or variables:
as.dist count dev.off hclust legend par png points text
Consider adding
importFrom("grDevices", "dev.off", "png")
importFrom("graphics", "legend", "par", "points", "text")
importFrom("stats", "as.dist", "hclust")
to your NAMESPACE file.
* checking Rd files ... OK
* checking Rd metadata ... OK
* checking Rd cross-references ... OK
* checking for missing documentation entries ... OK
* checking for code/documentation mismatches ... OK
* checking Rd \usage sections ... OK
* checking Rd contents ... OK
* checking for unstated dependencies in examples ... OK
* checking contents of ‘data’ directory ... OK
* checking data for non-ASCII characters ... OK
* checking data for ASCII and uncompressed saves ... OK
* checking files in ‘vignettes’ ... OK
* checking examples ... OK
Examples with CPU (user + system) or elapsed time > 5s
user system elapsed
calculate_overlaps_xor 8.458 0.143 8.588
* checking for unstated dependencies in vignettes ... OK
* checking package vignettes in ‘inst/doc’ ... OK
* checking running R code from vignettes ...
‘flowCHICmanual.Rnw’ using ‘UTF-8’... OK
OK
* checking re-building of vignette outputs ... OK
* checking PDF version of manual ... OK
* DONE
Status: 3 NOTEs
See
‘/home/biocbuild/bbs-3.18-bioc/meat/flowCHIC.Rcheck/00check.log’
for details.
flowCHIC.Rcheck/00install.out
############################################################################## ############################################################################## ### ### Running command: ### ### /home/biocbuild/bbs-3.18-bioc/R/bin/R CMD INSTALL flowCHIC ### ############################################################################## ############################################################################## * installing to library ‘/home/biocbuild/bbs-3.18-bioc/R/site-library’ * installing *source* package ‘flowCHIC’ ... ** using staged installation ** R ** data ** inst ** byte-compile and prepare package for lazy loading ** help *** installing help indices ** building package indices ** installing vignettes ** testing if installed package can be loaded from temporary location ** testing if installed package can be loaded from final location ** testing if installed package keeps a record of temporary installation path * DONE (flowCHIC)
flowCHIC.Rcheck/flowCHIC-Ex.timings
| name | user | system | elapsed | |
| calculate_overlaps_xor | 8.458 | 0.143 | 8.588 | |
| fcs_to_img | 1.013 | 0.001 | 1.012 | |
| img_sub | 2.355 | 0.060 | 2.415 | |
| plot_nmds | 4.870 | 0.028 | 4.898 | |