| Back to Multiple platform build/check report for BioC 3.18: simplified long |
|
This page was generated on 2023-11-02 11:40:23 -0400 (Thu, 02 Nov 2023).
| Hostname | OS | Arch (*) | R version | Installed pkgs |
|---|---|---|---|---|
| nebbiolo2 | Linux (Ubuntu 22.04.2 LTS) | x86_64 | 4.3.1 (2023-06-16) -- "Beagle Scouts" | 4729 |
| palomino4 | Windows Server 2022 Datacenter | x64 | 4.3.1 (2023-06-16 ucrt) -- "Beagle Scouts" | 4463 |
| lconway | macOS 12.6.5 Monterey | x86_64 | 4.3.1 Patched (2023-06-17 r84564) -- "Beagle Scouts" | 4478 |
| kunpeng2 | Linux (openEuler 22.03 LTS-SP1) | aarch64 | 4.3.1 (2023-06-16) -- "Beagle Scouts" | 4464 |
| Click on any hostname to see more info about the system (e.g. compilers) (*) as reported by 'uname -p', except on Windows and Mac OS X | ||||
| Package 2/2266 | Hostname | OS / Arch | INSTALL | BUILD | CHECK | BUILD BIN | ||||||||
| a4Base 1.50.0 (landing page) Laure Cougnaud
| nebbiolo2 | Linux (Ubuntu 22.04.2 LTS) / x86_64 | OK | OK | OK | |||||||||
| palomino4 | Windows Server 2022 Datacenter / x64 | OK | OK | OK | OK | |||||||||
| lconway | macOS 12.6.5 Monterey / x86_64 | OK | OK | OK | OK | |||||||||
| kjohnson1 | macOS 13.6.1 Ventura / arm64 | see weekly results here | ||||||||||||
| kunpeng2 | Linux (openEuler 22.03 LTS-SP1) / aarch64 | OK | OK | OK | ||||||||||
|
To the developers/maintainers of the a4Base package: - Allow up to 24 hours (and sometimes 48 hours) for your latest push to git@git.bioconductor.org:packages/a4Base.git to reflect on this report. See Troubleshooting Build Report for more information. - Use the following Renviron settings to reproduce errors and warnings. - If 'R CMD check' started to fail recently on the Linux builder(s) over a missing dependency, add the missing dependency to 'Suggests:' in your DESCRIPTION file. See Renviron.bioc for more information. - See Martin Grigorov's blog post for how to debug Linux ARM64 related issues on a x86_64 host. |
| Package: a4Base |
| Version: 1.50.0 |
| Command: /home/biocbuild/R/R-4.3.1/bin/R CMD check --install=check:a4Base.install-out.txt --library=/home/biocbuild/R/R-4.3.1/site-library --no-vignettes --timings a4Base_1.50.0.tar.gz |
| StartedAt: 2023-11-02 08:11:24 -0000 (Thu, 02 Nov 2023) |
| EndedAt: 2023-11-02 08:16:18 -0000 (Thu, 02 Nov 2023) |
| EllapsedTime: 294.3 seconds |
| RetCode: 0 |
| Status: OK |
| CheckDir: a4Base.Rcheck |
| Warnings: 0 |
##############################################################################
##############################################################################
###
### Running command:
###
### /home/biocbuild/R/R-4.3.1/bin/R CMD check --install=check:a4Base.install-out.txt --library=/home/biocbuild/R/R-4.3.1/site-library --no-vignettes --timings a4Base_1.50.0.tar.gz
###
##############################################################################
##############################################################################
* using log directory ‘/home/biocbuild/bbs-3.18-bioc/meat/a4Base.Rcheck’
* using R version 4.3.1 (2023-06-16)
* using platform: aarch64-unknown-linux-gnu (64-bit)
* R was compiled by
gcc (GCC) 10.3.1
GNU Fortran (GCC) 10.3.1
* running under: openEuler 22.03 (LTS-SP1)
* using session charset: UTF-8
* using option ‘--no-vignettes’
* checking for file ‘a4Base/DESCRIPTION’ ... OK
* checking extension type ... Package
* this is package ‘a4Base’ version ‘1.50.0’
* checking package namespace information ... OK
* checking package dependencies ... NOTE
Package which this enhances but not available for checking: ‘JavaGD’
* checking if this is a source package ... OK
* checking if there is a namespace ... OK
* checking for hidden files and directories ... OK
* checking for portable file names ... OK
* checking for sufficient/correct file permissions ... OK
* checking whether package ‘a4Base’ can be installed ... OK
* checking installed package size ... OK
* checking package directory ... OK
* checking DESCRIPTION meta-information ... OK
* checking top-level files ... OK
* checking for left-over files ... OK
* checking index information ... OK
* checking package subdirectories ... OK
* checking R files for non-ASCII characters ... OK
* checking R files for syntax errors ... OK
* checking whether the package can be loaded ... OK
* checking whether the package can be loaded with stated dependencies ... OK
* checking whether the package can be unloaded cleanly ... OK
* checking whether the namespace can be loaded with stated dependencies ... OK
* checking whether the namespace can be unloaded cleanly ... OK
* checking loading without being on the library search path ... OK
* checking startup messages can be suppressed ... OK
* checking dependencies in R code ... OK
* checking S3 generic/method consistency ... OK
* checking replacement functions ... OK
* checking foreign function calls ... OK
* checking R code for possible problems ... OK
* checking Rd files ... NOTE
checkRd: (-1) filterVarInt.Rd:52: Escaped LaTeX specials: \&
checkRd: (-1) histPvalue.Rd:50: Escaped LaTeX specials: \&
checkRd: (-1) lassoReg.Rd:38: Escaped LaTeX specials: \&
checkRd: (-1) spectralMap.Rd:49: Escaped LaTeX specials: \&
checkRd: (-1) volcanoPlot.Rd:45: Escaped LaTeX specials: \&
* checking Rd metadata ... OK
* checking Rd cross-references ... OK
* checking for missing documentation entries ... OK
* checking for code/documentation mismatches ... OK
* checking Rd \usage sections ... OK
* checking Rd contents ... OK
* checking for unstated dependencies in examples ... OK
* checking contents of ‘data’ directory ... OK
* checking data for non-ASCII characters ... OK
* checking data for ASCII and uncompressed saves ... OK
* checking examples ... OK
Examples with CPU (user + system) or elapsed time > 5s
user system elapsed
spectralMap 21.149 2.939 25.686
computeLogRatio 7.125 0.787 8.815
plotLogRatio 6.464 0.295 6.785
boxPlot 2.787 1.159 5.519
plotCombMultSamples 2.488 1.079 5.142
plotComb2Samples 2.472 0.911 5.294
* checking PDF version of manual ... OK
* DONE
Status: 2 NOTEs
See
‘/home/biocbuild/bbs-3.18-bioc/meat/a4Base.Rcheck/00check.log’
for details.
a4Base.Rcheck/00install.out
############################################################################## ############################################################################## ### ### Running command: ### ### /home/biocbuild/R/R-4.3.1/bin/R CMD INSTALL a4Base ### ############################################################################## ############################################################################## * installing to library ‘/home/biocbuild/R/R-4.3.1/site-library’ * installing *source* package ‘a4Base’ ... ** using staged installation ** R ** data ** inst ** byte-compile and prepare package for lazy loading ** help *** installing help indices ** building package indices ** testing if installed package can be loaded from temporary location ** testing if installed package can be loaded from final location ** testing if installed package keeps a record of temporary installation path * DONE (a4Base)
a4Base.Rcheck/a4Base-Ex.timings
| name | user | system | elapsed | |
| a4palette | 0.036 | 0.000 | 0.036 | |
| addQuantilesColors | 1.910 | 0.168 | 2.086 | |
| boxPlot | 2.787 | 1.159 | 5.519 | |
| combineTwoExpressionSet | 0.000 | 0.000 | 0.001 | |
| computeLogRatio | 7.125 | 0.787 | 8.815 | |
| createExpressionSet | 0.046 | 0.000 | 0.046 | |
| filterVarInt | 2.458 | 0.056 | 2.528 | |
| heatmap.expressionSet | 0.002 | 0.000 | 0.002 | |
| histPvalue | 1.846 | 0.055 | 2.071 | |
| histpvalueplotter | 1.802 | 0.032 | 1.836 | |
| lassoReg | 1.771 | 0.044 | 1.825 | |
| logReg | 0.000 | 0.000 | 0.001 | |
| nlcvTT | 0 | 0 | 0 | |
| plot1gene | 1.696 | 0.028 | 1.726 | |
| plotComb2Samples | 2.472 | 0.911 | 5.294 | |
| plotCombMultSamples | 2.488 | 1.079 | 5.142 | |
| plotCombination2genes | 2.282 | 0.048 | 2.338 | |
| plotLogRatio | 6.464 | 0.295 | 6.785 | |
| probabilitiesPlot | 0 | 0 | 0 | |
| probe2gene | 1.402 | 0.051 | 1.557 | |
| profilesPlot | 1.654 | 0.024 | 1.767 | |
| propdegenescalculation | 1.831 | 0.029 | 1.863 | |
| replicates | 0.002 | 0.000 | 0.001 | |
| spectralMap | 21.149 | 2.939 | 25.686 | |
| tTest | 2.579 | 0.062 | 2.815 | |
| volcanoPlot | 2.120 | 0.040 | 2.167 | |