Back to Multiple platform build/check report for BioC 3.18: simplified long |
|
This page was generated on 2024-04-17 11:36:30 -0400 (Wed, 17 Apr 2024).
Hostname | OS | Arch (*) | R version | Installed pkgs |
---|---|---|---|---|
nebbiolo2 | Linux (Ubuntu 22.04.3 LTS) | x86_64 | 4.3.3 (2024-02-29) -- "Angel Food Cake" | 4676 |
palomino4 | Windows Server 2022 Datacenter | x64 | 4.3.3 (2024-02-29 ucrt) -- "Angel Food Cake" | 4414 |
merida1 | macOS 12.7.1 Monterey | x86_64 | 4.3.3 (2024-02-29) -- "Angel Food Cake" | 4437 |
Click on any hostname to see more info about the system (e.g. compilers) (*) as reported by 'uname -p', except on Windows and Mac OS X |
Package 2/2266 | Hostname | OS / Arch | INSTALL | BUILD | CHECK | BUILD BIN | ||||||||
a4Base 1.50.0 (landing page) Laure Cougnaud
| nebbiolo2 | Linux (Ubuntu 22.04.3 LTS) / x86_64 | OK | OK | OK | ![]() | ||||||||
palomino4 | Windows Server 2022 Datacenter / x64 | OK | OK | OK | OK | ![]() | ||||||||
merida1 | macOS 12.7.1 Monterey / x86_64 | OK | OK | OK | OK | ![]() | ||||||||
kjohnson1 | macOS 13.6.1 Ventura / arm64 | see weekly results here | ||||||||||||
To the developers/maintainers of the a4Base package: - Allow up to 24 hours (and sometimes 48 hours) for your latest push to git@git.bioconductor.org:packages/a4Base.git to reflect on this report. See Troubleshooting Build Report for more information. - Use the following Renviron settings to reproduce errors and warnings. - If 'R CMD check' started to fail recently on the Linux builder(s) over a missing dependency, add the missing dependency to 'Suggests:' in your DESCRIPTION file. See Renviron.bioc for more information. |
Package: a4Base |
Version: 1.50.0 |
Command: F:\biocbuild\bbs-3.18-bioc\R\bin\R.exe CMD check --no-multiarch --install=check:a4Base.install-out.txt --library=F:\biocbuild\bbs-3.18-bioc\R\library --no-vignettes --timings a4Base_1.50.0.tar.gz |
StartedAt: 2024-04-15 22:07:59 -0400 (Mon, 15 Apr 2024) |
EndedAt: 2024-04-15 22:11:35 -0400 (Mon, 15 Apr 2024) |
EllapsedTime: 216.4 seconds |
RetCode: 0 |
Status: OK |
CheckDir: a4Base.Rcheck |
Warnings: 0 |
############################################################################## ############################################################################## ### ### Running command: ### ### F:\biocbuild\bbs-3.18-bioc\R\bin\R.exe CMD check --no-multiarch --install=check:a4Base.install-out.txt --library=F:\biocbuild\bbs-3.18-bioc\R\library --no-vignettes --timings a4Base_1.50.0.tar.gz ### ############################################################################## ############################################################################## * using log directory 'F:/biocbuild/bbs-3.18-bioc/meat/a4Base.Rcheck' * using R version 4.3.3 (2024-02-29 ucrt) * using platform: x86_64-w64-mingw32 (64-bit) * R was compiled by gcc.exe (GCC) 12.3.0 GNU Fortran (GCC) 12.3.0 * running under: Windows Server 2022 x64 (build 20348) * using session charset: UTF-8 * using option '--no-vignettes' * checking for file 'a4Base/DESCRIPTION' ... OK * checking extension type ... Package * this is package 'a4Base' version '1.50.0' * checking package namespace information ... OK * checking package dependencies ... NOTE Package which this enhances but not available for checking: 'JavaGD' * checking if this is a source package ... OK * checking if there is a namespace ... OK * checking for hidden files and directories ... OK * checking for portable file names ... OK * checking whether package 'a4Base' can be installed ... OK * checking installed package size ... OK * checking package directory ... OK * checking DESCRIPTION meta-information ... OK * checking top-level files ... OK * checking for left-over files ... OK * checking index information ... OK * checking package subdirectories ... OK * checking R files for non-ASCII characters ... OK * checking R files for syntax errors ... OK * checking whether the package can be loaded ... OK * checking whether the package can be loaded with stated dependencies ... OK * checking whether the package can be unloaded cleanly ... OK * checking whether the namespace can be loaded with stated dependencies ... OK * checking whether the namespace can be unloaded cleanly ... OK * checking startup messages can be suppressed ... OK * checking dependencies in R code ... OK * checking S3 generic/method consistency ... OK * checking replacement functions ... OK * checking foreign function calls ... OK * checking R code for possible problems ... OK * checking Rd files ... NOTE checkRd: (-1) filterVarInt.Rd:52: Escaped LaTeX specials: \& checkRd: (-1) histPvalue.Rd:50: Escaped LaTeX specials: \& checkRd: (-1) lassoReg.Rd:38: Escaped LaTeX specials: \& checkRd: (-1) spectralMap.Rd:49: Escaped LaTeX specials: \& checkRd: (-1) volcanoPlot.Rd:45: Escaped LaTeX specials: \& * checking Rd metadata ... OK * checking Rd cross-references ... OK * checking for missing documentation entries ... OK * checking for code/documentation mismatches ... OK * checking Rd \usage sections ... OK * checking Rd contents ... OK * checking for unstated dependencies in examples ... OK * checking contents of 'data' directory ... OK * checking data for non-ASCII characters ... OK * checking data for ASCII and uncompressed saves ... OK * checking examples ... OK Examples with CPU (user + system) or elapsed time > 5s user system elapsed spectralMap 10.54 0.54 11.09 computeLogRatio 5.34 0.19 5.53 * checking PDF version of manual ... OK * DONE Status: 2 NOTEs See 'F:/biocbuild/bbs-3.18-bioc/meat/a4Base.Rcheck/00check.log' for details.
a4Base.Rcheck/00install.out
############################################################################## ############################################################################## ### ### Running command: ### ### F:\biocbuild\bbs-3.18-bioc\R\bin\R.exe CMD INSTALL a4Base ### ############################################################################## ############################################################################## * installing to library 'F:/biocbuild/bbs-3.18-bioc/R/library' * installing *source* package 'a4Base' ... ** using staged installation ** R ** data ** inst ** byte-compile and prepare package for lazy loading ** help *** installing help indices ** building package indices ** testing if installed package can be loaded from temporary location ** testing if installed package can be loaded from final location ** testing if installed package keeps a record of temporary installation path * DONE (a4Base)
a4Base.Rcheck/a4Base-Ex.timings
name | user | system | elapsed | |
a4palette | 0.03 | 0.00 | 0.03 | |
addQuantilesColors | 1.89 | 0.17 | 2.07 | |
boxPlot | 2.59 | 0.13 | 2.72 | |
combineTwoExpressionSet | 0 | 0 | 0 | |
computeLogRatio | 5.34 | 0.19 | 5.53 | |
createExpressionSet | 0.03 | 0.00 | 0.03 | |
filterVarInt | 2.31 | 0.14 | 2.46 | |
heatmap.expressionSet | 0 | 0 | 0 | |
histPvalue | 1.62 | 0.04 | 1.67 | |
histpvalueplotter | 1.71 | 0.07 | 1.76 | |
lassoReg | 1.68 | 0.11 | 1.78 | |
logReg | 0 | 0 | 0 | |
nlcvTT | 0 | 0 | 0 | |
plot1gene | 1.53 | 0.07 | 1.61 | |
plotComb2Samples | 2.31 | 0.08 | 2.41 | |
plotCombMultSamples | 2.79 | 0.19 | 2.97 | |
plotCombination2genes | 2.45 | 0.11 | 2.56 | |
plotLogRatio | 4.23 | 0.11 | 4.35 | |
probabilitiesPlot | 0 | 0 | 0 | |
probe2gene | 1.26 | 0.03 | 1.30 | |
profilesPlot | 1.45 | 0.11 | 1.56 | |
propdegenescalculation | 2.03 | 0.08 | 2.11 | |
replicates | 0 | 0 | 0 | |
spectralMap | 10.54 | 0.54 | 11.09 | |
tTest | 1.98 | 0.07 | 2.06 | |
volcanoPlot | 2.01 | 0.11 | 2.12 | |