| Back to Multiple platform build/check report for BioC 3.18: simplified long |
|
This page was generated on 2023-11-02 11:41:15 -0400 (Thu, 02 Nov 2023).
| Hostname | OS | Arch (*) | R version | Installed pkgs |
|---|---|---|---|---|
| nebbiolo2 | Linux (Ubuntu 22.04.2 LTS) | x86_64 | 4.3.1 (2023-06-16) -- "Beagle Scouts" | 4729 |
| palomino4 | Windows Server 2022 Datacenter | x64 | 4.3.1 (2023-06-16 ucrt) -- "Beagle Scouts" | 4463 |
| lconway | macOS 12.6.5 Monterey | x86_64 | 4.3.1 Patched (2023-06-17 r84564) -- "Beagle Scouts" | 4478 |
| kunpeng2 | Linux (openEuler 22.03 LTS-SP1) | aarch64 | 4.3.1 (2023-06-16) -- "Beagle Scouts" | 4464 |
| Click on any hostname to see more info about the system (e.g. compilers) (*) as reported by 'uname -p', except on Windows and Mac OS X | ||||
| Package 1886/2266 | Hostname | OS / Arch | INSTALL | BUILD | CHECK | BUILD BIN | ||||||||
| Sconify 1.22.0 (landing page) Tyler J Burns
| nebbiolo2 | Linux (Ubuntu 22.04.2 LTS) / x86_64 | OK | OK | OK | |||||||||
| palomino4 | Windows Server 2022 Datacenter / x64 | OK | OK | OK | OK | |||||||||
| lconway | macOS 12.6.5 Monterey / x86_64 | OK | OK | OK | OK | |||||||||
| kjohnson1 | macOS 13.6.1 Ventura / arm64 | see weekly results here | ||||||||||||
| kunpeng2 | Linux (openEuler 22.03 LTS-SP1) / aarch64 | OK | OK | OK | ||||||||||
|
To the developers/maintainers of the Sconify package: - Allow up to 24 hours (and sometimes 48 hours) for your latest push to git@git.bioconductor.org:packages/Sconify.git to reflect on this report. See Troubleshooting Build Report for more information. - Use the following Renviron settings to reproduce errors and warnings. - If 'R CMD check' started to fail recently on the Linux builder(s) over a missing dependency, add the missing dependency to 'Suggests:' in your DESCRIPTION file. See Renviron.bioc for more information. - See Martin Grigorov's blog post for how to debug Linux ARM64 related issues on a x86_64 host. |
| Package: Sconify |
| Version: 1.22.0 |
| Command: /home/biocbuild/R/R-4.3.1/bin/R CMD check --install=check:Sconify.install-out.txt --library=/home/biocbuild/R/R-4.3.1/site-library --no-vignettes --timings Sconify_1.22.0.tar.gz |
| StartedAt: 2023-11-02 14:10:48 -0000 (Thu, 02 Nov 2023) |
| EndedAt: 2023-11-02 14:13:01 -0000 (Thu, 02 Nov 2023) |
| EllapsedTime: 132.2 seconds |
| RetCode: 0 |
| Status: OK |
| CheckDir: Sconify.Rcheck |
| Warnings: 0 |
##############################################################################
##############################################################################
###
### Running command:
###
### /home/biocbuild/R/R-4.3.1/bin/R CMD check --install=check:Sconify.install-out.txt --library=/home/biocbuild/R/R-4.3.1/site-library --no-vignettes --timings Sconify_1.22.0.tar.gz
###
##############################################################################
##############################################################################
* using log directory ‘/home/biocbuild/bbs-3.18-bioc/meat/Sconify.Rcheck’
* using R version 4.3.1 (2023-06-16)
* using platform: aarch64-unknown-linux-gnu (64-bit)
* R was compiled by
gcc (GCC) 10.3.1
GNU Fortran (GCC) 10.3.1
* running under: openEuler 22.03 (LTS-SP1)
* using session charset: UTF-8
* using option ‘--no-vignettes’
* checking for file ‘Sconify/DESCRIPTION’ ... OK
* checking extension type ... Package
* this is package ‘Sconify’ version ‘1.22.0’
* package encoding: UTF-8
* checking package namespace information ... OK
* checking package dependencies ... OK
* checking if this is a source package ... OK
* checking if there is a namespace ... OK
* checking for hidden files and directories ... OK
* checking for portable file names ... OK
* checking for sufficient/correct file permissions ... OK
* checking whether package ‘Sconify’ can be installed ... OK
* checking installed package size ... OK
* checking package directory ... OK
* checking ‘build’ directory ... OK
* checking DESCRIPTION meta-information ... OK
* checking top-level files ... OK
* checking for left-over files ... OK
* checking index information ... OK
* checking package subdirectories ... OK
* checking R files for non-ASCII characters ... OK
* checking R files for syntax errors ... OK
* checking whether the package can be loaded ... OK
* checking whether the package can be loaded with stated dependencies ... OK
* checking whether the package can be unloaded cleanly ... OK
* checking whether the namespace can be loaded with stated dependencies ... OK
* checking whether the namespace can be unloaded cleanly ... OK
* checking loading without being on the library search path ... OK
* checking dependencies in R code ... OK
* checking S3 generic/method consistency ... OK
* checking replacement functions ... OK
* checking foreign function calls ... OK
* checking R code for possible problems ... OK
* checking Rd files ... OK
* checking Rd metadata ... OK
* checking Rd cross-references ... OK
* checking for missing documentation entries ... OK
* checking for code/documentation mismatches ... OK
* checking Rd \usage sections ... OK
* checking Rd contents ... OK
* checking for unstated dependencies in examples ... OK
* checking contents of ‘data’ directory ... OK
* checking data for non-ASCII characters ... OK
* checking LazyData ... OK
* checking data for ASCII and uncompressed saves ... OK
* checking files in ‘vignettes’ ... OK
* checking examples ... OK
Examples with CPU (user + system) or elapsed time > 5s
user system elapsed
SconeValues 17.474 0.171 17.680
ImputeTesting 5.139 0.212 5.362
* checking for unstated dependencies in ‘tests’ ... OK
* checking tests ...
Running ‘testthat.R’
OK
* checking for unstated dependencies in vignettes ... OK
* checking package vignettes in ‘inst/doc’ ... OK
* checking running R code from vignettes ... SKIPPED
* checking re-building of vignette outputs ... SKIPPED
* checking PDF version of manual ... OK
* DONE
Status: OK
Sconify.Rcheck/00install.out
############################################################################## ############################################################################## ### ### Running command: ### ### /home/biocbuild/R/R-4.3.1/bin/R CMD INSTALL Sconify ### ############################################################################## ############################################################################## * installing to library ‘/home/biocbuild/R/R-4.3.1/site-library’ * installing *source* package ‘Sconify’ ... ** using staged installation ** R ** data *** moving datasets to lazyload DB ** inst ** byte-compile and prepare package for lazy loading Note: wrong number of arguments to '/' Note: wrong number of arguments to 'asinh' ** help *** installing help indices ** building package indices ** installing vignettes ** testing if installed package can be loaded from temporary location ** testing if installed package can be loaded from final location ** testing if installed package keeps a record of temporary installation path * DONE (Sconify)
Sconify.Rcheck/tests/testthat.Rout
R version 4.3.1 (2023-06-16) -- "Beagle Scouts"
Copyright (C) 2023 The R Foundation for Statistical Computing
Platform: aarch64-unknown-linux-gnu (64-bit)
R is free software and comes with ABSOLUTELY NO WARRANTY.
You are welcome to redistribute it under certain conditions.
Type 'license()' or 'licence()' for distribution details.
R is a collaborative project with many contributors.
Type 'contributors()' for more information and
'citation()' on how to cite R or R packages in publications.
Type 'demo()' for some demos, 'help()' for on-line help, or
'help.start()' for an HTML browser interface to help.
Type 'q()' to quit R.
> library(testthat)
> library(Sconify)
>
> test_check("Sconify")
Read the 100 x 27 data matrix successfully!
OpenMP is working. 1 threads.
Using no_dims = 2, perplexity = 30.000000, and theta = 0.500000
Computing input similarities...
Building tree...
Done in 0.01 seconds (sparsity = 0.969000)!
Learning embedding...
Iteration 50: error is 49.979320 (50 iterations in 0.02 seconds)
Iteration 100: error is 51.320544 (50 iterations in 0.02 seconds)
Iteration 150: error is 53.728111 (50 iterations in 0.02 seconds)
Iteration 200: error is 54.916289 (50 iterations in 0.02 seconds)
Iteration 250: error is 53.315450 (50 iterations in 0.02 seconds)
Iteration 300: error is 1.583334 (50 iterations in 0.02 seconds)
Iteration 350: error is 1.056793 (50 iterations in 0.01 seconds)
Iteration 400: error is 0.722685 (50 iterations in 0.01 seconds)
Iteration 450: error is 0.438362 (50 iterations in 0.01 seconds)
Iteration 500: error is 0.268207 (50 iterations in 0.01 seconds)
Iteration 550: error is 0.216767 (50 iterations in 0.01 seconds)
Iteration 600: error is 0.203448 (50 iterations in 0.01 seconds)
Iteration 650: error is 0.191598 (50 iterations in 0.01 seconds)
Iteration 700: error is 0.190211 (50 iterations in 0.01 seconds)
Iteration 750: error is 0.192214 (50 iterations in 0.01 seconds)
Iteration 800: error is 0.192941 (50 iterations in 0.01 seconds)
Iteration 850: error is 0.194395 (50 iterations in 0.01 seconds)
Iteration 900: error is 0.193160 (50 iterations in 0.01 seconds)
Iteration 950: error is 0.190758 (50 iterations in 0.01 seconds)
Iteration 1000: error is 0.192811 (50 iterations in 0.01 seconds)
Fitting performed in 0.27 seconds.
Read the 1000 x 27 data matrix successfully!
OpenMP is working. 1 threads.
Using no_dims = 2, perplexity = 30.000000, and theta = 0.500000
Computing input similarities...
Building tree...
Done in 0.16 seconds (sparsity = 0.129120)!
Learning embedding...
Iteration 50: error is 65.240937 (50 iterations in 0.40 seconds)
Iteration 100: error is 60.745737 (50 iterations in 0.33 seconds)
Iteration 150: error is 60.353419 (50 iterations in 0.34 seconds)
Iteration 200: error is 60.223158 (50 iterations in 0.36 seconds)
Iteration 250: error is 60.149439 (50 iterations in 0.37 seconds)
Iteration 300: error is 1.348948 (50 iterations in 0.29 seconds)
Iteration 350: error is 1.233847 (50 iterations in 0.24 seconds)
Iteration 400: error is 1.201951 (50 iterations in 0.23 seconds)
Iteration 450: error is 1.189385 (50 iterations in 0.24 seconds)
Iteration 500: error is 1.181567 (50 iterations in 0.24 seconds)
Iteration 550: error is 1.175775 (50 iterations in 0.24 seconds)
Iteration 600: error is 1.171622 (50 iterations in 0.26 seconds)
Iteration 650: error is 1.166825 (50 iterations in 0.24 seconds)
Iteration 700: error is 1.163018 (50 iterations in 0.25 seconds)
Iteration 750: error is 1.160452 (50 iterations in 0.25 seconds)
Iteration 800: error is 1.159246 (50 iterations in 0.24 seconds)
Iteration 850: error is 1.157941 (50 iterations in 0.26 seconds)
Iteration 900: error is 1.156809 (50 iterations in 0.24 seconds)
Iteration 950: error is 1.155057 (50 iterations in 0.24 seconds)
Iteration 1000: error is 1.154554 (50 iterations in 0.24 seconds)
Fitting performed in 5.49 seconds.
[ FAIL 0 | WARN 4 | SKIP 0 | PASS 72 ]
[ FAIL 0 | WARN 4 | SKIP 0 | PASS 72 ]
>
> proc.time()
user system elapsed
31.025 0.391 31.564
Sconify.Rcheck/Sconify-Ex.timings
| name | user | system | elapsed | |
| FcsToTibble | 0.166 | 0.000 | 0.170 | |
| Fnn | 0.258 | 0.392 | 0.652 | |
| GetKnnDe | 0.094 | 0.040 | 0.135 | |
| GetMarkerNames | 0.031 | 0.043 | 0.075 | |
| ImputeTesting | 5.139 | 0.212 | 5.362 | |
| MakeHist | 0.429 | 0.036 | 0.465 | |
| MakeKnnList | 0.478 | 0.012 | 0.491 | |
| MeaningOfLife | 0 | 0 | 0 | |
| ParseMarkers | 0.316 | 0.006 | 0.320 | |
| PostProcessing | 0.176 | 0.000 | 0.176 | |
| ProcessMultipleFiles | 0.171 | 0.012 | 0.184 | |
| QuantNormalizeElements | 0.524 | 0.080 | 0.606 | |
| SconeValues | 17.474 | 0.171 | 17.680 | |
| SplitFile | 0.112 | 0.000 | 0.112 | |
| StringToNumbers | 0 | 0 | 0 | |
| SubsampleAndTsne | 2.919 | 0.000 | 2.925 | |
| TsneVis | 0.242 | 0.000 | 0.242 | |