| Back to Multiple platform build/check report for BioC 3.18: simplified long |
|
This page was generated on 2024-03-04 11:37:50 -0500 (Mon, 04 Mar 2024).
| Hostname | OS | Arch (*) | R version | Installed pkgs |
|---|---|---|---|---|
| nebbiolo2 | Linux (Ubuntu 22.04.3 LTS) | x86_64 | 4.3.2 Patched (2023-11-13 r85521) -- "Eye Holes" | 4692 |
| palomino4 | Windows Server 2022 Datacenter | x64 | 4.3.2 (2023-10-31 ucrt) -- "Eye Holes" | 4445 |
| lconway | macOS 12.7.1 Monterey | x86_64 | 4.3.2 Patched (2023-11-01 r85457) -- "Eye Holes" | 4466 |
| Click on any hostname to see more info about the system (e.g. compilers) (*) as reported by 'uname -p', except on Windows and Mac OS X | ||||
| Package 1886/2266 | Hostname | OS / Arch | INSTALL | BUILD | CHECK | BUILD BIN | ||||||||
| Sconify 1.22.0 (landing page) Tyler J Burns
| nebbiolo2 | Linux (Ubuntu 22.04.3 LTS) / x86_64 | OK | OK | OK | |||||||||
| palomino4 | Windows Server 2022 Datacenter / x64 | OK | OK | OK | OK | |||||||||
| lconway | macOS 12.7.1 Monterey / x86_64 | OK | OK | OK | OK | |||||||||
| kjohnson1 | macOS 13.6.1 Ventura / arm64 | see weekly results here | ||||||||||||
|
To the developers/maintainers of the Sconify package: - Allow up to 24 hours (and sometimes 48 hours) for your latest push to git@git.bioconductor.org:packages/Sconify.git to reflect on this report. See Troubleshooting Build Report for more information. - Use the following Renviron settings to reproduce errors and warnings. - If 'R CMD check' started to fail recently on the Linux builder(s) over a missing dependency, add the missing dependency to 'Suggests:' in your DESCRIPTION file. See Renviron.bioc for more information. |
| Package: Sconify |
| Version: 1.22.0 |
| Command: /Library/Frameworks/R.framework/Resources/bin/R CMD check --install=check:Sconify.install-out.txt --library=/Library/Frameworks/R.framework/Resources/library --no-vignettes --timings Sconify_1.22.0.tar.gz |
| StartedAt: 2024-03-03 23:19:46 -0500 (Sun, 03 Mar 2024) |
| EndedAt: 2024-03-03 23:21:55 -0500 (Sun, 03 Mar 2024) |
| EllapsedTime: 128.9 seconds |
| RetCode: 0 |
| Status: OK |
| CheckDir: Sconify.Rcheck |
| Warnings: 0 |
##############################################################################
##############################################################################
###
### Running command:
###
### /Library/Frameworks/R.framework/Resources/bin/R CMD check --install=check:Sconify.install-out.txt --library=/Library/Frameworks/R.framework/Resources/library --no-vignettes --timings Sconify_1.22.0.tar.gz
###
##############################################################################
##############################################################################
* using log directory ‘/Users/biocbuild/bbs-3.18-bioc/meat/Sconify.Rcheck’
* using R version 4.3.2 Patched (2023-11-01 r85457)
* using platform: x86_64-apple-darwin20 (64-bit)
* R was compiled by
Apple clang version 14.0.3 (clang-1403.0.22.14.1)
GNU Fortran (GCC) 12.2.0
* running under: macOS Monterey 12.7.1
* using session charset: UTF-8
* using option ‘--no-vignettes’
* checking for file ‘Sconify/DESCRIPTION’ ... OK
* checking extension type ... Package
* this is package ‘Sconify’ version ‘1.22.0’
* package encoding: UTF-8
* checking package namespace information ... OK
* checking package dependencies ... OK
* checking if this is a source package ... OK
* checking if there is a namespace ... OK
* checking for hidden files and directories ... OK
* checking for portable file names ... OK
* checking for sufficient/correct file permissions ... OK
* checking whether package ‘Sconify’ can be installed ... OK
* checking installed package size ... OK
* checking package directory ... OK
* checking ‘build’ directory ... OK
* checking DESCRIPTION meta-information ... OK
* checking top-level files ... OK
* checking for left-over files ... OK
* checking index information ... OK
* checking package subdirectories ... OK
* checking R files for non-ASCII characters ... OK
* checking R files for syntax errors ... OK
* checking whether the package can be loaded ... OK
* checking whether the package can be loaded with stated dependencies ... OK
* checking whether the package can be unloaded cleanly ... OK
* checking whether the namespace can be loaded with stated dependencies ... OK
* checking whether the namespace can be unloaded cleanly ... OK
* checking dependencies in R code ... OK
* checking S3 generic/method consistency ... OK
* checking replacement functions ... OK
* checking foreign function calls ... OK
* checking R code for possible problems ... OK
* checking Rd files ... OK
* checking Rd metadata ... OK
* checking Rd cross-references ... OK
* checking for missing documentation entries ... OK
* checking for code/documentation mismatches ... OK
* checking Rd \usage sections ... OK
* checking Rd contents ... OK
* checking for unstated dependencies in examples ... OK
* checking contents of ‘data’ directory ... OK
* checking data for non-ASCII characters ... OK
* checking LazyData ... OK
* checking data for ASCII and uncompressed saves ... OK
* checking files in ‘vignettes’ ... OK
* checking examples ... OK
Examples with CPU (user + system) or elapsed time > 5s
user system elapsed
SconeValues 14.179 0.235 14.52
* checking for unstated dependencies in ‘tests’ ... OK
* checking tests ...
Running ‘testthat.R’
OK
* checking for unstated dependencies in vignettes ... OK
* checking package vignettes in ‘inst/doc’ ... OK
* checking running R code from vignettes ... SKIPPED
* checking re-building of vignette outputs ... SKIPPED
* checking PDF version of manual ... OK
* DONE
Status: OK
Sconify.Rcheck/00install.out
############################################################################## ############################################################################## ### ### Running command: ### ### /Library/Frameworks/R.framework/Resources/bin/R CMD INSTALL Sconify ### ############################################################################## ############################################################################## * installing to library ‘/Library/Frameworks/R.framework/Versions/4.3-x86_64/Resources/library’ * installing *source* package ‘Sconify’ ... ** using staged installation ** R ** data *** moving datasets to lazyload DB ** inst ** byte-compile and prepare package for lazy loading Note: wrong number of arguments to '/' Note: wrong number of arguments to 'asinh' ** help *** installing help indices ** building package indices ** installing vignettes ** testing if installed package can be loaded from temporary location ** testing if installed package can be loaded from final location ** testing if installed package keeps a record of temporary installation path * DONE (Sconify)
Sconify.Rcheck/tests/testthat.Rout
R version 4.3.2 Patched (2023-11-01 r85457) -- "Eye Holes"
Copyright (C) 2023 The R Foundation for Statistical Computing
Platform: x86_64-apple-darwin20 (64-bit)
R is free software and comes with ABSOLUTELY NO WARRANTY.
You are welcome to redistribute it under certain conditions.
Type 'license()' or 'licence()' for distribution details.
R is a collaborative project with many contributors.
Type 'contributors()' for more information and
'citation()' on how to cite R or R packages in publications.
Type 'demo()' for some demos, 'help()' for on-line help, or
'help.start()' for an HTML browser interface to help.
Type 'q()' to quit R.
> library(testthat)
> library(Sconify)
>
> test_check("Sconify")
Read the 100 x 27 data matrix successfully!
Using no_dims = 2, perplexity = 30.000000, and theta = 0.500000
Computing input similarities...
Building tree...
Done in 0.01 seconds (sparsity = 0.965000)!
Learning embedding...
Iteration 50: error is 48.477551 (50 iterations in 0.01 seconds)
Iteration 100: error is 50.440690 (50 iterations in 0.01 seconds)
Iteration 150: error is 53.359574 (50 iterations in 0.01 seconds)
Iteration 200: error is 53.789443 (50 iterations in 0.01 seconds)
Iteration 250: error is 51.017638 (50 iterations in 0.01 seconds)
Iteration 300: error is 1.442522 (50 iterations in 0.01 seconds)
Iteration 350: error is 0.869070 (50 iterations in 0.01 seconds)
Iteration 400: error is 0.243560 (50 iterations in 0.01 seconds)
Iteration 450: error is 0.151959 (50 iterations in 0.01 seconds)
Iteration 500: error is 0.151272 (50 iterations in 0.01 seconds)
Iteration 550: error is 0.150831 (50 iterations in 0.01 seconds)
Iteration 600: error is 0.151063 (50 iterations in 0.01 seconds)
Iteration 650: error is 0.151031 (50 iterations in 0.01 seconds)
Iteration 700: error is 0.150268 (50 iterations in 0.01 seconds)
Iteration 750: error is 0.150627 (50 iterations in 0.01 seconds)
Iteration 800: error is 0.150934 (50 iterations in 0.01 seconds)
Iteration 850: error is 0.151172 (50 iterations in 0.01 seconds)
Iteration 900: error is 0.150822 (50 iterations in 0.01 seconds)
Iteration 950: error is 0.150855 (50 iterations in 0.01 seconds)
Iteration 1000: error is 0.150519 (50 iterations in 0.01 seconds)
Fitting performed in 0.17 seconds.
Read the 1000 x 27 data matrix successfully!
Using no_dims = 2, perplexity = 30.000000, and theta = 0.500000
Computing input similarities...
Building tree...
Done in 0.14 seconds (sparsity = 0.129120)!
Learning embedding...
Iteration 50: error is 65.673411 (50 iterations in 0.18 seconds)
Iteration 100: error is 60.761312 (50 iterations in 0.15 seconds)
Iteration 150: error is 60.334334 (50 iterations in 0.13 seconds)
Iteration 200: error is 60.205176 (50 iterations in 0.12 seconds)
Iteration 250: error is 60.109187 (50 iterations in 0.12 seconds)
Iteration 300: error is 1.335840 (50 iterations in 0.13 seconds)
Iteration 350: error is 1.223106 (50 iterations in 0.12 seconds)
Iteration 400: error is 1.194658 (50 iterations in 0.13 seconds)
Iteration 450: error is 1.182446 (50 iterations in 0.12 seconds)
Iteration 500: error is 1.174551 (50 iterations in 0.12 seconds)
Iteration 550: error is 1.170393 (50 iterations in 0.11 seconds)
Iteration 600: error is 1.166711 (50 iterations in 0.12 seconds)
Iteration 650: error is 1.163752 (50 iterations in 0.13 seconds)
Iteration 700: error is 1.161507 (50 iterations in 0.13 seconds)
Iteration 750: error is 1.158869 (50 iterations in 0.11 seconds)
Iteration 800: error is 1.156492 (50 iterations in 0.12 seconds)
Iteration 850: error is 1.154233 (50 iterations in 0.12 seconds)
Iteration 900: error is 1.153677 (50 iterations in 0.11 seconds)
Iteration 950: error is 1.151992 (50 iterations in 0.10 seconds)
Iteration 1000: error is 1.150572 (50 iterations in 0.12 seconds)
Fitting performed in 2.51 seconds.
[ FAIL 0 | WARN 4 | SKIP 0 | PASS 72 ]
[ FAIL 0 | WARN 4 | SKIP 0 | PASS 72 ]
>
> proc.time()
user system elapsed
21.666 0.765 22.696
Sconify.Rcheck/Sconify-Ex.timings
| name | user | system | elapsed | |
| FcsToTibble | 0.161 | 0.007 | 0.169 | |
| Fnn | 0.365 | 1.055 | 1.433 | |
| GetKnnDe | 0.069 | 0.007 | 0.077 | |
| GetMarkerNames | 0.037 | 0.003 | 0.040 | |
| ImputeTesting | 3.989 | 0.039 | 4.053 | |
| MakeHist | 0.393 | 0.014 | 0.411 | |
| MakeKnnList | 0.376 | 0.010 | 0.387 | |
| MeaningOfLife | 0.000 | 0.001 | 0.000 | |
| ParseMarkers | 0.309 | 0.032 | 0.358 | |
| PostProcessing | 0.151 | 0.004 | 0.156 | |
| ProcessMultipleFiles | 0.145 | 0.006 | 0.151 | |
| QuantNormalizeElements | 0.275 | 0.005 | 0.281 | |
| SconeValues | 14.179 | 0.235 | 14.520 | |
| SplitFile | 0.099 | 0.004 | 0.103 | |
| StringToNumbers | 0.000 | 0.001 | 0.001 | |
| SubsampleAndTsne | 1.530 | 0.069 | 1.615 | |
| TsneVis | 0.198 | 0.006 | 0.205 | |