| Back to Multiple platform build/check report for BioC 3.18: simplified long |
|
This page was generated on 2024-03-04 11:37:38 -0500 (Mon, 04 Mar 2024).
| Hostname | OS | Arch (*) | R version | Installed pkgs |
|---|---|---|---|---|
| nebbiolo2 | Linux (Ubuntu 22.04.3 LTS) | x86_64 | 4.3.2 Patched (2023-11-13 r85521) -- "Eye Holes" | 4692 |
| palomino4 | Windows Server 2022 Datacenter | x64 | 4.3.2 (2023-10-31 ucrt) -- "Eye Holes" | 4445 |
| lconway | macOS 12.7.1 Monterey | x86_64 | 4.3.2 Patched (2023-11-01 r85457) -- "Eye Holes" | 4466 |
| Click on any hostname to see more info about the system (e.g. compilers) (*) as reported by 'uname -p', except on Windows and Mac OS X | ||||
| Package 1457/2266 | Hostname | OS / Arch | INSTALL | BUILD | CHECK | BUILD BIN | ||||||||
| OncoSimulR 4.4.0 (landing page) Ramon Diaz-Uriarte
| nebbiolo2 | Linux (Ubuntu 22.04.3 LTS) / x86_64 | OK | OK | OK | |||||||||
| palomino4 | Windows Server 2022 Datacenter / x64 | OK | OK | OK | OK | |||||||||
| lconway | macOS 12.7.1 Monterey / x86_64 | OK | OK | OK | OK | |||||||||
| kjohnson1 | macOS 13.6.1 Ventura / arm64 | see weekly results here | ||||||||||||
|
To the developers/maintainers of the OncoSimulR package: - Allow up to 24 hours (and sometimes 48 hours) for your latest push to git@git.bioconductor.org:packages/OncoSimulR.git to reflect on this report. See Troubleshooting Build Report for more information. - Use the following Renviron settings to reproduce errors and warnings. - If 'R CMD check' started to fail recently on the Linux builder(s) over a missing dependency, add the missing dependency to 'Suggests:' in your DESCRIPTION file. See Renviron.bioc for more information. |
| Package: OncoSimulR |
| Version: 4.4.0 |
| Command: /Library/Frameworks/R.framework/Resources/bin/R CMD check --install=check:OncoSimulR.install-out.txt --library=/Library/Frameworks/R.framework/Resources/library --no-vignettes --timings OncoSimulR_4.4.0.tar.gz |
| StartedAt: 2024-03-03 22:18:27 -0500 (Sun, 03 Mar 2024) |
| EndedAt: 2024-03-03 22:28:46 -0500 (Sun, 03 Mar 2024) |
| EllapsedTime: 619.4 seconds |
| RetCode: 0 |
| Status: OK |
| CheckDir: OncoSimulR.Rcheck |
| Warnings: 0 |
##############################################################################
##############################################################################
###
### Running command:
###
### /Library/Frameworks/R.framework/Resources/bin/R CMD check --install=check:OncoSimulR.install-out.txt --library=/Library/Frameworks/R.framework/Resources/library --no-vignettes --timings OncoSimulR_4.4.0.tar.gz
###
##############################################################################
##############################################################################
* using log directory ‘/Users/biocbuild/bbs-3.18-bioc/meat/OncoSimulR.Rcheck’
* using R version 4.3.2 Patched (2023-11-01 r85457)
* using platform: x86_64-apple-darwin20 (64-bit)
* R was compiled by
Apple clang version 14.0.3 (clang-1403.0.22.14.1)
GNU Fortran (GCC) 12.2.0
* running under: macOS Monterey 12.7.1
* using session charset: UTF-8
* using option ‘--no-vignettes’
* checking for file ‘OncoSimulR/DESCRIPTION’ ... OK
* checking extension type ... Package
* this is package ‘OncoSimulR’ version ‘4.4.0’
* checking package namespace information ... OK
* checking package dependencies ... OK
* checking if this is a source package ... OK
* checking if there is a namespace ... OK
* checking for hidden files and directories ... OK
* checking for portable file names ... OK
* checking for sufficient/correct file permissions ... OK
* checking whether package ‘OncoSimulR’ can be installed ... OK
* used C compiler: ‘Apple clang version 14.0.0 (clang-1400.0.29.202)’
* used C++ compiler: ‘Apple clang version 14.0.0 (clang-1400.0.29.202)’
* used SDK: ‘MacOSX11.3.sdk’
* checking installed package size ... NOTE
installed size is 9.3Mb
sub-directories of 1Mb or more:
libs 7.9Mb
* checking package directory ... OK
* checking ‘build’ directory ... OK
* checking DESCRIPTION meta-information ... OK
* checking top-level files ... OK
* checking for left-over files ... OK
* checking index information ... OK
* checking package subdirectories ... OK
* checking R files for non-ASCII characters ... OK
* checking R files for syntax errors ... OK
* checking whether the package can be loaded ... OK
* checking whether the package can be loaded with stated dependencies ... OK
* checking whether the package can be unloaded cleanly ... OK
* checking whether the namespace can be loaded with stated dependencies ... OK
* checking whether the namespace can be unloaded cleanly ... OK
* checking dependencies in R code ... OK
* checking S3 generic/method consistency ... OK
* checking replacement functions ... OK
* checking foreign function calls ... OK
* checking R code for possible problems ... OK
* checking Rd files ... OK
* checking Rd metadata ... OK
* checking Rd cross-references ... OK
* checking for missing documentation entries ... OK
* checking for code/documentation mismatches ... OK
* checking Rd \usage sections ... OK
* checking Rd contents ... OK
* checking for unstated dependencies in examples ... OK
* checking contents of ‘data’ directory ... OK
* checking data for non-ASCII characters ... OK
* checking data for ASCII and uncompressed saves ... OK
* checking line endings in C/C++/Fortran sources/headers ... OK
* checking line endings in Makefiles ... OK
* checking compilation flags in Makevars ... OK
* checking for GNU extensions in Makefiles ... OK
* checking for portable use of $(BLAS_LIBS) and $(LAPACK_LIBS) ... OK
* checking use of PKG_*FLAGS in Makefiles ... OK
* checking include directives in Makefiles ... OK
* checking compiled code ... NOTE
Note: information on .o files is not available
* checking files in ‘vignettes’ ... OK
* checking examples ... OK
* checking for unstated dependencies in ‘tests’ ... OK
* checking tests ...
Running ‘testthat.R’
OK
* checking for unstated dependencies in vignettes ... OK
* checking package vignettes in ‘inst/doc’ ... OK
* checking running R code from vignettes ... SKIPPED
* checking re-building of vignette outputs ... SKIPPED
* checking PDF version of manual ... OK
* DONE
Status: 2 NOTEs
See
‘/Users/biocbuild/bbs-3.18-bioc/meat/OncoSimulR.Rcheck/00check.log’
for details.
OncoSimulR.Rcheck/00install.out
##############################################################################
##############################################################################
###
### Running command:
###
### /Library/Frameworks/R.framework/Resources/bin/R CMD INSTALL OncoSimulR
###
##############################################################################
##############################################################################
* installing to library ‘/Library/Frameworks/R.framework/Versions/4.3-x86_64/Resources/library’
* installing *source* package ‘OncoSimulR’ ...
** using staged installation
** libs
using C compiler: ‘Apple clang version 14.0.0 (clang-1400.0.29.202)’
using C++ compiler: ‘Apple clang version 14.0.0 (clang-1400.0.29.202)’
using SDK: ‘MacOSX11.3.sdk’
clang -arch x86_64 -I"/Library/Frameworks/R.framework/Resources/include" -DNDEBUG -I'/Library/Frameworks/R.framework/Versions/4.3-x86_64/Resources/library/Rcpp/include' -I/opt/R/x86_64/include -fPIC -falign-functions=64 -Wall -g -O2 -c FitnessLandscape/gamma.c -o FitnessLandscape/gamma.o
clang -arch x86_64 -I"/Library/Frameworks/R.framework/Resources/include" -DNDEBUG -I'/Library/Frameworks/R.framework/Versions/4.3-x86_64/Resources/library/Rcpp/include' -I/opt/R/x86_64/include -fPIC -falign-functions=64 -Wall -g -O2 -c FitnessLandscape/landscape.c -o FitnessLandscape/landscape.o
clang -arch x86_64 -I"/Library/Frameworks/R.framework/Resources/include" -DNDEBUG -I'/Library/Frameworks/R.framework/Versions/4.3-x86_64/Resources/library/Rcpp/include' -I/opt/R/x86_64/include -fPIC -falign-functions=64 -Wall -g -O2 -c FitnessLandscape/random.c -o FitnessLandscape/random.o
clang -arch x86_64 -I"/Library/Frameworks/R.framework/Resources/include" -DNDEBUG -I'/Library/Frameworks/R.framework/Versions/4.3-x86_64/Resources/library/Rcpp/include' -I/opt/R/x86_64/include -fPIC -falign-functions=64 -Wall -g -O2 -c FitnessLandscape/sort.c -o FitnessLandscape/sort.o
clang -arch x86_64 -I"/Library/Frameworks/R.framework/Resources/include" -DNDEBUG -I'/Library/Frameworks/R.framework/Versions/4.3-x86_64/Resources/library/Rcpp/include' -I/opt/R/x86_64/include -fPIC -falign-functions=64 -Wall -g -O2 -c FitnessLandscape/chain.c -o FitnessLandscape/chain.o
clang -arch x86_64 -I"/Library/Frameworks/R.framework/Resources/include" -DNDEBUG -I'/Library/Frameworks/R.framework/Versions/4.3-x86_64/Resources/library/Rcpp/include' -I/opt/R/x86_64/include -fPIC -falign-functions=64 -Wall -g -O2 -c FitnessLandscape/input.c -o FitnessLandscape/input.o
clang -arch x86_64 -I"/Library/Frameworks/R.framework/Resources/include" -DNDEBUG -I'/Library/Frameworks/R.framework/Versions/4.3-x86_64/Resources/library/Rcpp/include' -I/opt/R/x86_64/include -fPIC -falign-functions=64 -Wall -g -O2 -c FitnessLandscape/genotypes.c -o FitnessLandscape/genotypes.o
clang -arch x86_64 -I"/Library/Frameworks/R.framework/Resources/include" -DNDEBUG -I'/Library/Frameworks/R.framework/Versions/4.3-x86_64/Resources/library/Rcpp/include' -I/opt/R/x86_64/include -fPIC -falign-functions=64 -Wall -g -O2 -c FitnessLandscape/ordered_pairs.c -o FitnessLandscape/ordered_pairs.o
FitnessLandscape/ordered_pairs.c:138:6: warning: variable 'tot_pairs' set but not used [-Wunused-but-set-variable]
int tot_pairs=0;
^
1 warning generated.
clang -arch x86_64 -I"/Library/Frameworks/R.framework/Resources/include" -DNDEBUG -I'/Library/Frameworks/R.framework/Versions/4.3-x86_64/Resources/library/Rcpp/include' -I/opt/R/x86_64/include -fPIC -falign-functions=64 -Wall -g -O2 -c FitnessLandscape/calculus.c -o FitnessLandscape/calculus.o
clang -arch x86_64 -I"/Library/Frameworks/R.framework/Resources/include" -DNDEBUG -I'/Library/Frameworks/R.framework/Versions/4.3-x86_64/Resources/library/Rcpp/include' -I/opt/R/x86_64/include -fPIC -falign-functions=64 -Wall -g -O2 -c FitnessLandscape/vector.c -o FitnessLandscape/vector.o
clang -arch x86_64 -I"/Library/Frameworks/R.framework/Resources/include" -DNDEBUG -I'/Library/Frameworks/R.framework/Versions/4.3-x86_64/Resources/library/Rcpp/include' -I/opt/R/x86_64/include -fPIC -falign-functions=64 -Wall -g -O2 -c FitnessLandscape/generalized_chain.c -o FitnessLandscape/generalized_chain.o
clang -arch x86_64 -I"/Library/Frameworks/R.framework/Resources/include" -DNDEBUG -I'/Library/Frameworks/R.framework/Versions/4.3-x86_64/Resources/library/Rcpp/include' -I/opt/R/x86_64/include -fPIC -falign-functions=64 -Wall -g -O2 -c FitnessLandscape/LinearAlgebra.c -o FitnessLandscape/LinearAlgebra.o
clang -arch x86_64 -I"/Library/Frameworks/R.framework/Resources/include" -DNDEBUG -I'/Library/Frameworks/R.framework/Versions/4.3-x86_64/Resources/library/Rcpp/include' -I/opt/R/x86_64/include -fPIC -falign-functions=64 -Wall -g -O2 -c FitnessLandscape/summary_statistics.c -o FitnessLandscape/summary_statistics.o
FitnessLandscape/summary_statistics.c:515:9: warning: variable 'meanVarianceNumberOfStepsFL' set but not used [-Wunused-but-set-variable]
double meanVarianceNumberOfStepsFL = 0;
^
1 warning generated.
clang -arch x86_64 -I"/Library/Frameworks/R.framework/Resources/include" -DNDEBUG -I'/Library/Frameworks/R.framework/Versions/4.3-x86_64/Resources/library/Rcpp/include' -I/opt/R/x86_64/include -fPIC -falign-functions=64 -Wall -g -O2 -c FitnessLandscape/epistasis_type.c -o FitnessLandscape/epistasis_type.o
clang -arch x86_64 -I"/Library/Frameworks/R.framework/Resources/include" -DNDEBUG -I'/Library/Frameworks/R.framework/Versions/4.3-x86_64/Resources/library/Rcpp/include' -I/opt/R/x86_64/include -fPIC -falign-functions=64 -Wall -g -O2 -c FitnessLandscape/decomposition.c -o FitnessLandscape/decomposition.o
clang -arch x86_64 -I"/Library/Frameworks/R.framework/Resources/include" -DNDEBUG -I'/Library/Frameworks/R.framework/Versions/4.3-x86_64/Resources/library/Rcpp/include' -I/opt/R/x86_64/include -fPIC -falign-functions=64 -Wall -g -O2 -c FitnessLandscape/models.c -o FitnessLandscape/models.o
clang -arch x86_64 -I"/Library/Frameworks/R.framework/Resources/include" -DNDEBUG -I'/Library/Frameworks/R.framework/Versions/4.3-x86_64/Resources/library/Rcpp/include' -I/opt/R/x86_64/include -fPIC -falign-functions=64 -Wall -g -O2 -c FitnessLandscape/verbose.c -o FitnessLandscape/verbose.o
ar -r liblandscape.a FitnessLandscape/gamma.o FitnessLandscape/landscape.o FitnessLandscape/random.o FitnessLandscape/sort.o FitnessLandscape/chain.o FitnessLandscape/input.o FitnessLandscape/genotypes.o FitnessLandscape/ordered_pairs.o FitnessLandscape/calculus.o FitnessLandscape/vector.o FitnessLandscape/generalized_chain.o FitnessLandscape/LinearAlgebra.o FitnessLandscape/summary_statistics.o FitnessLandscape/epistasis_type.o FitnessLandscape/decomposition.o FitnessLandscape/models.o FitnessLandscape/verbose.o ;
ar: creating archive liblandscape.a
ranlib liblandscape.a;
clang -arch x86_64 -O -Wall -o fl_statistics -I/FitnessLandscape/. -L. FitnessLandscape/main_fl_statistics.c -llandscape -lm;
clang -arch x86_64 -O -Wall -o fl_generate -I/FitnessLandscape/. -L. FitnessLandscape/main_fl_generate.c -llandscape -lm;
clang -arch x86_64 -I"/Library/Frameworks/R.framework/Resources/include" -DNDEBUG -I'/Library/Frameworks/R.framework/Versions/4.3-x86_64/Resources/library/Rcpp/include' -I/opt/R/x86_64/include -fPIC -falign-functions=64 -Wall -g -O2 -c OncoSimulR_init.c -o OncoSimulR_init.o
clang++ -arch x86_64 -std=gnu++17 -I"/Library/Frameworks/R.framework/Resources/include" -DNDEBUG -I'/Library/Frameworks/R.framework/Versions/4.3-x86_64/Resources/library/Rcpp/include' -I/opt/R/x86_64/include -fPIC -falign-functions=64 -Wall -g -O2 -c RcppExports.cpp -o RcppExports.o
clang++ -arch x86_64 -std=gnu++17 -I"/Library/Frameworks/R.framework/Resources/include" -DNDEBUG -I'/Library/Frameworks/R.framework/Versions/4.3-x86_64/Resources/library/Rcpp/include' -I/opt/R/x86_64/include -fPIC -falign-functions=64 -Wall -g -O2 -c unity_osimul.cpp -o unity_osimul.o
In file included from unity_osimul.cpp:10:
./UnityOncoSimul/intervention_private_2.cpp:17:10: warning: variable 'totalPop' set but not used [-Wunused-but-set-variable]
double totalPop = 0.0;
^
1 warning generated.
clang++ -arch x86_64 -std=gnu++17 -dynamiclib -Wl,-headerpad_max_install_names -undefined dynamic_lookup -L/Library/Frameworks/R.framework/Resources/lib -L/opt/R/x86_64/lib -o OncoSimulR.so OncoSimulR_init.o RcppExports.o unity_osimul.o -F/Library/Frameworks/R.framework/.. -framework R -Wl,-framework -Wl,CoreFoundation
installing via 'install.libs.R' to /Library/Frameworks/R.framework/Versions/4.3-x86_64/Resources/library/00LOCK-OncoSimulR/00new/OncoSimulR
[1] ""
Installing fl_statistics fl_generate to /Library/Frameworks/R.framework/Versions/4.3-x86_64/Resources/library/00LOCK-OncoSimulR/00new/OncoSimulR/exec
Installing library OncoSimulR.so to /Library/Frameworks/R.framework/Versions/4.3-x86_64/Resources/library/00LOCK-OncoSimulR/00new/OncoSimulR/libs
** R
** data
** inst
** byte-compile and prepare package for lazy loading
** help
*** installing help indices
** building package indices
** installing vignettes
** testing if installed package can be loaded from temporary location
** checking absolute paths in shared objects and dynamic libraries
** testing if installed package can be loaded from final location
** testing if installed package keeps a record of temporary installation path
* DONE (OncoSimulR)
OncoSimulR.Rcheck/tests/testthat.Rout
R version 4.3.2 Patched (2023-11-01 r85457) -- "Eye Holes"
Copyright (C) 2023 The R Foundation for Statistical Computing
Platform: x86_64-apple-darwin20 (64-bit)
R is free software and comes with ABSOLUTELY NO WARRANTY.
You are welcome to redistribute it under certain conditions.
Type 'license()' or 'licence()' for distribution details.
R is a collaborative project with many contributors.
Type 'contributors()' for more information and
'citation()' on how to cite R or R packages in publications.
Type 'demo()' for some demos, 'help()' for on-line help, or
'help.start()' for an HTML browser interface to help.
Type 'q()' to quit R.
> library(testthat)
> library(OncoSimulR)
>
> test_check("OncoSimulR")
Starting FDF-letter-fitness-order Sun Mar 3 22:20:02 2024
exprtk parser error:
Error[00] Position: 00 Type: [ Syntax Error] Msg: ERR202 - Undefined symbol: 'n_2_3' Expression: n_2_3
exprtk parser error:
Error[00] Position: 00 Type: [ Syntax Error] Msg: ERR202 - Undefined symbol: 'f_2_3' Expression: f_2_3
Ending FDF-small-fitness-specs Sun Mar 3 22:20:02 2024
Took 0.51
Starting LOD_POM at Sun Mar 3 22:20:03 2024
Ending LOD_POM at Sun Mar 3 22:20:24 2024
Took 21.59
Starting test.Z-all-fitness at Sun Mar 3 22:20:24 2024
Ending test.Z-all-fitness at Sun Mar 3 22:20:24 2024
Took 0.14
Starting test.Z-driver-counts at Sun Mar 3 22:20:24 2024
Ending test.Z-driver-counts at Sun Mar 3 22:20:24 2024
Took 0.21
Starting test.Z-fixation at Sun Mar 3 22:20:24 2024
Ending test.Z-fixation at Sun Mar 3 22:20:25 2024
Took 0.9
Starting test.Z-magellan at Sun Mar 3 22:20:25 2024
Ended test.Z-magellan at Sun Mar 3 22:20:27 2024
Starting test.Z-mutator at Sun Mar 3 22:20:27 2024
Ending test.Z-mutator at Sun Mar 3 22:20:28 2024
Took 0.39
Starting test.Z-mutatorFDF at Sun Mar 3 22:20:28 2024
Ending test.Z-mutatorFDF at Sun Mar 3 22:20:28 2024
Took 0.13
Starting test.Z-oncoSimulIndiv at Sun Mar 3 22:20:28 2024
Ending test.Z-oncoSimulIndiv at Sun Mar 3 22:20:30 2024
Took 1.78
Starting test.Z-oncoSimulIndivConstant at Sun Mar 3 22:20:30 2024
Ending test.Z-oncoSimulIndivConstant at Sun Mar 3 22:20:33 2024
Took 3.04
Starting test.Z-oncoSimulIndivDeath at Sun Mar 3 22:20:33 2024
Ending test.Z-oncoSimulIndivDeath at Sun Mar 3 22:20:34 2024
Took 1.08
Starting test.Z-oncoSimulIndivFDF at Sun Mar 3 22:20:34 2024
Hitted wall time. Exiting.
Hitting wall time is regarded as an error.
Ending test.Z-oncoSimulIndivFDF at Sun Mar 3 22:20:35 2024
Took 0.7
Starting test.Z-rfitness-landscape at Sun Mar 3 22:20:35 2024
Ending test.Z-rfitness-landscape at Sun Mar 3 22:20:35 2024
Took 0.24
Starting Z-sample-only-last tests Sun Mar 3 22:20:35 2024
Ending Z-sample-only-last tests Sun Mar 3 22:20:35 2024
Took 0
Starting Z-total-present-drivers tests Sun Mar 3 22:20:35 2024
Ending Z-total-present-drivers tests Sun Mar 3 22:20:36 2024
Took 1.46
Dummy empty test Sun Mar 3 22:20:36 2024
Starting accessible_genotypes at Sun Mar 3 22:20:36 2024
Ending accessible_genotypes at Sun Mar 3 22:20:45 2024
Took 8.7
Starting all fitness at Sun Mar 3 22:20:45 2024
Ending all-fitness at Sun Mar 3 22:20:51 2024
Took 5.54
Starting test.allFitnessEffectsFDF at Sun Mar 3 22:20:51 2024
Ending test.allFitnessEffectsFDF at Sun Mar 3 22:20:51 2024
Took 0.13
Starting test.allFitnessEffectsDeath at Sun Mar 3 22:20:51 2024
Ending test.allFitnessEffectsDeath at Sun Mar 3 22:20:51 2024
Took 0.47
Starting test.allFitnessEffectsFDF at Sun Mar 3 22:20:51 2024
Ending test.allFitnessEffectsFDF at Sun Mar 3 22:20:52 2024
Took 0.45
Starting driverCounts at Sun Mar 3 22:20:52 2024
Ending driverCounts at Sun Mar 3 22:21:07 2024
Took 15.61
Starting epist-order-modules at Sun Mar 3 22:21:07 2024
Ending epist-order-modules at Sun Mar 3 22:21:07 2024
Took 0.07
Starting test.evaluatingGenotypesDeath at Sun Mar 3 22:21:07 2024
Ending test.evaluatingGenotypesDeath at Sun Mar 3 22:21:08 2024
Took 0.21
Starting test.evaluatingGenotypesFDF at Sun Mar 3 22:21:08 2024
Ending test.evaluatingGenotypesFDF at Sun Mar 3 22:21:08 2024
Took 0.22
Starting exercise-plotting-code at Sun Mar 3 22:21:08 2024
Ending exercise-plotting-code at Sun Mar 3 22:21:16 2024
Took 7.84
Starting exercise-rfitness at Sun Mar 3 22:21:16 2024
Ending exercise-rfitness at Sun Mar 3 22:21:28 2024
Took 12.32
Starting to_Magella at Sun Mar 3 22:21:28 2024
Ending to_Magella at Sun Mar 3 22:21:28 2024
Took 0.04
Starting fitness preds at Sun Mar 3 22:21:28 2024
Observed vs expected, case III
done tries 1
Ending fitness preds long at Sun Mar 3 22:21:46 2024
Took 17.96
Starting fixation at Sun Mar 3 22:21:46 2024
Ending fixation at Sun Mar 3 22:22:26 2024
Took 40.15
Starting test.flfast-additional.R test at Sun Mar 3 22:22:26 2024
DEBUG2: Value of rnb = nan
DEBUG2: Value of m = 1
DEBUG2: Value of pe = 0
DEBUG2: Value of pm = 0.999998
this is spP
popSize = 1
birth = 1
death = 0
W = 1.00001
R = 1.00001
mutation = 6e-06
timeLastUpdate = 5.72074
absfitness = -inf
numMutablePos = 6
Unrecoverable exception: Algo 2: retval not finite. Aborting.
Ending test.flfast-additional.R test at Sun Mar 3 22:22:27 2024
Took 1.29
Starting test.flfast-mutator.R test at Sun Mar 3 22:22:27 2024
Finished test.flfast-mutator.R test at Sun Mar 3 22:22:30 2024
Took 2.84
Starting genotFitness at Sun Mar 3 22:22:30 2024
Ending genotFitness at Sun Mar 3 22:22:30 2024
Took 0.21
Starting genot_fitness_to_epistasis at Sun Mar 3 22:22:30 2024
Ending genot_fitness_to_epistasis at Sun Mar 3 22:22:31 2024
Took 0.04
Starting init-mutant tests Sun Mar 3 22:22:31 2024
exprtk parser error:
Error[00] Position: 18 Type: [ Syntax Error] Msg: ERR202 - Undefined symbol: 'f_2' Expression: 1.1 + 0.7*((f_1 + f_2) > 0.3)
Ending init-mutant tests Sun Mar 3 22:22:42 2024
Took 11.45
Starting interventions tests Sun Mar 3 22:22:42 2024
[1] "Checking intervention: intOverA"
[1] "Checking intervention: intOverA"
[1] "Checking intervention: intOverA"
[1] "Checking intervention: intOverA"
[1] "Checking intervention: intOverMultiplicatesA"
In intervention:intOverMultiplicatesA with WhatHappens: n_1 = n_1 * 2. You cannot intervene to generate more population.[1] "Checking intervention: intOverA"
[1] "Checking intervention: intOverA"
[1] "Checking intervention: intOverTotPop"
[1] 0.56 0.56 0.56
[1] "Checking intervention: intOverTotPop"
[1] "Checking intervention: intOverA"
[1] "Checking intervention: intOverB"
[1] "Checking intervention: intOverC"
[1] "Checking intervention: intOverD"
Init Mutant with birth == 1.0
Init Mutant with birth == 1.0
[1] "Checking intervention: intOverA"
[1] "Checking intervention: intOverB"
[1] "Checking intervention: intOverC"
[1] "Checking intervention: intOverD"
Init Mutant with birth == 1.0
Init Mutant with birth == 1.0
[1] "Checking user variable: user_var_1"
[1] "Checking rule: rule_1"
[1] "Checking rule: rule_2"
[1] "Checking rule: rule_3"
[1] "Checking intervention: intOverTotPop"
[1] "Checking intervention: intOverTotPop2"
[1] "Checking intervention: intOverTotPop3"
[1] "Checking user variable: user_var_1"
[1] "Checking rule: rule_1"
[1] "Checking rule: rule_2"
[1] "Checking rule: rule_3"
[1] "Checking intervention: intOverTotPop"
Ending interventions tests Sun Mar 3 22:22:47 2024
Took 5.02
Starting test.magellan at Sun Mar 3 22:22:47 2024
Ending test.magellan at Sun Mar 3 22:22:47 2024
Took 0.28
Starting test.modules-root-no-root at Sun Mar 3 22:22:47 2024
Ending test.modules-root-no-root at Sun Mar 3 22:22:47 2024
Took 0.09
Starting at mutPropGrowth Sun Mar 3 22:22:47 2024
Ended test.mutPropGrowth: Sun Mar 3 22:23:25 2024
Took 37.78
Starting test.mutator-oncoSimulSample.R test at Sun Mar 3 22:23:25 2024
Finished test.mutator-oncoSimulSample.R test at Sun Mar 3 22:23:40 2024
Took 14.84 seconds
Starting test.mutator.R test at Sun Mar 3 22:23:40 2024[1] 2.292279e-08
[1] 6.403879e-13
Finished test.mutator.R test at Sun Mar 3 22:24:35 2024
Took 55.13
Starting test.mutatorFDF.R test at Sun Mar 3 22:24:35 2024
Starting test.no-v1 at Sun Mar 3 22:24:36 2024
Ending test.no-v1 at Sun Mar 3 22:24:36 2024
Took 0.01
Starting oncoSimulIndiv-miscell tests Sun Mar 3 22:24:36 2024
Ending oncoSimulIndiv-miscell tests Sun Mar 3 22:24:50 2024
Took 13.89
Starting oncoSimulSample-failures tests Sun Mar 3 22:24:50 2024
Ending oncoSimulSample-failures tests Sun Mar 3 22:24:55 2024
Took 4.81
Starting oncoSimulSample-limits tests Sun Mar 3 22:24:55 2024
Ending oncoSimulSample-limits tests Sun Mar 3 22:24:55 2024
Took 0.19
Starting per-gene-mutation rates at Sun Mar 3 22:24:55 2024
Ending per-gene-mutation rates at Sun Mar 3 22:26:53 2024
Took 118.16
Starting plotFitnessLandscape at Sun Mar 3 22:26:53 2024
Ending plotFitnessLandscape at Sun Mar 3 22:27:02 2024
Took 8.62
Starting poset-transformations tests Sun Mar 3 22:27:02 2024
Ending poset-transformations tests Sun Mar 3 22:27:19 2024
Took 17.15
Starting sample-prob Sun Mar 3 22:27:19 2024
[1] 8.395344e-31
[1] 1.80343e-14
[1] 3.408134e-07
[1] 1.165782e-11
[1] 5.586651e-14
[1] 2.177992e-15
[1] 3.41843e-11
[1] 2.922743e-14
[1] 2.87614e-09
[1] 3.5929e-10
[1] 1.958866e-07
[1] 1.450144e-09
Ending sample-prob tests Sun Mar 3 22:27:36 2024
Took 16.7
Starting samplePop tests Sun Mar 3 22:27:36 2024
Ending samplePop tests Sun Mar 3 22:28:00 2024
Took 24.08
Starting simuls-runs-examples tests Sun Mar 3 22:28:00 2024
Ending simuls-runs-examples tests Sun Mar 3 22:28:28 2024
Took 28.35
Starting user variable tests Sun Mar 3 22:28:28 2024
[1] "Checking user variable: user_var_1"
[1] "Checking rule: rule_1"
Ending user variable tests Sun Mar 3 22:28:28 2024
Took 0.09
Starting warning-mutPropGrowth tests Sun Mar 3 22:28:28 2024
Ending warning-mutPropGrowth tests Sun Mar 3 22:28:29 2024
Took 0.78
Starting wide2long tests Sun Mar 3 22:28:29 2024
Ending wide2long tests Sun Mar 3 22:28:30 2024
Took 0.49
[ FAIL 0 | WARN 18 | SKIP 7 | PASS 8414 ]
══ Skipped tests (7) ═══════════════════════════════════════════════════════════
• On Mac (2): 'test.Z-magellan.R:664:5', 'test.Z-oncoSimulIndivFDF.R:125:3'
• empty test (5): 'test.FDF-letter-fitness-order.R:376:1',
'test.ZZ-dummy-skip-warn-test.R:8:1', 'test.ZZ-dummy-skip-warn-test.R:12:1',
'test.fixation.R:4:1', 'test.init-mutant.R:1097:1'
[ FAIL 0 | WARN 18 | SKIP 7 | PASS 8414 ]
>
> proc.time()
user system elapsed
396.017 151.770 513.064
OncoSimulR.Rcheck/OncoSimulR-Ex.timings
| name | user | system | elapsed | |
| OncoSimulWide2Long | 0.542 | 0.139 | 0.690 | |
| POM | 0.882 | 0.202 | 0.674 | |
| allFitnessEffects | 1.771 | 0.081 | 1.879 | |
| benchmarks | 0.009 | 0.005 | 0.014 | |
| createInterventions | 0.315 | 0.015 | 0.334 | |
| createUserVars | 0.486 | 0.023 | 0.518 | |
| evalAllGenotypes | 0.206 | 0.014 | 0.223 | |
| example-missing-drivers | 0.214 | 0.015 | 0.233 | |
| examplePosets | 0.314 | 0.009 | 0.326 | |
| examplesFitnessEffects | 0.049 | 0.005 | 0.054 | |
| freq-dep-simul-examples | 0.008 | 0.003 | 0.011 | |
| mcfLs | 0.001 | 0.000 | 0.000 | |
| oncoSimulIndiv | 1.573 | 0.431 | 1.967 | |
| plot.fitnessEffects | 0.264 | 0.030 | 0.301 | |
| plot.oncosimul | 0.782 | 0.102 | 0.911 | |
| plotClonePhylog | 2.666 | 0.243 | 2.947 | |
| plotFitnessLandscape | 1.136 | 0.022 | 1.173 | |
| plotPoset | 0.094 | 0.007 | 0.104 | |
| poset | 0.125 | 0.007 | 0.134 | |
| rfitness | 0.572 | 0.015 | 0.607 | |
| samplePop | 0.062 | 0.082 | 0.112 | |
| simOGraph | 0.079 | 0.021 | 0.102 | |
| to_Magellan | 0.199 | 0.071 | 0.358 | |
| vignette_pre_computed | 0.007 | 0.003 | 0.011 | |