| Back to Multiple platform build/check report for BioC 3.18: simplified long |
|
This page was generated on 2024-04-17 11:36:12 -0400 (Wed, 17 Apr 2024).
| Hostname | OS | Arch (*) | R version | Installed pkgs |
|---|---|---|---|---|
| nebbiolo2 | Linux (Ubuntu 22.04.3 LTS) | x86_64 | 4.3.3 (2024-02-29) -- "Angel Food Cake" | 4676 |
| palomino4 | Windows Server 2022 Datacenter | x64 | 4.3.3 (2024-02-29 ucrt) -- "Angel Food Cake" | 4414 |
| merida1 | macOS 12.7.1 Monterey | x86_64 | 4.3.3 (2024-02-29) -- "Angel Food Cake" | 4437 |
| Click on any hostname to see more info about the system (e.g. compilers) (*) as reported by 'uname -p', except on Windows and Mac OS X | ||||
| Package 1457/2266 | Hostname | OS / Arch | INSTALL | BUILD | CHECK | BUILD BIN | ||||||||
| OncoSimulR 4.4.0 (landing page) Ramon Diaz-Uriarte
| nebbiolo2 | Linux (Ubuntu 22.04.3 LTS) / x86_64 | OK | OK | OK | |||||||||
| palomino4 | Windows Server 2022 Datacenter / x64 | OK | OK | OK | OK | |||||||||
| merida1 | macOS 12.7.1 Monterey / x86_64 | OK | OK | OK | OK | |||||||||
| kjohnson1 | macOS 13.6.1 Ventura / arm64 | see weekly results here | ||||||||||||
|
To the developers/maintainers of the OncoSimulR package: - Allow up to 24 hours (and sometimes 48 hours) for your latest push to git@git.bioconductor.org:packages/OncoSimulR.git to reflect on this report. See Troubleshooting Build Report for more information. - Use the following Renviron settings to reproduce errors and warnings. - If 'R CMD check' started to fail recently on the Linux builder(s) over a missing dependency, add the missing dependency to 'Suggests:' in your DESCRIPTION file. See Renviron.bioc for more information. |
| Package: OncoSimulR |
| Version: 4.4.0 |
| Command: /home/biocbuild/bbs-3.18-bioc/R/bin/R CMD check --install=check:OncoSimulR.install-out.txt --library=/home/biocbuild/bbs-3.18-bioc/R/site-library --timings OncoSimulR_4.4.0.tar.gz |
| StartedAt: 2024-04-16 01:45:43 -0400 (Tue, 16 Apr 2024) |
| EndedAt: 2024-04-16 02:00:27 -0400 (Tue, 16 Apr 2024) |
| EllapsedTime: 884.2 seconds |
| RetCode: 0 |
| Status: OK |
| CheckDir: OncoSimulR.Rcheck |
| Warnings: 0 |
##############################################################################
##############################################################################
###
### Running command:
###
### /home/biocbuild/bbs-3.18-bioc/R/bin/R CMD check --install=check:OncoSimulR.install-out.txt --library=/home/biocbuild/bbs-3.18-bioc/R/site-library --timings OncoSimulR_4.4.0.tar.gz
###
##############################################################################
##############################################################################
* using log directory ‘/home/biocbuild/bbs-3.18-bioc/meat/OncoSimulR.Rcheck’
* using R version 4.3.3 (2024-02-29)
* using platform: x86_64-pc-linux-gnu (64-bit)
* R was compiled by
gcc (Ubuntu 11.4.0-1ubuntu1~22.04) 11.4.0
GNU Fortran (Ubuntu 11.4.0-1ubuntu1~22.04) 11.4.0
* running under: Ubuntu 22.04.4 LTS
* using session charset: UTF-8
* checking for file ‘OncoSimulR/DESCRIPTION’ ... OK
* checking extension type ... Package
* this is package ‘OncoSimulR’ version ‘4.4.0’
* checking package namespace information ... OK
* checking package dependencies ... OK
* checking if this is a source package ... OK
* checking if there is a namespace ... OK
* checking for hidden files and directories ... OK
* checking for portable file names ... OK
* checking for sufficient/correct file permissions ... OK
* checking whether package ‘OncoSimulR’ can be installed ... OK
* used C compiler: ‘gcc (Ubuntu 11.4.0-1ubuntu1~22.04) 11.4.0’
* used C++ compiler: ‘g++ (Ubuntu 11.4.0-1ubuntu1~22.04) 11.4.0’
* checking installed package size ... NOTE
installed size is 45.4Mb
sub-directories of 1Mb or more:
libs 43.7Mb
* checking package directory ... OK
* checking ‘build’ directory ... OK
* checking DESCRIPTION meta-information ... OK
* checking top-level files ... OK
* checking for left-over files ... OK
* checking index information ... OK
* checking package subdirectories ... OK
* checking R files for non-ASCII characters ... OK
* checking R files for syntax errors ... OK
* checking whether the package can be loaded ... OK
* checking whether the package can be loaded with stated dependencies ... OK
* checking whether the package can be unloaded cleanly ... OK
* checking whether the namespace can be loaded with stated dependencies ... OK
* checking whether the namespace can be unloaded cleanly ... OK
* checking loading without being on the library search path ... OK
* checking dependencies in R code ... OK
* checking S3 generic/method consistency ... OK
* checking replacement functions ... OK
* checking foreign function calls ... OK
* checking R code for possible problems ... OK
* checking Rd files ... OK
* checking Rd metadata ... OK
* checking Rd cross-references ... OK
* checking for missing documentation entries ... OK
* checking for code/documentation mismatches ... OK
* checking Rd \usage sections ... OK
* checking Rd contents ... OK
* checking for unstated dependencies in examples ... OK
* checking contents of ‘data’ directory ... OK
* checking data for non-ASCII characters ... OK
* checking data for ASCII and uncompressed saves ... OK
* checking line endings in C/C++/Fortran sources/headers ... OK
* checking line endings in Makefiles ... OK
* checking compilation flags in Makevars ... OK
* checking for GNU extensions in Makefiles ... OK
* checking for portable use of $(BLAS_LIBS) and $(LAPACK_LIBS) ... OK
* checking use of PKG_*FLAGS in Makefiles ... OK
* checking include directives in Makefiles ... OK
* checking compiled code ... NOTE
Note: information on .o files is not available
* checking files in ‘vignettes’ ... OK
* checking examples ... OK
* checking for unstated dependencies in ‘tests’ ... OK
* checking tests ...
Running ‘testthat.R’
OK
* checking for unstated dependencies in vignettes ... OK
* checking package vignettes in ‘inst/doc’ ... OK
* checking running R code from vignettes ...
‘OncoSimulR.Rmd’ using ‘UTF-8’... OK
OK
* checking re-building of vignette outputs ... OK
* checking PDF version of manual ... OK
* DONE
Status: 2 NOTEs
See
‘/home/biocbuild/bbs-3.18-bioc/meat/OncoSimulR.Rcheck/00check.log’
for details.
OncoSimulR.Rcheck/00install.out
############################################################################## ############################################################################## ### ### Running command: ### ### /home/biocbuild/bbs-3.18-bioc/R/bin/R CMD INSTALL OncoSimulR ### ############################################################################## ############################################################################## * installing to library ‘/home/biocbuild/bbs-3.18-bioc/R/site-library’ * installing *source* package ‘OncoSimulR’ ... ** using staged installation ** libs using C compiler: ‘gcc (Ubuntu 11.4.0-1ubuntu1~22.04) 11.4.0’ using C++ compiler: ‘g++ (Ubuntu 11.4.0-1ubuntu1~22.04) 11.4.0’ gcc -I"/home/biocbuild/bbs-3.18-bioc/R/include" -DNDEBUG -I'/home/biocbuild/bbs-3.18-bioc/R/site-library/Rcpp/include' -I/usr/local/include -fpic -g -O2 -Wall -c FitnessLandscape/gamma.c -o FitnessLandscape/gamma.o gcc -I"/home/biocbuild/bbs-3.18-bioc/R/include" -DNDEBUG -I'/home/biocbuild/bbs-3.18-bioc/R/site-library/Rcpp/include' -I/usr/local/include -fpic -g -O2 -Wall -c FitnessLandscape/landscape.c -o FitnessLandscape/landscape.o gcc -I"/home/biocbuild/bbs-3.18-bioc/R/include" -DNDEBUG -I'/home/biocbuild/bbs-3.18-bioc/R/site-library/Rcpp/include' -I/usr/local/include -fpic -g -O2 -Wall -c FitnessLandscape/random.c -o FitnessLandscape/random.o gcc -I"/home/biocbuild/bbs-3.18-bioc/R/include" -DNDEBUG -I'/home/biocbuild/bbs-3.18-bioc/R/site-library/Rcpp/include' -I/usr/local/include -fpic -g -O2 -Wall -c FitnessLandscape/sort.c -o FitnessLandscape/sort.o gcc -I"/home/biocbuild/bbs-3.18-bioc/R/include" -DNDEBUG -I'/home/biocbuild/bbs-3.18-bioc/R/site-library/Rcpp/include' -I/usr/local/include -fpic -g -O2 -Wall -c FitnessLandscape/chain.c -o FitnessLandscape/chain.o gcc -I"/home/biocbuild/bbs-3.18-bioc/R/include" -DNDEBUG -I'/home/biocbuild/bbs-3.18-bioc/R/site-library/Rcpp/include' -I/usr/local/include -fpic -g -O2 -Wall -c FitnessLandscape/input.c -o FitnessLandscape/input.o gcc -I"/home/biocbuild/bbs-3.18-bioc/R/include" -DNDEBUG -I'/home/biocbuild/bbs-3.18-bioc/R/site-library/Rcpp/include' -I/usr/local/include -fpic -g -O2 -Wall -c FitnessLandscape/genotypes.c -o FitnessLandscape/genotypes.o gcc -I"/home/biocbuild/bbs-3.18-bioc/R/include" -DNDEBUG -I'/home/biocbuild/bbs-3.18-bioc/R/site-library/Rcpp/include' -I/usr/local/include -fpic -g -O2 -Wall -c FitnessLandscape/ordered_pairs.c -o FitnessLandscape/ordered_pairs.o gcc -I"/home/biocbuild/bbs-3.18-bioc/R/include" -DNDEBUG -I'/home/biocbuild/bbs-3.18-bioc/R/site-library/Rcpp/include' -I/usr/local/include -fpic -g -O2 -Wall -c FitnessLandscape/calculus.c -o FitnessLandscape/calculus.o gcc -I"/home/biocbuild/bbs-3.18-bioc/R/include" -DNDEBUG -I'/home/biocbuild/bbs-3.18-bioc/R/site-library/Rcpp/include' -I/usr/local/include -fpic -g -O2 -Wall -c FitnessLandscape/vector.c -o FitnessLandscape/vector.o gcc -I"/home/biocbuild/bbs-3.18-bioc/R/include" -DNDEBUG -I'/home/biocbuild/bbs-3.18-bioc/R/site-library/Rcpp/include' -I/usr/local/include -fpic -g -O2 -Wall -c FitnessLandscape/generalized_chain.c -o FitnessLandscape/generalized_chain.o gcc -I"/home/biocbuild/bbs-3.18-bioc/R/include" -DNDEBUG -I'/home/biocbuild/bbs-3.18-bioc/R/site-library/Rcpp/include' -I/usr/local/include -fpic -g -O2 -Wall -c FitnessLandscape/LinearAlgebra.c -o FitnessLandscape/LinearAlgebra.o gcc -I"/home/biocbuild/bbs-3.18-bioc/R/include" -DNDEBUG -I'/home/biocbuild/bbs-3.18-bioc/R/site-library/Rcpp/include' -I/usr/local/include -fpic -g -O2 -Wall -c FitnessLandscape/summary_statistics.c -o FitnessLandscape/summary_statistics.o gcc -I"/home/biocbuild/bbs-3.18-bioc/R/include" -DNDEBUG -I'/home/biocbuild/bbs-3.18-bioc/R/site-library/Rcpp/include' -I/usr/local/include -fpic -g -O2 -Wall -c FitnessLandscape/epistasis_type.c -o FitnessLandscape/epistasis_type.o gcc -I"/home/biocbuild/bbs-3.18-bioc/R/include" -DNDEBUG -I'/home/biocbuild/bbs-3.18-bioc/R/site-library/Rcpp/include' -I/usr/local/include -fpic -g -O2 -Wall -c FitnessLandscape/decomposition.c -o FitnessLandscape/decomposition.o gcc -I"/home/biocbuild/bbs-3.18-bioc/R/include" -DNDEBUG -I'/home/biocbuild/bbs-3.18-bioc/R/site-library/Rcpp/include' -I/usr/local/include -fpic -g -O2 -Wall -c FitnessLandscape/models.c -o FitnessLandscape/models.o gcc -I"/home/biocbuild/bbs-3.18-bioc/R/include" -DNDEBUG -I'/home/biocbuild/bbs-3.18-bioc/R/site-library/Rcpp/include' -I/usr/local/include -fpic -g -O2 -Wall -c FitnessLandscape/verbose.c -o FitnessLandscape/verbose.o ar -r liblandscape.a FitnessLandscape/gamma.o FitnessLandscape/landscape.o FitnessLandscape/random.o FitnessLandscape/sort.o FitnessLandscape/chain.o FitnessLandscape/input.o FitnessLandscape/genotypes.o FitnessLandscape/ordered_pairs.o FitnessLandscape/calculus.o FitnessLandscape/vector.o FitnessLandscape/generalized_chain.o FitnessLandscape/LinearAlgebra.o FitnessLandscape/summary_statistics.o FitnessLandscape/epistasis_type.o FitnessLandscape/decomposition.o FitnessLandscape/models.o FitnessLandscape/verbose.o ; ar: creating liblandscape.a ranlib liblandscape.a; gcc -O -Wall -o fl_statistics -I/FitnessLandscape/. -L. FitnessLandscape/main_fl_statistics.c -llandscape -lm; gcc -O -Wall -o fl_generate -I/FitnessLandscape/. -L. FitnessLandscape/main_fl_generate.c -llandscape -lm; gcc -I"/home/biocbuild/bbs-3.18-bioc/R/include" -DNDEBUG -I'/home/biocbuild/bbs-3.18-bioc/R/site-library/Rcpp/include' -I/usr/local/include -fpic -g -O2 -Wall -c OncoSimulR_init.c -o OncoSimulR_init.o g++ -std=gnu++17 -I"/home/biocbuild/bbs-3.18-bioc/R/include" -DNDEBUG -I'/home/biocbuild/bbs-3.18-bioc/R/site-library/Rcpp/include' -I/usr/local/include -fpic -g -O2 -Wall -c RcppExports.cpp -o RcppExports.o g++ -std=gnu++17 -I"/home/biocbuild/bbs-3.18-bioc/R/include" -DNDEBUG -I'/home/biocbuild/bbs-3.18-bioc/R/site-library/Rcpp/include' -I/usr/local/include -fpic -g -O2 -Wall -c unity_osimul.cpp -o unity_osimul.o g++ -std=gnu++17 -shared -L/home/biocbuild/bbs-3.18-bioc/R/lib -L/usr/local/lib -o OncoSimulR.so OncoSimulR_init.o RcppExports.o unity_osimul.o -L/home/biocbuild/bbs-3.18-bioc/R/lib -lR installing via 'install.libs.R' to /home/biocbuild/bbs-3.18-bioc/R/site-library/00LOCK-OncoSimulR/00new/OncoSimulR [1] "" Installing fl_statistics fl_generate to /home/biocbuild/bbs-3.18-bioc/R/site-library/00LOCK-OncoSimulR/00new/OncoSimulR/exec Installing library OncoSimulR.so to /home/biocbuild/bbs-3.18-bioc/R/site-library/00LOCK-OncoSimulR/00new/OncoSimulR/libs ** R ** data ** inst ** byte-compile and prepare package for lazy loading ** help *** installing help indices ** building package indices ** installing vignettes ** testing if installed package can be loaded from temporary location ** checking absolute paths in shared objects and dynamic libraries ** testing if installed package can be loaded from final location ** testing if installed package keeps a record of temporary installation path * DONE (OncoSimulR)
OncoSimulR.Rcheck/tests/testthat.Rout
R version 4.3.3 (2024-02-29) -- "Angel Food Cake"
Copyright (C) 2024 The R Foundation for Statistical Computing
Platform: x86_64-pc-linux-gnu (64-bit)
R is free software and comes with ABSOLUTELY NO WARRANTY.
You are welcome to redistribute it under certain conditions.
Type 'license()' or 'licence()' for distribution details.
R is a collaborative project with many contributors.
Type 'contributors()' for more information and
'citation()' on how to cite R or R packages in publications.
Type 'demo()' for some demos, 'help()' for on-line help, or
'help.start()' for an HTML browser interface to help.
Type 'q()' to quit R.
> library(testthat)
> library(OncoSimulR)
>
> test_check("OncoSimulR")
Starting FDF-letter-fitness-order Tue Apr 16 01:47:32 2024
exprtk parser error:
Error[00] Position: 00 Type: [ Syntax Error] Msg: ERR202 - Undefined symbol: 'n_2_3' Expression: n_2_3
exprtk parser error:
Error[00] Position: 00 Type: [ Syntax Error] Msg: ERR202 - Undefined symbol: 'f_2_3' Expression: f_2_3
Ending FDF-small-fitness-specs Tue Apr 16 01:47:33 2024
Took 0.86
Starting LOD_POM at Tue Apr 16 01:47:33 2024
Ending LOD_POM at Tue Apr 16 01:47:56 2024
Took 22.8
Starting test.Z-all-fitness at Tue Apr 16 01:47:56 2024
Ending test.Z-all-fitness at Tue Apr 16 01:47:56 2024
Took 0.25
Starting test.Z-driver-counts at Tue Apr 16 01:47:56 2024
Ending test.Z-driver-counts at Tue Apr 16 01:47:57 2024
Took 0.42
Starting test.Z-fixation at Tue Apr 16 01:47:57 2024
Ending test.Z-fixation at Tue Apr 16 01:47:58 2024
Took 1.59
Starting test.Z-magellan at Tue Apr 16 01:47:58 2024
Ended test.Z-magellan at Tue Apr 16 01:48:01 2024
Starting test.Z-mutator at Tue Apr 16 01:48:01 2024
Ending test.Z-mutator at Tue Apr 16 01:48:02 2024
Took 0.92
Starting test.Z-mutatorFDF at Tue Apr 16 01:48:02 2024
Ending test.Z-mutatorFDF at Tue Apr 16 01:48:02 2024
Took 0.2
Starting test.Z-oncoSimulIndiv at Tue Apr 16 01:48:02 2024
Ending test.Z-oncoSimulIndiv at Tue Apr 16 01:48:05 2024
Took 3.21
Starting test.Z-oncoSimulIndivConstant at Tue Apr 16 01:48:05 2024
Ending test.Z-oncoSimulIndivConstant at Tue Apr 16 01:48:09 2024
Took 3.8
Starting test.Z-oncoSimulIndivDeath at Tue Apr 16 01:48:09 2024
Ending test.Z-oncoSimulIndivDeath at Tue Apr 16 01:48:11 2024
Took 1.61
Starting test.Z-oncoSimulIndivFDF at Tue Apr 16 01:48:11 2024
Hitted wall time. Exiting.
Hitting wall time is regarded as an error.
Ending test.Z-oncoSimulIndivFDF at Tue Apr 16 01:48:12 2024
Took 0.71
Starting test.Z-rfitness-landscape at Tue Apr 16 01:48:12 2024
Ending test.Z-rfitness-landscape at Tue Apr 16 01:48:12 2024
Took 0.19
Starting Z-sample-only-last tests Tue Apr 16 01:48:12 2024
Ending Z-sample-only-last tests Tue Apr 16 01:48:12 2024
Took 0
Starting Z-total-present-drivers tests Tue Apr 16 01:48:12 2024
Ending Z-total-present-drivers tests Tue Apr 16 01:48:14 2024
Took 1.82
Dummy empty test Tue Apr 16 01:48:14 2024
Starting accessible_genotypes at Tue Apr 16 01:48:14 2024
Ending accessible_genotypes at Tue Apr 16 01:48:30 2024
Took 16.39
Starting all fitness at Tue Apr 16 01:48:30 2024
Ending all-fitness at Tue Apr 16 01:48:37 2024
Took 7.3
Starting test.allFitnessEffectsFDF at Tue Apr 16 01:48:37 2024
Ending test.allFitnessEffectsFDF at Tue Apr 16 01:48:38 2024
Took 0.19
Starting test.allFitnessEffectsDeath at Tue Apr 16 01:48:38 2024
Ending test.allFitnessEffectsDeath at Tue Apr 16 01:48:38 2024
Took 0.39
Starting test.allFitnessEffectsFDF at Tue Apr 16 01:48:38 2024
Ending test.allFitnessEffectsFDF at Tue Apr 16 01:48:39 2024
Took 0.61
Starting driverCounts at Tue Apr 16 01:48:39 2024
Ending driverCounts at Tue Apr 16 01:48:56 2024
Took 17.15
Starting epist-order-modules at Tue Apr 16 01:48:56 2024
Ending epist-order-modules at Tue Apr 16 01:48:56 2024
Took 0.11
Starting test.evaluatingGenotypesDeath at Tue Apr 16 01:48:56 2024
Ending test.evaluatingGenotypesDeath at Tue Apr 16 01:48:56 2024
Took 0.3
Starting test.evaluatingGenotypesFDF at Tue Apr 16 01:48:56 2024
Ending test.evaluatingGenotypesFDF at Tue Apr 16 01:48:56 2024
Took 0.36
Starting exercise-plotting-code at Tue Apr 16 01:48:56 2024
Ending exercise-plotting-code at Tue Apr 16 01:49:03 2024
Took 6.95
Starting exercise-rfitness at Tue Apr 16 01:49:03 2024
Ending exercise-rfitness at Tue Apr 16 01:49:17 2024
Took 13.17
Starting to_Magella at Tue Apr 16 01:49:17 2024
Ending to_Magella at Tue Apr 16 01:49:17 2024
Took 0.07
Starting fitness preds at Tue Apr 16 01:49:17 2024
Observed vs expected, case III
done tries 1
Ending fitness preds long at Tue Apr 16 01:49:33 2024
Took 16.1
Starting fixation at Tue Apr 16 01:49:33 2024
Ending fixation at Tue Apr 16 01:50:14 2024
Took 41.14
Starting test.flfast-additional.R test at Tue Apr 16 01:50:14 2024
Ending test.flfast-additional.R test at Tue Apr 16 01:50:17 2024
Took 3.28
Starting test.flfast-mutator.R test at Tue Apr 16 01:50:17 2024
Finished test.flfast-mutator.R test at Tue Apr 16 01:50:21 2024
Took 4.21
Starting genotFitness at Tue Apr 16 01:50:21 2024
Ending genotFitness at Tue Apr 16 01:50:22 2024
Took 0.32
Starting genot_fitness_to_epistasis at Tue Apr 16 01:50:22 2024
Ending genot_fitness_to_epistasis at Tue Apr 16 01:50:22 2024
Took 0.07
Starting init-mutant tests Tue Apr 16 01:50:22 2024
exprtk parser error:
Error[00] Position: 18 Type: [ Syntax Error] Msg: ERR202 - Undefined symbol: 'f_2' Expression: 1.1 + 0.7*((f_1 + f_2) > 0.3)
Ending init-mutant tests Tue Apr 16 01:50:41 2024
Took 19.26
Starting interventions tests Tue Apr 16 01:50:41 2024
[1] "Checking intervention: intOverA"
[1] "Checking intervention: intOverA"
[1] "Checking intervention: intOverA"
[1] "Checking intervention: intOverA"
[1] "Checking intervention: intOverMultiplicatesA"
In intervention:intOverMultiplicatesA with WhatHappens: n_1 = n_1 * 2. You cannot intervene to generate more population.[1] "Checking intervention: intOverA"
[1] "Checking intervention: intOverA"
[1] "Checking intervention: intOverTotPop"
[1] 0.43 0.43 0.43
[1] "Checking intervention: intOverTotPop"
[1] "Checking intervention: intOverA"
[1] "Checking intervention: intOverB"
[1] "Checking intervention: intOverC"
[1] "Checking intervention: intOverD"
Init Mutant with birth == 1.0
Init Mutant with birth == 1.0
[1] "Checking intervention: intOverA"
[1] "Checking intervention: intOverB"
[1] "Checking intervention: intOverC"
[1] "Checking intervention: intOverD"
Init Mutant with birth == 1.0
Init Mutant with birth == 1.0
[1] "Checking user variable: user_var_1"
[1] "Checking rule: rule_1"
[1] "Checking rule: rule_2"
[1] "Checking rule: rule_3"
[1] "Checking intervention: intOverTotPop"
[1] "Checking intervention: intOverTotPop2"
[1] "Checking intervention: intOverTotPop3"
[1] "Checking user variable: user_var_1"
[1] "Checking rule: rule_1"
[1] "Checking rule: rule_2"
[1] "Checking rule: rule_3"
[1] "Checking intervention: intOverTotPop"
Ending interventions tests Tue Apr 16 01:50:47 2024
Took 6.21
Starting test.magellan at Tue Apr 16 01:50:47 2024
Ending test.magellan at Tue Apr 16 01:50:48 2024
Took 0.32
Starting test.modules-root-no-root at Tue Apr 16 01:50:48 2024
Ending test.modules-root-no-root at Tue Apr 16 01:50:48 2024
Took 0.24
Starting at mutPropGrowth Tue Apr 16 01:50:48 2024
Ended test.mutPropGrowth: Tue Apr 16 01:51:06 2024
Took 18.23
Starting test.mutator-oncoSimulSample.R test at Tue Apr 16 01:51:06 2024
Finished test.mutator-oncoSimulSample.R test at Tue Apr 16 01:51:24 2024
Took 18.07 seconds
Starting test.mutator.R test at Tue Apr 16 01:51:24 2024[1] 7.639706e-09
[1] 2.766751e-16
Finished test.mutator.R test at Tue Apr 16 01:51:48 2024
Took 23.59
Starting test.mutatorFDF.R test at Tue Apr 16 01:51:48 2024
Starting test.no-v1 at Tue Apr 16 01:51:49 2024
Ending test.no-v1 at Tue Apr 16 01:51:49 2024
Took 0.02
Starting oncoSimulIndiv-miscell tests Tue Apr 16 01:51:49 2024
Ending oncoSimulIndiv-miscell tests Tue Apr 16 01:52:14 2024
Took 24.8
Starting oncoSimulSample-failures tests Tue Apr 16 01:52:14 2024
Ending oncoSimulSample-failures tests Tue Apr 16 01:52:19 2024
Took 4.68
Starting oncoSimulSample-limits tests Tue Apr 16 01:52:19 2024
Ending oncoSimulSample-limits tests Tue Apr 16 01:52:19 2024
Took 0.11
Starting per-gene-mutation rates at Tue Apr 16 01:52:19 2024
Ending per-gene-mutation rates at Tue Apr 16 01:53:16 2024
Took 57.78
Starting plotFitnessLandscape at Tue Apr 16 01:53:16 2024
Ending plotFitnessLandscape at Tue Apr 16 01:53:23 2024
Took 6.44
Starting poset-transformations tests Tue Apr 16 01:53:23 2024
Ending poset-transformations tests Tue Apr 16 01:53:36 2024
Took 13.15
Starting sample-prob Tue Apr 16 01:53:36 2024
[1] 1.360988e-28
[1] 8.390619e-17
[1] 1.87311e-10
[1] 2.944222e-11
[1] 5.9958e-13
[1] 1.101427e-15
[1] 2.725736e-12
[1] 8.671713e-09
[1] 2.15239e-09
[1] 1.718512e-09
[1] 1.8643e-10
[1] 5.023136e-09
Ending sample-prob tests Tue Apr 16 01:53:54 2024
Took 17.63
Starting samplePop tests Tue Apr 16 01:53:54 2024
Ending samplePop tests Tue Apr 16 01:54:06 2024
Took 11.92
Starting simuls-runs-examples tests Tue Apr 16 01:54:06 2024
Ending simuls-runs-examples tests Tue Apr 16 01:54:36 2024
Took 30.38
Starting user variable tests Tue Apr 16 01:54:36 2024
[1] "Checking user variable: user_var_1"
[1] "Checking rule: rule_1"
Ending user variable tests Tue Apr 16 01:54:36 2024
Took 0.07
Starting warning-mutPropGrowth tests Tue Apr 16 01:54:36 2024
Ending warning-mutPropGrowth tests Tue Apr 16 01:54:37 2024
Took 0.69
Starting wide2long tests Tue Apr 16 01:54:37 2024
Ending wide2long tests Tue Apr 16 01:54:37 2024
Took 0.45
[ FAIL 0 | WARN 18 | SKIP 5 | PASS 8398 ]
══ Skipped tests (5) ═══════════════════════════════════════════════════════════
• empty test (5): 'test.FDF-letter-fitness-order.R:376:1',
'test.ZZ-dummy-skip-warn-test.R:8:1', 'test.ZZ-dummy-skip-warn-test.R:12:1',
'test.fixation.R:4:1', 'test.init-mutant.R:1097:1'
[ FAIL 0 | WARN 18 | SKIP 5 | PASS 8398 ]
>
> proc.time()
user system elapsed
477.621 70.925 431.748
OncoSimulR.Rcheck/OncoSimulR-Ex.timings
| name | user | system | elapsed | |
| OncoSimulWide2Long | 0.612 | 0.057 | 0.672 | |
| POM | 0.488 | 0.060 | 0.352 | |
| allFitnessEffects | 1.488 | 0.024 | 1.516 | |
| benchmarks | 0.008 | 0.000 | 0.007 | |
| createInterventions | 0.297 | 0.000 | 0.297 | |
| createUserVars | 0.446 | 0.000 | 0.446 | |
| evalAllGenotypes | 0.181 | 0.000 | 0.181 | |
| example-missing-drivers | 0.226 | 0.020 | 0.247 | |
| examplePosets | 0.420 | 0.004 | 0.424 | |
| examplesFitnessEffects | 0.071 | 0.004 | 0.075 | |
| freq-dep-simul-examples | 0.012 | 0.000 | 0.012 | |
| mcfLs | 0 | 0 | 0 | |
| oncoSimulIndiv | 1.321 | 0.251 | 1.503 | |
| plot.fitnessEffects | 0.238 | 0.036 | 0.274 | |
| plot.oncosimul | 1.096 | 0.006 | 1.102 | |
| plotClonePhylog | 2.444 | 0.084 | 2.528 | |
| plotFitnessLandscape | 2.230 | 0.172 | 2.402 | |
| plotPoset | 0.201 | 0.012 | 0.213 | |
| poset | 0.235 | 0.000 | 0.234 | |
| rfitness | 1.331 | 0.012 | 1.344 | |
| samplePop | 0.076 | 0.091 | 0.169 | |
| simOGraph | 0.13 | 0.08 | 0.14 | |
| to_Magellan | 0.283 | 0.036 | 0.565 | |
| vignette_pre_computed | 0.020 | 0.000 | 0.035 | |