Back to Multiple platform build/check report for BioC 3.18: simplified long |
|
This page was generated on 2024-04-17 11:36:03 -0400 (Wed, 17 Apr 2024).
Hostname | OS | Arch (*) | R version | Installed pkgs |
---|---|---|---|---|
nebbiolo2 | Linux (Ubuntu 22.04.3 LTS) | x86_64 | 4.3.3 (2024-02-29) -- "Angel Food Cake" | 4676 |
palomino4 | Windows Server 2022 Datacenter | x64 | 4.3.3 (2024-02-29 ucrt) -- "Angel Food Cake" | 4414 |
merida1 | macOS 12.7.1 Monterey | x86_64 | 4.3.3 (2024-02-29) -- "Angel Food Cake" | 4437 |
Click on any hostname to see more info about the system (e.g. compilers) (*) as reported by 'uname -p', except on Windows and Mac OS X |
Package 1036/2266 | Hostname | OS / Arch | INSTALL | BUILD | CHECK | BUILD BIN | ||||||||
IntEREst 1.26.0 (landing page) Ali Oghabian
| nebbiolo2 | Linux (Ubuntu 22.04.3 LTS) / x86_64 | OK | OK | ERROR | |||||||||
palomino4 | Windows Server 2022 Datacenter / x64 | OK | OK | OK | OK | ![]() | ||||||||
merida1 | macOS 12.7.1 Monterey / x86_64 | OK | OK | OK | OK | ![]() | ||||||||
kjohnson1 | macOS 13.6.1 Ventura / arm64 | see weekly results here | ||||||||||||
To the developers/maintainers of the IntEREst package: - Allow up to 24 hours (and sometimes 48 hours) for your latest push to git@git.bioconductor.org:packages/IntEREst.git to reflect on this report. See Troubleshooting Build Report for more information. - Use the following Renviron settings to reproduce errors and warnings. - If 'R CMD check' started to fail recently on the Linux builder(s) over a missing dependency, add the missing dependency to 'Suggests:' in your DESCRIPTION file. See Renviron.bioc for more information. |
Package: IntEREst |
Version: 1.26.0 |
Command: /home/biocbuild/bbs-3.18-bioc/R/bin/R CMD check --install=check:IntEREst.install-out.txt --library=/home/biocbuild/bbs-3.18-bioc/R/site-library --timings IntEREst_1.26.0.tar.gz |
StartedAt: 2024-04-16 00:03:37 -0400 (Tue, 16 Apr 2024) |
EndedAt: 2024-04-16 00:10:37 -0400 (Tue, 16 Apr 2024) |
EllapsedTime: 420.0 seconds |
RetCode: 1 |
Status: ERROR |
CheckDir: IntEREst.Rcheck |
Warnings: NA |
############################################################################## ############################################################################## ### ### Running command: ### ### /home/biocbuild/bbs-3.18-bioc/R/bin/R CMD check --install=check:IntEREst.install-out.txt --library=/home/biocbuild/bbs-3.18-bioc/R/site-library --timings IntEREst_1.26.0.tar.gz ### ############################################################################## ############################################################################## * using log directory ‘/home/biocbuild/bbs-3.18-bioc/meat/IntEREst.Rcheck’ * using R version 4.3.3 (2024-02-29) * using platform: x86_64-pc-linux-gnu (64-bit) * R was compiled by gcc (Ubuntu 11.4.0-1ubuntu1~22.04) 11.4.0 GNU Fortran (Ubuntu 11.4.0-1ubuntu1~22.04) 11.4.0 * running under: Ubuntu 22.04.4 LTS * using session charset: UTF-8 * checking for file ‘IntEREst/DESCRIPTION’ ... OK * this is package ‘IntEREst’ version ‘1.26.0’ * checking package namespace information ... OK * checking package dependencies ... NOTE Depends: includes the non-default packages: 'GenomicRanges', 'Rsamtools', 'SummarizedExperiment', 'edgeR', 'S4Vectors', 'GenomicFiles' Adding so many packages to the search path is excessive and importing selectively is preferable. * checking if this is a source package ... OK * checking if there is a namespace ... OK * checking for hidden files and directories ... OK * checking for portable file names ... OK * checking for sufficient/correct file permissions ... OK * checking whether package ‘IntEREst’ can be installed ... OK * checking installed package size ... OK * checking package directory ... OK * checking ‘build’ directory ... OK * checking DESCRIPTION meta-information ... OK * checking top-level files ... OK * checking for left-over files ... OK * checking index information ... OK * checking package subdirectories ... OK * checking R files for non-ASCII characters ... OK * checking R files for syntax errors ... OK * checking whether the package can be loaded ... OK * checking whether the package can be loaded with stated dependencies ... OK * checking whether the package can be unloaded cleanly ... OK * checking whether the namespace can be loaded with stated dependencies ... OK * checking whether the namespace can be unloaded cleanly ... OK * checking loading without being on the library search path ... OK * checking dependencies in R code ... OK * checking S3 generic/method consistency ... OK * checking replacement functions ... OK * checking foreign function calls ... OK * checking R code for possible problems ... NOTE interestIntExAnalyseSingleStranded: no visible global function definition for ‘bamFlagAsBitMatrix’ Undefined global functions or variables: bamFlagAsBitMatrix * checking Rd files ... OK * checking Rd metadata ... OK * checking Rd cross-references ... OK * checking for missing documentation entries ... OK * checking for code/documentation mismatches ... OK * checking Rd \usage sections ... OK * checking Rd contents ... OK * checking for unstated dependencies in examples ... OK * checking contents of ‘data’ directory ... OK * checking data for non-ASCII characters ... OK * checking LazyData ... OK * checking data for ASCII and uncompressed saves ... OK * checking files in ‘vignettes’ ... OK * checking examples ... OK Examples with CPU (user + system) or elapsed time > 5s user system elapsed DEXSeqIntEREst 20.509 0.512 21.021 * checking for unstated dependencies in vignettes ... OK * checking package vignettes in ‘inst/doc’ ... OK * checking running R code from vignettes ... ‘IntEREst.Rmd’ using ‘UTF-8’... failed ERROR Errors in running code in vignettes: when running code in ‘IntEREst.Rmd’ ... > knitr::include_graphics("../inst/fig/IntEREst.png") When sourcing ‘IntEREst.R’: Error: Cannot find the file(s): "../inst/fig/IntEREst.png" Execution halted * checking re-building of vignette outputs ... OK * checking PDF version of manual ... OK * DONE Status: 1 ERROR, 2 NOTEs See ‘/home/biocbuild/bbs-3.18-bioc/meat/IntEREst.Rcheck/00check.log’ for details.
IntEREst.Rcheck/00install.out
############################################################################## ############################################################################## ### ### Running command: ### ### /home/biocbuild/bbs-3.18-bioc/R/bin/R CMD INSTALL IntEREst ### ############################################################################## ############################################################################## * installing to library ‘/home/biocbuild/bbs-3.18-bioc/R/site-library’ * installing *source* package ‘IntEREst’ ... ** using staged installation ** R ** data *** moving datasets to lazyload DB ** inst ** byte-compile and prepare package for lazy loading ** help *** installing help indices ** building package indices ** installing vignettes ** testing if installed package can be loaded from temporary location ** testing if installed package can be loaded from final location ** testing if installed package keeps a record of temporary installation path * DONE (IntEREst)
IntEREst.Rcheck/IntEREst-Ex.timings
name | user | system | elapsed | |
DEXSeqIntEREst | 20.509 | 0.512 | 21.021 | |
addAnnotation | 0.026 | 0.004 | 0.030 | |
annotateU12 | 1.938 | 0.055 | 1.994 | |
applyOverlap | 0.132 | 0.000 | 0.131 | |
attributes | 0.010 | 0.007 | 0.019 | |
boxplot-method | 0.044 | 0.000 | 0.044 | |
buildSsTypePwms | 0.001 | 0.001 | 0.000 | |
counts-method | 0.023 | 0.000 | 0.023 | |
deseqInterest | 3.797 | 0.012 | 3.809 | |
exactTestInterest | 0.072 | 0.007 | 0.080 | |
getRepeatTable | 0 | 0 | 0 | |
glmInterest | 0.101 | 0.001 | 0.100 | |
interest | 1.191 | 0.024 | 1.215 | |
interest.sequential | 1.059 | 0.023 | 1.083 | |
interestResult | 0.015 | 0.001 | 0.015 | |
interestResultIntEx | 0.155 | 0.000 | 0.155 | |
intexIndex | 0.003 | 0.000 | 0.003 | |
lfc | 0.186 | 0.000 | 0.186 | |
mergeInterestResult | 0.058 | 0.000 | 0.058 | |
plot-method | 0.3 | 0.0 | 0.3 | |
psi | 0.602 | 0.000 | 0.601 | |
qlfInterest | 0.126 | 0.000 | 0.126 | |
readInterestResults | 0.027 | 0.000 | 0.026 | |
referencePrepare | 0.983 | 0.052 | 1.035 | |
subInterestResult | 0.025 | 0.003 | 0.029 | |
treatInterest | 0.096 | 0.004 | 0.099 | |
u12Boxplot | 0.049 | 0.000 | 0.050 | |
u12BoxplotNb | 0.061 | 0.001 | 0.061 | |
u12DensityPlot | 0.219 | 0.008 | 0.227 | |
u12Index | 0.003 | 0.000 | 0.004 | |
u12NbIndex | 0.033 | 0.004 | 0.038 | |
unionRefTr | 0.012 | 0.000 | 0.012 | |
updateRowDataCol | 0.039 | 0.000 | 0.038 | |