| Back to Multiple platform build/check report for BioC 3.18: simplified long |
|
This page was generated on 2024-04-17 11:37:51 -0400 (Wed, 17 Apr 2024).
| Hostname | OS | Arch (*) | R version | Installed pkgs |
|---|---|---|---|---|
| nebbiolo2 | Linux (Ubuntu 22.04.3 LTS) | x86_64 | 4.3.3 (2024-02-29) -- "Angel Food Cake" | 4676 |
| palomino4 | Windows Server 2022 Datacenter | x64 | 4.3.3 (2024-02-29 ucrt) -- "Angel Food Cake" | 4414 |
| merida1 | macOS 12.7.1 Monterey | x86_64 | 4.3.3 (2024-02-29) -- "Angel Food Cake" | 4437 |
| Click on any hostname to see more info about the system (e.g. compilers) (*) as reported by 'uname -p', except on Windows and Mac OS X | ||||
| Package 1036/2266 | Hostname | OS / Arch | INSTALL | BUILD | CHECK | BUILD BIN | ||||||||
| IntEREst 1.26.0 (landing page) Ali Oghabian
| nebbiolo2 | Linux (Ubuntu 22.04.3 LTS) / x86_64 | OK | OK | ERROR | |||||||||
| palomino4 | Windows Server 2022 Datacenter / x64 | OK | OK | OK | OK | |||||||||
| merida1 | macOS 12.7.1 Monterey / x86_64 | OK | OK | OK | OK | |||||||||
| kjohnson1 | macOS 13.6.1 Ventura / arm64 | see weekly results here | ||||||||||||
|
To the developers/maintainers of the IntEREst package: - Allow up to 24 hours (and sometimes 48 hours) for your latest push to git@git.bioconductor.org:packages/IntEREst.git to reflect on this report. See Troubleshooting Build Report for more information. - Use the following Renviron settings to reproduce errors and warnings. - If 'R CMD check' started to fail recently on the Linux builder(s) over a missing dependency, add the missing dependency to 'Suggests:' in your DESCRIPTION file. See Renviron.bioc for more information. |
| Package: IntEREst |
| Version: 1.26.0 |
| Command: /Library/Frameworks/R.framework/Resources/bin/R CMD check --install=check:IntEREst.install-out.txt --library=/Library/Frameworks/R.framework/Resources/library --no-vignettes --timings IntEREst_1.26.0.tar.gz |
| StartedAt: 2024-04-16 04:15:55 -0400 (Tue, 16 Apr 2024) |
| EndedAt: 2024-04-16 04:29:18 -0400 (Tue, 16 Apr 2024) |
| EllapsedTime: 803.0 seconds |
| RetCode: 0 |
| Status: OK |
| CheckDir: IntEREst.Rcheck |
| Warnings: 0 |
##############################################################################
##############################################################################
###
### Running command:
###
### /Library/Frameworks/R.framework/Resources/bin/R CMD check --install=check:IntEREst.install-out.txt --library=/Library/Frameworks/R.framework/Resources/library --no-vignettes --timings IntEREst_1.26.0.tar.gz
###
##############################################################################
##############################################################################
* using log directory ‘/Users/biocbuild/bbs-3.18-bioc/meat/IntEREst.Rcheck’
* using R version 4.3.3 (2024-02-29)
* using platform: x86_64-apple-darwin20 (64-bit)
* R was compiled by
Apple clang version 14.0.0 (clang-1400.0.29.202)
GNU Fortran (GCC) 12.2.0
* running under: macOS Monterey 12.7.1
* using session charset: UTF-8
* using option ‘--no-vignettes’
* checking for file ‘IntEREst/DESCRIPTION’ ... OK
* this is package ‘IntEREst’ version ‘1.26.0’
* checking package namespace information ... OK
* checking package dependencies ... NOTE
Depends: includes the non-default packages:
'GenomicRanges', 'Rsamtools', 'SummarizedExperiment', 'edgeR',
'S4Vectors', 'GenomicFiles'
Adding so many packages to the search path is excessive and importing
selectively is preferable.
* checking if this is a source package ... OK
* checking if there is a namespace ... OK
* checking for hidden files and directories ... OK
* checking for portable file names ... OK
* checking for sufficient/correct file permissions ... OK
* checking whether package ‘IntEREst’ can be installed ... OK
* checking installed package size ... OK
* checking package directory ... OK
* checking ‘build’ directory ... OK
* checking DESCRIPTION meta-information ... OK
* checking top-level files ... OK
* checking for left-over files ... OK
* checking index information ... OK
* checking package subdirectories ... OK
* checking R files for non-ASCII characters ... OK
* checking R files for syntax errors ... OK
* checking whether the package can be loaded ... OK
* checking whether the package can be loaded with stated dependencies ... OK
* checking whether the package can be unloaded cleanly ... OK
* checking whether the namespace can be loaded with stated dependencies ... OK
* checking whether the namespace can be unloaded cleanly ... OK
* checking dependencies in R code ... OK
* checking S3 generic/method consistency ... OK
* checking replacement functions ... OK
* checking foreign function calls ... OK
* checking R code for possible problems ... NOTE
interestIntExAnalyseSingleStranded: no visible global function
definition for ‘bamFlagAsBitMatrix’
Undefined global functions or variables:
bamFlagAsBitMatrix
* checking Rd files ... OK
* checking Rd metadata ... OK
* checking Rd cross-references ... OK
* checking for missing documentation entries ... OK
* checking for code/documentation mismatches ... OK
* checking Rd \usage sections ... OK
* checking Rd contents ... OK
* checking for unstated dependencies in examples ... OK
* checking contents of ‘data’ directory ... OK
* checking data for non-ASCII characters ... OK
* checking LazyData ... OK
* checking data for ASCII and uncompressed saves ... OK
* checking files in ‘vignettes’ ... OK
* checking examples ... OK
Examples with CPU (user + system) or elapsed time > 5s
user system elapsed
DEXSeqIntEREst 44.908 0.501 50.502
deseqInterest 9.006 0.085 9.976
annotateU12 4.490 0.155 5.069
* checking for unstated dependencies in vignettes ... OK
* checking package vignettes in ‘inst/doc’ ... OK
* checking running R code from vignettes ... SKIPPED
* checking re-building of vignette outputs ... SKIPPED
* checking PDF version of manual ... OK
* DONE
Status: 2 NOTEs
See
‘/Users/biocbuild/bbs-3.18-bioc/meat/IntEREst.Rcheck/00check.log’
for details.
IntEREst.Rcheck/00install.out
############################################################################## ############################################################################## ### ### Running command: ### ### /Library/Frameworks/R.framework/Resources/bin/R CMD INSTALL IntEREst ### ############################################################################## ############################################################################## * installing to library ‘/Library/Frameworks/R.framework/Versions/4.3-x86_64/Resources/library’ * installing *source* package ‘IntEREst’ ... ** using staged installation ** R ** data *** moving datasets to lazyload DB ** inst ** byte-compile and prepare package for lazy loading ** help *** installing help indices ** building package indices ** installing vignettes ** testing if installed package can be loaded from temporary location ** testing if installed package can be loaded from final location ** testing if installed package keeps a record of temporary installation path * DONE (IntEREst)
IntEREst.Rcheck/IntEREst-Ex.timings
| name | user | system | elapsed | |
| DEXSeqIntEREst | 44.908 | 0.501 | 50.502 | |
| addAnnotation | 0.064 | 0.003 | 0.069 | |
| annotateU12 | 4.490 | 0.155 | 5.069 | |
| applyOverlap | 0.332 | 0.004 | 0.363 | |
| attributes | 0.043 | 0.006 | 0.049 | |
| boxplot-method | 0.102 | 0.001 | 0.111 | |
| buildSsTypePwms | 0.001 | 0.001 | 0.003 | |
| counts-method | 0.054 | 0.005 | 0.063 | |
| deseqInterest | 9.006 | 0.085 | 9.976 | |
| exactTestInterest | 0.241 | 0.005 | 0.257 | |
| getRepeatTable | 0.000 | 0.000 | 0.001 | |
| glmInterest | 0.226 | 0.004 | 0.251 | |
| interest | 3.044 | 0.031 | 3.331 | |
| interest.sequential | 2.782 | 0.027 | 3.049 | |
| interestResult | 0.039 | 0.002 | 0.046 | |
| interestResultIntEx | 0.387 | 0.004 | 0.422 | |
| intexIndex | 0.005 | 0.000 | 0.006 | |
| lfc | 0.392 | 0.007 | 0.433 | |
| mergeInterestResult | 0.137 | 0.003 | 0.149 | |
| plot-method | 0.718 | 0.012 | 0.789 | |
| psi | 1.751 | 0.011 | 1.899 | |
| qlfInterest | 0.281 | 0.009 | 0.310 | |
| readInterestResults | 0.063 | 0.007 | 0.073 | |
| referencePrepare | 2.232 | 0.020 | 2.427 | |
| subInterestResult | 0.071 | 0.003 | 0.079 | |
| treatInterest | 0.223 | 0.008 | 0.249 | |
| u12Boxplot | 0.120 | 0.002 | 0.134 | |
| u12BoxplotNb | 0.145 | 0.001 | 0.159 | |
| u12DensityPlot | 0.447 | 0.011 | 0.495 | |
| u12Index | 0.010 | 0.001 | 0.010 | |
| u12NbIndex | 0.098 | 0.003 | 0.116 | |
| unionRefTr | 0.031 | 0.001 | 0.034 | |
| updateRowDataCol | 0.089 | 0.003 | 0.096 | |