| Back to Multiple platform build/check report for BioC 3.18: simplified long |
|
This page was generated on 2024-03-04 11:37:28 -0500 (Mon, 04 Mar 2024).
| Hostname | OS | Arch (*) | R version | Installed pkgs |
|---|---|---|---|---|
| nebbiolo2 | Linux (Ubuntu 22.04.3 LTS) | x86_64 | 4.3.2 Patched (2023-11-13 r85521) -- "Eye Holes" | 4692 |
| palomino4 | Windows Server 2022 Datacenter | x64 | 4.3.2 (2023-10-31 ucrt) -- "Eye Holes" | 4445 |
| lconway | macOS 12.7.1 Monterey | x86_64 | 4.3.2 Patched (2023-11-01 r85457) -- "Eye Holes" | 4466 |
| Click on any hostname to see more info about the system (e.g. compilers) (*) as reported by 'uname -p', except on Windows and Mac OS X | ||||
| Package 1036/2266 | Hostname | OS / Arch | INSTALL | BUILD | CHECK | BUILD BIN | ||||||||
| IntEREst 1.26.0 (landing page) Ali Oghabian
| nebbiolo2 | Linux (Ubuntu 22.04.3 LTS) / x86_64 | OK | OK | OK | |||||||||
| palomino4 | Windows Server 2022 Datacenter / x64 | OK | OK | OK | OK | |||||||||
| lconway | macOS 12.7.1 Monterey / x86_64 | OK | OK | OK | OK | |||||||||
| kjohnson1 | macOS 13.6.1 Ventura / arm64 | see weekly results here | ||||||||||||
|
To the developers/maintainers of the IntEREst package: - Allow up to 24 hours (and sometimes 48 hours) for your latest push to git@git.bioconductor.org:packages/IntEREst.git to reflect on this report. See Troubleshooting Build Report for more information. - Use the following Renviron settings to reproduce errors and warnings. - If 'R CMD check' started to fail recently on the Linux builder(s) over a missing dependency, add the missing dependency to 'Suggests:' in your DESCRIPTION file. See Renviron.bioc for more information. |
| Package: IntEREst |
| Version: 1.26.0 |
| Command: /Library/Frameworks/R.framework/Resources/bin/R CMD check --install=check:IntEREst.install-out.txt --library=/Library/Frameworks/R.framework/Resources/library --no-vignettes --timings IntEREst_1.26.0.tar.gz |
| StartedAt: 2024-03-03 21:18:07 -0500 (Sun, 03 Mar 2024) |
| EndedAt: 2024-03-03 21:25:23 -0500 (Sun, 03 Mar 2024) |
| EllapsedTime: 435.9 seconds |
| RetCode: 0 |
| Status: OK |
| CheckDir: IntEREst.Rcheck |
| Warnings: 0 |
##############################################################################
##############################################################################
###
### Running command:
###
### /Library/Frameworks/R.framework/Resources/bin/R CMD check --install=check:IntEREst.install-out.txt --library=/Library/Frameworks/R.framework/Resources/library --no-vignettes --timings IntEREst_1.26.0.tar.gz
###
##############################################################################
##############################################################################
* using log directory ‘/Users/biocbuild/bbs-3.18-bioc/meat/IntEREst.Rcheck’
* using R version 4.3.2 Patched (2023-11-01 r85457)
* using platform: x86_64-apple-darwin20 (64-bit)
* R was compiled by
Apple clang version 14.0.3 (clang-1403.0.22.14.1)
GNU Fortran (GCC) 12.2.0
* running under: macOS Monterey 12.7.1
* using session charset: UTF-8
* using option ‘--no-vignettes’
* checking for file ‘IntEREst/DESCRIPTION’ ... OK
* this is package ‘IntEREst’ version ‘1.26.0’
* checking package namespace information ... OK
* checking package dependencies ... NOTE
Depends: includes the non-default packages:
'GenomicRanges', 'Rsamtools', 'SummarizedExperiment', 'edgeR',
'S4Vectors', 'GenomicFiles'
Adding so many packages to the search path is excessive and importing
selectively is preferable.
* checking if this is a source package ... OK
* checking if there is a namespace ... OK
* checking for hidden files and directories ... OK
* checking for portable file names ... OK
* checking for sufficient/correct file permissions ... OK
* checking whether package ‘IntEREst’ can be installed ... OK
* checking installed package size ... OK
* checking package directory ... OK
* checking ‘build’ directory ... OK
* checking DESCRIPTION meta-information ... OK
* checking top-level files ... OK
* checking for left-over files ... OK
* checking index information ... OK
* checking package subdirectories ... OK
* checking R files for non-ASCII characters ... OK
* checking R files for syntax errors ... OK
* checking whether the package can be loaded ... OK
* checking whether the package can be loaded with stated dependencies ... OK
* checking whether the package can be unloaded cleanly ... OK
* checking whether the namespace can be loaded with stated dependencies ... OK
* checking whether the namespace can be unloaded cleanly ... OK
* checking dependencies in R code ... OK
* checking S3 generic/method consistency ... OK
* checking replacement functions ... OK
* checking foreign function calls ... OK
* checking R code for possible problems ... NOTE
interestIntExAnalyseSingleStranded: no visible global function
definition for ‘bamFlagAsBitMatrix’
Undefined global functions or variables:
bamFlagAsBitMatrix
* checking Rd files ... OK
* checking Rd metadata ... OK
* checking Rd cross-references ... OK
* checking for missing documentation entries ... OK
* checking for code/documentation mismatches ... OK
* checking Rd \usage sections ... OK
* checking Rd contents ... OK
* checking for unstated dependencies in examples ... OK
* checking contents of ‘data’ directory ... OK
* checking data for non-ASCII characters ... OK
* checking LazyData ... OK
* checking data for ASCII and uncompressed saves ... OK
* checking files in ‘vignettes’ ... OK
* checking examples ... OK
Examples with CPU (user + system) or elapsed time > 5s
user system elapsed
DEXSeqIntEREst 24.136 0.317 24.595
* checking for unstated dependencies in vignettes ... OK
* checking package vignettes in ‘inst/doc’ ... OK
* checking running R code from vignettes ... SKIPPED
* checking re-building of vignette outputs ... SKIPPED
* checking PDF version of manual ... OK
* DONE
Status: 2 NOTEs
See
‘/Users/biocbuild/bbs-3.18-bioc/meat/IntEREst.Rcheck/00check.log’
for details.
IntEREst.Rcheck/00install.out
############################################################################## ############################################################################## ### ### Running command: ### ### /Library/Frameworks/R.framework/Resources/bin/R CMD INSTALL IntEREst ### ############################################################################## ############################################################################## * installing to library ‘/Library/Frameworks/R.framework/Versions/4.3-x86_64/Resources/library’ * installing *source* package ‘IntEREst’ ... ** using staged installation ** R ** data *** moving datasets to lazyload DB ** inst ** byte-compile and prepare package for lazy loading ** help *** installing help indices ** building package indices ** installing vignettes ** testing if installed package can be loaded from temporary location ** testing if installed package can be loaded from final location ** testing if installed package keeps a record of temporary installation path * DONE (IntEREst)
IntEREst.Rcheck/IntEREst-Ex.timings
| name | user | system | elapsed | |
| DEXSeqIntEREst | 24.136 | 0.317 | 24.595 | |
| addAnnotation | 0.036 | 0.001 | 0.037 | |
| annotateU12 | 2.442 | 0.139 | 2.637 | |
| applyOverlap | 0.138 | 0.001 | 0.140 | |
| attributes | 0.022 | 0.002 | 0.023 | |
| boxplot-method | 0.043 | 0.001 | 0.045 | |
| buildSsTypePwms | 0.000 | 0.000 | 0.001 | |
| counts-method | 0.023 | 0.001 | 0.024 | |
| deseqInterest | 4.689 | 0.055 | 4.768 | |
| exactTestInterest | 0.159 | 0.003 | 0.163 | |
| getRepeatTable | 0 | 0 | 0 | |
| glmInterest | 0.128 | 0.003 | 0.133 | |
| interest | 1.508 | 0.023 | 1.540 | |
| interest.sequential | 1.365 | 0.016 | 1.386 | |
| interestResult | 0.021 | 0.001 | 0.022 | |
| interestResultIntEx | 0.205 | 0.003 | 0.208 | |
| intexIndex | 0.003 | 0.000 | 0.003 | |
| lfc | 0.218 | 0.005 | 0.225 | |
| mergeInterestResult | 0.078 | 0.002 | 0.081 | |
| plot-method | 0.356 | 0.009 | 0.367 | |
| psi | 0.736 | 0.007 | 0.749 | |
| qlfInterest | 0.157 | 0.005 | 0.163 | |
| readInterestResults | 0.034 | 0.004 | 0.038 | |
| referencePrepare | 1.214 | 0.017 | 1.237 | |
| subInterestResult | 0.040 | 0.002 | 0.043 | |
| treatInterest | 0.125 | 0.004 | 0.129 | |
| u12Boxplot | 0.063 | 0.001 | 0.064 | |
| u12BoxplotNb | 0.070 | 0.001 | 0.071 | |
| u12DensityPlot | 0.191 | 0.008 | 0.200 | |
| u12Index | 0.003 | 0.000 | 0.004 | |
| u12NbIndex | 0.032 | 0.001 | 0.032 | |
| unionRefTr | 0.01 | 0.00 | 0.01 | |
| updateRowDataCol | 0.048 | 0.002 | 0.050 | |