| Back to Multiple platform build/check report for BioC 3.18: simplified long |
|
This page was generated on 2024-04-17 11:36:48 -0400 (Wed, 17 Apr 2024).
| Hostname | OS | Arch (*) | R version | Installed pkgs |
|---|---|---|---|---|
| nebbiolo2 | Linux (Ubuntu 22.04.3 LTS) | x86_64 | 4.3.3 (2024-02-29) -- "Angel Food Cake" | 4676 |
| palomino4 | Windows Server 2022 Datacenter | x64 | 4.3.3 (2024-02-29 ucrt) -- "Angel Food Cake" | 4414 |
| merida1 | macOS 12.7.1 Monterey | x86_64 | 4.3.3 (2024-02-29) -- "Angel Food Cake" | 4437 |
| Click on any hostname to see more info about the system (e.g. compilers) (*) as reported by 'uname -p', except on Windows and Mac OS X | ||||
| Package 807/2266 | Hostname | OS / Arch | INSTALL | BUILD | CHECK | BUILD BIN | ||||||||
| GeneStructureTools 1.22.0 (landing page) Beth Signal
| nebbiolo2 | Linux (Ubuntu 22.04.3 LTS) / x86_64 | OK | OK | OK | |||||||||
| palomino4 | Windows Server 2022 Datacenter / x64 | OK | OK | OK | OK | |||||||||
| merida1 | macOS 12.7.1 Monterey / x86_64 | OK | OK | OK | OK | |||||||||
| kjohnson1 | macOS 13.6.1 Ventura / arm64 | see weekly results here | ||||||||||||
|
To the developers/maintainers of the GeneStructureTools package: - Allow up to 24 hours (and sometimes 48 hours) for your latest push to git@git.bioconductor.org:packages/GeneStructureTools.git to reflect on this report. See Troubleshooting Build Report for more information. - Use the following Renviron settings to reproduce errors and warnings. - If 'R CMD check' started to fail recently on the Linux builder(s) over a missing dependency, add the missing dependency to 'Suggests:' in your DESCRIPTION file. See Renviron.bioc for more information. |
| Package: GeneStructureTools |
| Version: 1.22.0 |
| Command: F:\biocbuild\bbs-3.18-bioc\R\bin\R.exe CMD check --no-multiarch --install=check:GeneStructureTools.install-out.txt --library=F:\biocbuild\bbs-3.18-bioc\R\library --no-vignettes --timings GeneStructureTools_1.22.0.tar.gz |
| StartedAt: 2024-04-16 01:04:49 -0400 (Tue, 16 Apr 2024) |
| EndedAt: 2024-04-16 01:12:36 -0400 (Tue, 16 Apr 2024) |
| EllapsedTime: 466.8 seconds |
| RetCode: 0 |
| Status: OK |
| CheckDir: GeneStructureTools.Rcheck |
| Warnings: 0 |
##############################################################################
##############################################################################
###
### Running command:
###
### F:\biocbuild\bbs-3.18-bioc\R\bin\R.exe CMD check --no-multiarch --install=check:GeneStructureTools.install-out.txt --library=F:\biocbuild\bbs-3.18-bioc\R\library --no-vignettes --timings GeneStructureTools_1.22.0.tar.gz
###
##############################################################################
##############################################################################
* using log directory 'F:/biocbuild/bbs-3.18-bioc/meat/GeneStructureTools.Rcheck'
* using R version 4.3.3 (2024-02-29 ucrt)
* using platform: x86_64-w64-mingw32 (64-bit)
* R was compiled by
gcc.exe (GCC) 12.3.0
GNU Fortran (GCC) 12.3.0
* running under: Windows Server 2022 x64 (build 20348)
* using session charset: UTF-8
* using option '--no-vignettes'
* checking for file 'GeneStructureTools/DESCRIPTION' ... OK
* checking extension type ... Package
* this is package 'GeneStructureTools' version '1.22.0'
* package encoding: UTF-8
* checking package namespace information ... OK
* checking package dependencies ... OK
* checking if this is a source package ... OK
* checking if there is a namespace ... OK
* checking for hidden files and directories ... OK
* checking for portable file names ... OK
* checking whether package 'GeneStructureTools' can be installed ... OK
* checking installed package size ... OK
* checking package directory ... OK
* checking 'build' directory ... OK
* checking DESCRIPTION meta-information ... OK
* checking top-level files ... OK
* checking for left-over files ... OK
* checking index information ... OK
* checking package subdirectories ... OK
* checking R files for non-ASCII characters ... OK
* checking R files for syntax errors ... OK
* checking whether the package can be loaded ... OK
* checking whether the package can be loaded with stated dependencies ... OK
* checking whether the package can be unloaded cleanly ... OK
* checking whether the namespace can be loaded with stated dependencies ... OK
* checking whether the namespace can be unloaded cleanly ... OK
* checking dependencies in R code ... OK
* checking S3 generic/method consistency ... OK
* checking replacement functions ... OK
* checking foreign function calls ... OK
* checking R code for possible problems ... OK
* checking Rd files ... OK
* checking Rd metadata ... OK
* checking Rd cross-references ... OK
* checking for missing documentation entries ... OK
* checking for code/documentation mismatches ... OK
* checking Rd \usage sections ... OK
* checking Rd contents ... OK
* checking for unstated dependencies in examples ... OK
* checking files in 'vignettes' ... OK
* checking examples ... OK
Examples with CPU (user + system) or elapsed time > 5s
user system elapsed
leafcutterTranscriptChangeSummary 31.50 1.97 33.53
whippetTranscriptChangeSummary 14.34 0.22 15.64
replaceJunction 5.58 0.08 6.75
* checking for unstated dependencies in vignettes ... OK
* checking package vignettes in 'inst/doc' ... OK
* checking running R code from vignettes ... SKIPPED
* checking re-building of vignette outputs ... SKIPPED
* checking PDF version of manual ... OK
* DONE
Status: OK
GeneStructureTools.Rcheck/00install.out
############################################################################## ############################################################################## ### ### Running command: ### ### F:\biocbuild\bbs-3.18-bioc\R\bin\R.exe CMD INSTALL GeneStructureTools ### ############################################################################## ############################################################################## * installing to library 'F:/biocbuild/bbs-3.18-bioc/R/library' * installing *source* package 'GeneStructureTools' ... ** using staged installation ** R ** inst ** byte-compile and prepare package for lazy loading ** help *** installing help indices ** building package indices ** installing vignettes ** testing if installed package can be loaded from temporary location ** testing if installed package can be loaded from final location ** testing if installed package keeps a record of temporary installation path * DONE (GeneStructureTools)
GeneStructureTools.Rcheck/GeneStructureTools-Ex.timings
| name | user | system | elapsed | |
| DEXSeqIdsToGeneIds | 0 | 0 | 0 | |
| UTR2UTR53 | 3.99 | 0.15 | 4.15 | |
| addBroadTypes | 0.48 | 0.00 | 0.49 | |
| addIntronInTranscript | 2.88 | 0.08 | 4.25 | |
| alternativeIntronUsage | 4.64 | 0.03 | 4.69 | |
| annotateGeneModel | 0.87 | 0.05 | 0.92 | |
| attrChangeAltSpliced | 1.25 | 0.09 | 2.45 | |
| coordinates-methods | 0.03 | 0.02 | 1.13 | |
| diffSplicingResults-methods | 0.05 | 0.01 | 1.18 | |
| exonsToTranscripts | 0.55 | 0.02 | 0.57 | |
| filterGtfOverlap | 0.54 | 0.00 | 0.54 | |
| filterWhippetEvents | 0.08 | 0.00 | 1.21 | |
| findDEXexonType | 2.70 | 0.02 | 2.73 | |
| findExonContainingTranscripts | 0.52 | 0.01 | 1.73 | |
| findIntronContainingTranscripts | 1.09 | 0.00 | 2.24 | |
| findJunctionPairs | 1.77 | 0.05 | 2.89 | |
| formatWhippetEvents | 0.01 | 0.00 | 0.12 | |
| getOrfs | 0.97 | 0.04 | 1.02 | |
| getUOrfs | 0.58 | 0.05 | 0.62 | |
| junctions-methods | 0.03 | 0.02 | 1.02 | |
| leafcutterTranscriptChangeSummary | 31.50 | 1.97 | 33.53 | |
| makeGeneModel | 0.31 | 0.00 | 0.32 | |
| maxLocation | 0 | 0 | 0 | |
| orfDiff | 2.45 | 0.03 | 3.58 | |
| orfSimilarity | 0 | 0 | 0 | |
| overlapTypes | 3.00 | 0.04 | 3.05 | |
| readCounts-methods | 0.03 | 0.04 | 1.14 | |
| readWhippetDIFFfiles | 0.00 | 0.00 | 0.13 | |
| readWhippetDataSet | 0.06 | 0.00 | 1.18 | |
| readWhippetJNCfiles | 0.03 | 0.03 | 0.57 | |
| readWhippetPSIfiles | 0.00 | 0.03 | 0.47 | |
| removeDuplicateTranscripts | 0.47 | 0.01 | 0.48 | |
| removeSameExon | 0.44 | 0.00 | 0.43 | |
| removeVersion | 0 | 0 | 0 | |
| reorderExonNumbers | 0.34 | 0.00 | 0.35 | |
| replaceJunction | 5.58 | 0.08 | 6.75 | |
| skipExonInTranscript | 1.78 | 0.01 | 2.92 | |
| summariseExonTypes | 3.12 | 0.07 | 3.19 | |
| transcriptChangeSummary | 2.27 | 0.07 | 3.72 | |
| whippetTranscriptChangeSummary | 14.34 | 0.22 | 15.64 | |