Back to Multiple platform build/check report for BioC 3.18: simplified long |
|
This page was generated on 2024-04-17 11:35:58 -0400 (Wed, 17 Apr 2024).
Hostname | OS | Arch (*) | R version | Installed pkgs |
---|---|---|---|---|
nebbiolo2 | Linux (Ubuntu 22.04.3 LTS) | x86_64 | 4.3.3 (2024-02-29) -- "Angel Food Cake" | 4676 |
palomino4 | Windows Server 2022 Datacenter | x64 | 4.3.3 (2024-02-29 ucrt) -- "Angel Food Cake" | 4414 |
merida1 | macOS 12.7.1 Monterey | x86_64 | 4.3.3 (2024-02-29) -- "Angel Food Cake" | 4437 |
Click on any hostname to see more info about the system (e.g. compilers) (*) as reported by 'uname -p', except on Windows and Mac OS X |
Package 807/2266 | Hostname | OS / Arch | INSTALL | BUILD | CHECK | BUILD BIN | ||||||||
GeneStructureTools 1.22.0 (landing page) Beth Signal
| nebbiolo2 | Linux (Ubuntu 22.04.3 LTS) / x86_64 | OK | OK | OK | ![]() | ||||||||
palomino4 | Windows Server 2022 Datacenter / x64 | OK | OK | OK | OK | ![]() | ||||||||
merida1 | macOS 12.7.1 Monterey / x86_64 | OK | OK | OK | OK | ![]() | ||||||||
kjohnson1 | macOS 13.6.1 Ventura / arm64 | see weekly results here | ||||||||||||
To the developers/maintainers of the GeneStructureTools package: - Allow up to 24 hours (and sometimes 48 hours) for your latest push to git@git.bioconductor.org:packages/GeneStructureTools.git to reflect on this report. See Troubleshooting Build Report for more information. - Use the following Renviron settings to reproduce errors and warnings. - If 'R CMD check' started to fail recently on the Linux builder(s) over a missing dependency, add the missing dependency to 'Suggests:' in your DESCRIPTION file. See Renviron.bioc for more information. |
Package: GeneStructureTools |
Version: 1.22.0 |
Command: /home/biocbuild/bbs-3.18-bioc/R/bin/R CMD check --install=check:GeneStructureTools.install-out.txt --library=/home/biocbuild/bbs-3.18-bioc/R/site-library --timings GeneStructureTools_1.22.0.tar.gz |
StartedAt: 2024-04-15 23:04:31 -0400 (Mon, 15 Apr 2024) |
EndedAt: 2024-04-15 23:13:58 -0400 (Mon, 15 Apr 2024) |
EllapsedTime: 566.6 seconds |
RetCode: 0 |
Status: OK |
CheckDir: GeneStructureTools.Rcheck |
Warnings: 0 |
############################################################################## ############################################################################## ### ### Running command: ### ### /home/biocbuild/bbs-3.18-bioc/R/bin/R CMD check --install=check:GeneStructureTools.install-out.txt --library=/home/biocbuild/bbs-3.18-bioc/R/site-library --timings GeneStructureTools_1.22.0.tar.gz ### ############################################################################## ############################################################################## * using log directory ‘/home/biocbuild/bbs-3.18-bioc/meat/GeneStructureTools.Rcheck’ * using R version 4.3.3 (2024-02-29) * using platform: x86_64-pc-linux-gnu (64-bit) * R was compiled by gcc (Ubuntu 11.4.0-1ubuntu1~22.04) 11.4.0 GNU Fortran (Ubuntu 11.4.0-1ubuntu1~22.04) 11.4.0 * running under: Ubuntu 22.04.4 LTS * using session charset: UTF-8 * checking for file ‘GeneStructureTools/DESCRIPTION’ ... OK * checking extension type ... Package * this is package ‘GeneStructureTools’ version ‘1.22.0’ * package encoding: UTF-8 * checking package namespace information ... OK * checking package dependencies ... OK * checking if this is a source package ... OK * checking if there is a namespace ... OK * checking for hidden files and directories ... OK * checking for portable file names ... OK * checking for sufficient/correct file permissions ... OK * checking whether package ‘GeneStructureTools’ can be installed ... OK * checking installed package size ... OK * checking package directory ... OK * checking ‘build’ directory ... OK * checking DESCRIPTION meta-information ... OK * checking top-level files ... OK * checking for left-over files ... OK * checking index information ... OK * checking package subdirectories ... OK * checking R files for non-ASCII characters ... OK * checking R files for syntax errors ... OK * checking whether the package can be loaded ... OK * checking whether the package can be loaded with stated dependencies ... OK * checking whether the package can be unloaded cleanly ... OK * checking whether the namespace can be loaded with stated dependencies ... OK * checking whether the namespace can be unloaded cleanly ... OK * checking loading without being on the library search path ... OK * checking dependencies in R code ... OK * checking S3 generic/method consistency ... OK * checking replacement functions ... OK * checking foreign function calls ... OK * checking R code for possible problems ... OK * checking Rd files ... OK * checking Rd metadata ... OK * checking Rd cross-references ... OK * checking for missing documentation entries ... OK * checking for code/documentation mismatches ... OK * checking Rd \usage sections ... OK * checking Rd contents ... OK * checking for unstated dependencies in examples ... OK * checking files in ‘vignettes’ ... OK * checking examples ... OK Examples with CPU (user + system) or elapsed time > 5s user system elapsed leafcutterTranscriptChangeSummary 22.182 0.292 22.474 whippetTranscriptChangeSummary 11.165 0.073 11.238 * checking for unstated dependencies in vignettes ... OK * checking package vignettes in ‘inst/doc’ ... OK * checking running R code from vignettes ... ‘Vignette.Rmd’ using ‘UTF-8’... OK OK * checking re-building of vignette outputs ... OK * checking PDF version of manual ... OK * DONE Status: OK
GeneStructureTools.Rcheck/00install.out
############################################################################## ############################################################################## ### ### Running command: ### ### /home/biocbuild/bbs-3.18-bioc/R/bin/R CMD INSTALL GeneStructureTools ### ############################################################################## ############################################################################## * installing to library ‘/home/biocbuild/bbs-3.18-bioc/R/site-library’ * installing *source* package ‘GeneStructureTools’ ... ** using staged installation ** R ** inst ** byte-compile and prepare package for lazy loading ** help *** installing help indices ** building package indices ** installing vignettes ** testing if installed package can be loaded from temporary location ** testing if installed package can be loaded from final location ** testing if installed package keeps a record of temporary installation path * DONE (GeneStructureTools)
GeneStructureTools.Rcheck/GeneStructureTools-Ex.timings
name | user | system | elapsed | |
DEXSeqIdsToGeneIds | 0.003 | 0.000 | 0.003 | |
UTR2UTR53 | 3.053 | 0.164 | 3.218 | |
addBroadTypes | 0.163 | 0.000 | 0.163 | |
addIntronInTranscript | 1.698 | 0.048 | 1.746 | |
alternativeIntronUsage | 4.033 | 0.056 | 4.089 | |
annotateGeneModel | 0.796 | 0.012 | 0.808 | |
attrChangeAltSpliced | 1.135 | 0.029 | 1.167 | |
coordinates-methods | 0.054 | 0.008 | 0.061 | |
diffSplicingResults-methods | 0.050 | 0.012 | 0.063 | |
exonsToTranscripts | 0.235 | 0.004 | 0.238 | |
filterGtfOverlap | 0.227 | 0.004 | 0.231 | |
filterWhippetEvents | 0.066 | 0.004 | 0.068 | |
findDEXexonType | 2.317 | 0.011 | 2.328 | |
findExonContainingTranscripts | 0.384 | 0.016 | 0.400 | |
findIntronContainingTranscripts | 0.607 | 0.013 | 0.620 | |
findJunctionPairs | 1.272 | 0.029 | 1.300 | |
formatWhippetEvents | 0.013 | 0.001 | 0.014 | |
getOrfs | 0.644 | 0.036 | 0.679 | |
getUOrfs | 0.503 | 0.008 | 0.511 | |
junctions-methods | 0.053 | 0.012 | 0.064 | |
leafcutterTranscriptChangeSummary | 22.182 | 0.292 | 22.474 | |
makeGeneModel | 0.142 | 0.004 | 0.146 | |
maxLocation | 0.003 | 0.000 | 0.002 | |
orfDiff | 1.478 | 0.035 | 1.512 | |
orfSimilarity | 0 | 0 | 0 | |
overlapTypes | 2.181 | 0.016 | 2.197 | |
readCounts-methods | 0.050 | 0.010 | 0.061 | |
readWhippetDIFFfiles | 0.003 | 0.002 | 0.005 | |
readWhippetDataSet | 0.054 | 0.010 | 0.064 | |
readWhippetJNCfiles | 0.026 | 0.003 | 0.029 | |
readWhippetPSIfiles | 0.014 | 0.002 | 0.015 | |
removeDuplicateTranscripts | 0.239 | 0.004 | 0.243 | |
removeSameExon | 0.197 | 0.004 | 0.200 | |
removeVersion | 0 | 0 | 0 | |
reorderExonNumbers | 0.156 | 0.000 | 0.156 | |
replaceJunction | 3.629 | 0.024 | 3.653 | |
skipExonInTranscript | 1.265 | 0.011 | 1.274 | |
summariseExonTypes | 2.240 | 0.008 | 2.248 | |
transcriptChangeSummary | 1.339 | 0.037 | 1.376 | |
whippetTranscriptChangeSummary | 11.165 | 0.073 | 11.238 | |