Back to Multiple platform build/check report for BioC 3.18: simplified long |
|
This page was generated on 2023-11-02 11:40:41 -0400 (Thu, 02 Nov 2023).
Hostname | OS | Arch (*) | R version | Installed pkgs |
---|---|---|---|---|
nebbiolo2 | Linux (Ubuntu 22.04.2 LTS) | x86_64 | 4.3.1 (2023-06-16) -- "Beagle Scouts" | 4729 |
palomino4 | Windows Server 2022 Datacenter | x64 | 4.3.1 (2023-06-16 ucrt) -- "Beagle Scouts" | 4463 |
lconway | macOS 12.6.5 Monterey | x86_64 | 4.3.1 Patched (2023-06-17 r84564) -- "Beagle Scouts" | 4478 |
kunpeng2 | Linux (openEuler 22.03 LTS-SP1) | aarch64 | 4.3.1 (2023-06-16) -- "Beagle Scouts" | 4464 |
Click on any hostname to see more info about the system (e.g. compilers) (*) as reported by 'uname -p', except on Windows and Mac OS X |
Package 738/2266 | Hostname | OS / Arch | INSTALL | BUILD | CHECK | BUILD BIN | ||||||||
FlowSOM 2.10.0 (landing page) Sofie Van Gassen
| nebbiolo2 | Linux (Ubuntu 22.04.2 LTS) / x86_64 | OK | OK | OK | ![]() | ||||||||
palomino4 | Windows Server 2022 Datacenter / x64 | OK | OK | OK | OK | ![]() | ||||||||
lconway | macOS 12.6.5 Monterey / x86_64 | OK | OK | OK | OK | ![]() | ||||||||
kjohnson1 | macOS 13.6.1 Ventura / arm64 | see weekly results here | ||||||||||||
kunpeng2 | Linux (openEuler 22.03 LTS-SP1) / aarch64 | OK | OK | OK | ||||||||||
To the developers/maintainers of the FlowSOM package: - Allow up to 24 hours (and sometimes 48 hours) for your latest push to git@git.bioconductor.org:packages/FlowSOM.git to reflect on this report. See Troubleshooting Build Report for more information. - Use the following Renviron settings to reproduce errors and warnings. - If 'R CMD check' started to fail recently on the Linux builder(s) over a missing dependency, add the missing dependency to 'Suggests:' in your DESCRIPTION file. See Renviron.bioc for more information. - See Martin Grigorov's blog post for how to debug Linux ARM64 related issues on a x86_64 host. |
Package: FlowSOM |
Version: 2.10.0 |
Command: /home/biocbuild/R/R-4.3.1/bin/R CMD check --install=check:FlowSOM.install-out.txt --library=/home/biocbuild/R/R-4.3.1/site-library --no-vignettes --timings FlowSOM_2.10.0.tar.gz |
StartedAt: 2023-11-02 10:35:38 -0000 (Thu, 02 Nov 2023) |
EndedAt: 2023-11-02 10:47:40 -0000 (Thu, 02 Nov 2023) |
EllapsedTime: 722.8 seconds |
RetCode: 0 |
Status: OK |
CheckDir: FlowSOM.Rcheck |
Warnings: 0 |
############################################################################## ############################################################################## ### ### Running command: ### ### /home/biocbuild/R/R-4.3.1/bin/R CMD check --install=check:FlowSOM.install-out.txt --library=/home/biocbuild/R/R-4.3.1/site-library --no-vignettes --timings FlowSOM_2.10.0.tar.gz ### ############################################################################## ############################################################################## * using log directory ‘/home/biocbuild/bbs-3.18-bioc/meat/FlowSOM.Rcheck’ * using R version 4.3.1 (2023-06-16) * using platform: aarch64-unknown-linux-gnu (64-bit) * R was compiled by gcc (GCC) 10.3.1 GNU Fortran (GCC) 10.3.1 * running under: openEuler 22.03 (LTS-SP1) * using session charset: UTF-8 * using option ‘--no-vignettes’ * checking for file ‘FlowSOM/DESCRIPTION’ ... OK * this is package ‘FlowSOM’ version ‘2.10.0’ * package encoding: UTF-8 * checking package namespace information ... OK * checking package dependencies ... OK * checking if this is a source package ... OK * checking if there is a namespace ... OK * checking for hidden files and directories ... OK * checking for portable file names ... OK * checking for sufficient/correct file permissions ... OK * checking whether package ‘FlowSOM’ can be installed ... OK * used C compiler: ‘gcc (GCC) 10.3.1’ * checking installed package size ... OK * checking package directory ... OK * checking ‘build’ directory ... OK * checking DESCRIPTION meta-information ... OK * checking top-level files ... OK * checking for left-over files ... OK * checking index information ... OK * checking package subdirectories ... OK * checking R files for non-ASCII characters ... OK * checking R files for syntax errors ... OK * checking whether the package can be loaded ... OK * checking whether the package can be loaded with stated dependencies ... OK * checking whether the package can be unloaded cleanly ... OK * checking whether the namespace can be loaded with stated dependencies ... OK * checking whether the namespace can be unloaded cleanly ... OK * checking loading without being on the library search path ... OK * checking startup messages can be suppressed ... OK * checking dependencies in R code ... OK * checking S3 generic/method consistency ... OK * checking replacement functions ... OK * checking foreign function calls ... OK * checking R code for possible problems ... OK * checking Rd files ... OK * checking Rd metadata ... OK * checking Rd cross-references ... OK * checking for missing documentation entries ... OK * checking for code/documentation mismatches ... OK * checking Rd \usage sections ... OK * checking Rd contents ... OK * checking for unstated dependencies in examples ... OK * checking line endings in C/C++/Fortran sources/headers ... OK * checking compiled code ... NOTE Note: information on .o files is not available * checking files in ‘vignettes’ ... OK * checking examples ... OK Examples with CPU (user + system) or elapsed time > 5s user system elapsed PlotDimRed 82.201 1.603 86.084 FlowSOMmary 79.721 0.295 80.029 PlotOutliers 22.492 0.048 22.591 UpdateMetaclusters 22.286 0.068 22.405 PlotMarker 22.055 0.053 22.152 PlotStars 18.755 0.024 18.819 GroupStats 16.962 0.060 17.062 FlowSOM 16.697 0.024 16.756 PlotGroups 15.883 0.056 15.972 QueryMultiple 11.680 1.095 13.509 AddAnnotation 12.395 0.272 12.698 query_multiple 11.686 0.060 11.772 PlotManualBars 11.204 0.041 11.272 Plot2DScatters 10.862 0.056 11.041 GetFlowJoLabels 9.954 0.120 10.102 PlotNode 9.672 0.032 9.723 CountGroups 9.313 0.079 9.412 PlotPies 9.341 0.024 9.384 PlotNumbers 9.260 0.068 9.349 PlotVariable 9.046 0.019 9.113 QueryStarPlot 8.954 0.035 9.033 UpdateNodeSize 8.289 0.064 8.373 SaveClustersToFCS 8.157 0.035 8.212 PlotFlowSOM 8.023 0.048 8.097 GetMetaclusterMFIs 7.213 0.785 8.675 GetFeatures 7.591 0.004 7.611 NClusters 7.516 0.020 7.553 MetaclusterMFIs 7.186 0.088 7.294 PlotLabels 7.217 0.016 7.253 NMetaclusters 7.182 0.019 7.216 GetMetaclusterPercentagesPositive 6.816 0.171 7.026 GetMetaclusterCVs 6.878 0.008 6.910 TestOutliers 6.794 0.024 6.833 GetMFIs 6.413 0.040 6.468 PlotOverview2D 6.410 0.040 6.462 MetaclusterCVs 6.395 0.052 6.460 GetPercentages 6.397 0.008 6.425 GetMetaclusters 6.307 0.016 6.339 print.FlowSOM 6.230 0.024 6.269 GetCounts 6.155 0.016 6.181 GetClusterMFIs 5.913 0.080 6.020 GetClusterPercentagesPositive 5.862 0.024 5.899 FlowSOMSubset 5.800 0.032 5.845 GetClusters 5.824 0.008 5.844 NewData 5.265 0.112 5.387 * checking for unstated dependencies in vignettes ... OK * checking package vignettes in ‘inst/doc’ ... OK * checking running R code from vignettes ... SKIPPED * checking re-building of vignette outputs ... SKIPPED * checking PDF version of manual ... OK * DONE Status: 1 NOTE See ‘/home/biocbuild/bbs-3.18-bioc/meat/FlowSOM.Rcheck/00check.log’ for details.
FlowSOM.Rcheck/00install.out
############################################################################## ############################################################################## ### ### Running command: ### ### /home/biocbuild/R/R-4.3.1/bin/R CMD INSTALL FlowSOM ### ############################################################################## ############################################################################## * installing to library ‘/home/biocbuild/R/R-4.3.1/site-library’ * installing *source* package ‘FlowSOM’ ... ** using staged installation ** libs using C compiler: ‘gcc (GCC) 10.3.1’ gcc -I"/home/biocbuild/R/R-4.3.1/include" -DNDEBUG -I/usr/local/include -fPIC -g -O2 -Wall -c som.c -o som.o gcc -shared -L/home/biocbuild/R/R-4.3.1/lib -L/usr/local/lib -o FlowSOM.so som.o -L/home/biocbuild/R/R-4.3.1/lib -lR installing to /home/biocbuild/R/R-4.3.1/site-library/00LOCK-FlowSOM/00new/FlowSOM/libs ** R ** inst ** byte-compile and prepare package for lazy loading ** help *** installing help indices ** building package indices ** installing vignettes ** testing if installed package can be loaded from temporary location ** checking absolute paths in shared objects and dynamic libraries ** testing if installed package can be loaded from final location ** testing if installed package keeps a record of temporary installation path * DONE (FlowSOM)
FlowSOM.Rcheck/FlowSOM-Ex.timings
name | user | system | elapsed | |
AddAnnotation | 12.395 | 0.272 | 12.698 | |
AggregateFlowFrames | 0.085 | 0.000 | 0.085 | |
BuildMST | 1.928 | 0.004 | 1.935 | |
BuildSOM | 1.899 | 0.016 | 1.919 | |
CountGroups | 9.313 | 0.079 | 9.412 | |
FMeasure | 0.002 | 0.000 | 0.002 | |
FlowSOM | 16.697 | 0.024 | 16.756 | |
FlowSOMSubset | 5.800 | 0.032 | 5.845 | |
FlowSOMmary | 79.721 | 0.295 | 80.029 | |
GetChannels | 0.036 | 0.000 | 0.039 | |
GetClusterMFIs | 5.913 | 0.080 | 6.020 | |
GetClusterPercentagesPositive | 5.862 | 0.024 | 5.899 | |
GetClusters | 5.824 | 0.008 | 5.844 | |
GetCounts | 6.155 | 0.016 | 6.181 | |
GetFeatures | 7.591 | 0.004 | 7.611 | |
GetFlowJoLabels | 9.954 | 0.120 | 10.102 | |
GetMFIs | 6.413 | 0.040 | 6.468 | |
GetMarkers | 0.038 | 0.000 | 0.041 | |
GetMetaclusterCVs | 6.878 | 0.008 | 6.910 | |
GetMetaclusterMFIs | 7.213 | 0.785 | 8.675 | |
GetMetaclusterPercentagesPositive | 6.816 | 0.171 | 7.026 | |
GetMetaclusters | 6.307 | 0.016 | 6.339 | |
GetPercentages | 6.397 | 0.008 | 6.425 | |
GroupStats | 16.962 | 0.060 | 17.062 | |
Initialize_KWSP | 0.006 | 0.000 | 0.006 | |
Initialize_PCA | 0.002 | 0.000 | 0.001 | |
MetaClustering | 4.587 | 0.020 | 4.618 | |
MetaclusterCVs | 6.395 | 0.052 | 6.460 | |
MetaclusterMFIs | 7.186 | 0.088 | 7.294 | |
NClusters | 7.516 | 0.020 | 7.553 | |
NMetaclusters | 7.182 | 0.019 | 7.216 | |
NewData | 5.265 | 0.112 | 5.387 | |
Plot2DScatters | 10.862 | 0.056 | 11.041 | |
PlotCenters | 1.852 | 0.008 | 1.867 | |
PlotClusters2D | 1.868 | 0.000 | 1.871 | |
PlotDimRed | 82.201 | 1.603 | 86.084 | |
PlotFileScatters | 1.043 | 0.028 | 1.106 | |
PlotFlowSOM | 8.023 | 0.048 | 8.097 | |
PlotGroups | 15.883 | 0.056 | 15.972 | |
PlotLabels | 7.217 | 0.016 | 7.253 | |
PlotManualBars | 11.204 | 0.041 | 11.272 | |
PlotMarker | 22.055 | 0.053 | 22.152 | |
PlotNode | 9.672 | 0.032 | 9.723 | |
PlotNumbers | 9.260 | 0.068 | 9.349 | |
PlotOutliers | 22.492 | 0.048 | 22.591 | |
PlotOverview2D | 6.410 | 0.040 | 6.462 | |
PlotPies | 9.341 | 0.024 | 9.384 | |
PlotSD | 2.974 | 0.016 | 2.996 | |
PlotStars | 18.755 | 0.024 | 18.819 | |
PlotVariable | 9.046 | 0.019 | 9.113 | |
Purity | 0.001 | 0.001 | 0.001 | |
QueryMultiple | 11.680 | 1.095 | 13.509 | |
QueryStarPlot | 8.954 | 0.035 | 9.033 | |
ReadInput | 4.809 | 0.032 | 4.852 | |
SaveClustersToFCS | 8.157 | 0.035 | 8.212 | |
TestOutliers | 6.794 | 0.024 | 6.833 | |
UpdateMetaclusters | 22.286 | 0.068 | 22.405 | |
UpdateNodeSize | 8.289 | 0.064 | 8.373 | |
get_channels | 0.035 | 0.000 | 0.034 | |
get_markers | 0.030 | 0.004 | 0.034 | |
metaClustering_consensus | 3.762 | 0.016 | 3.787 | |
plotStarLegend | 0.411 | 0.004 | 0.416 | |
print.FlowSOM | 6.230 | 0.024 | 6.269 | |
query_multiple | 11.686 | 0.060 | 11.772 | |