| Back to Multiple platform build/check report for BioC 3.18: simplified long |
|
This page was generated on 2024-04-17 11:35:57 -0400 (Wed, 17 Apr 2024).
| Hostname | OS | Arch (*) | R version | Installed pkgs |
|---|---|---|---|---|
| nebbiolo2 | Linux (Ubuntu 22.04.3 LTS) | x86_64 | 4.3.3 (2024-02-29) -- "Angel Food Cake" | 4676 |
| palomino4 | Windows Server 2022 Datacenter | x64 | 4.3.3 (2024-02-29 ucrt) -- "Angel Food Cake" | 4414 |
| merida1 | macOS 12.7.1 Monterey | x86_64 | 4.3.3 (2024-02-29) -- "Angel Food Cake" | 4437 |
| Click on any hostname to see more info about the system (e.g. compilers) (*) as reported by 'uname -p', except on Windows and Mac OS X | ||||
| Package 738/2266 | Hostname | OS / Arch | INSTALL | BUILD | CHECK | BUILD BIN | ||||||||
| FlowSOM 2.10.0 (landing page) Sofie Van Gassen
| nebbiolo2 | Linux (Ubuntu 22.04.3 LTS) / x86_64 | OK | OK | OK | |||||||||
| palomino4 | Windows Server 2022 Datacenter / x64 | OK | OK | OK | OK | |||||||||
| merida1 | macOS 12.7.1 Monterey / x86_64 | OK | OK | OK | OK | |||||||||
| kjohnson1 | macOS 13.6.1 Ventura / arm64 | see weekly results here | ||||||||||||
|
To the developers/maintainers of the FlowSOM package: - Allow up to 24 hours (and sometimes 48 hours) for your latest push to git@git.bioconductor.org:packages/FlowSOM.git to reflect on this report. See Troubleshooting Build Report for more information. - Use the following Renviron settings to reproduce errors and warnings. - If 'R CMD check' started to fail recently on the Linux builder(s) over a missing dependency, add the missing dependency to 'Suggests:' in your DESCRIPTION file. See Renviron.bioc for more information. |
| Package: FlowSOM |
| Version: 2.10.0 |
| Command: /home/biocbuild/bbs-3.18-bioc/R/bin/R CMD check --install=check:FlowSOM.install-out.txt --library=/home/biocbuild/bbs-3.18-bioc/R/site-library --timings FlowSOM_2.10.0.tar.gz |
| StartedAt: 2024-04-15 22:52:05 -0400 (Mon, 15 Apr 2024) |
| EndedAt: 2024-04-15 23:04:43 -0400 (Mon, 15 Apr 2024) |
| EllapsedTime: 758.9 seconds |
| RetCode: 0 |
| Status: OK |
| CheckDir: FlowSOM.Rcheck |
| Warnings: 0 |
##############################################################################
##############################################################################
###
### Running command:
###
### /home/biocbuild/bbs-3.18-bioc/R/bin/R CMD check --install=check:FlowSOM.install-out.txt --library=/home/biocbuild/bbs-3.18-bioc/R/site-library --timings FlowSOM_2.10.0.tar.gz
###
##############################################################################
##############################################################################
* using log directory ‘/home/biocbuild/bbs-3.18-bioc/meat/FlowSOM.Rcheck’
* using R version 4.3.3 (2024-02-29)
* using platform: x86_64-pc-linux-gnu (64-bit)
* R was compiled by
gcc (Ubuntu 11.4.0-1ubuntu1~22.04) 11.4.0
GNU Fortran (Ubuntu 11.4.0-1ubuntu1~22.04) 11.4.0
* running under: Ubuntu 22.04.4 LTS
* using session charset: UTF-8
* checking for file ‘FlowSOM/DESCRIPTION’ ... OK
* this is package ‘FlowSOM’ version ‘2.10.0’
* package encoding: UTF-8
* checking package namespace information ... OK
* checking package dependencies ... OK
* checking if this is a source package ... OK
* checking if there is a namespace ... OK
* checking for hidden files and directories ... OK
* checking for portable file names ... OK
* checking for sufficient/correct file permissions ... OK
* checking whether package ‘FlowSOM’ can be installed ... OK
* used C compiler: ‘gcc (Ubuntu 11.4.0-1ubuntu1~22.04) 11.4.0’
* checking installed package size ... OK
* checking package directory ... OK
* checking ‘build’ directory ... OK
* checking DESCRIPTION meta-information ... OK
* checking top-level files ... OK
* checking for left-over files ... OK
* checking index information ... OK
* checking package subdirectories ... OK
* checking R files for non-ASCII characters ... OK
* checking R files for syntax errors ... OK
* checking whether the package can be loaded ... OK
* checking whether the package can be loaded with stated dependencies ... OK
* checking whether the package can be unloaded cleanly ... OK
* checking whether the namespace can be loaded with stated dependencies ... OK
* checking whether the namespace can be unloaded cleanly ... OK
* checking loading without being on the library search path ... OK
* checking startup messages can be suppressed ... OK
* checking dependencies in R code ... OK
* checking S3 generic/method consistency ... OK
* checking replacement functions ... OK
* checking foreign function calls ... OK
* checking R code for possible problems ... OK
* checking Rd files ... OK
* checking Rd metadata ... OK
* checking Rd cross-references ... OK
* checking for missing documentation entries ... OK
* checking for code/documentation mismatches ... OK
* checking Rd \usage sections ... OK
* checking Rd contents ... OK
* checking for unstated dependencies in examples ... OK
* checking line endings in C/C++/Fortran sources/headers ... OK
* checking compiled code ... NOTE
Note: information on .o files is not available
* checking files in ‘vignettes’ ... OK
* checking examples ... OK
Examples with CPU (user + system) or elapsed time > 5s
user system elapsed
FlowSOMmary 59.513 0.480 59.668
PlotDimRed 44.973 0.216 45.123
PlotMarker 23.616 0.152 23.768
UpdateMetaclusters 21.115 0.088 21.203
PlotStars 17.795 0.124 17.921
PlotOutliers 15.940 0.020 15.961
GroupStats 15.397 0.168 15.565
query_multiple 14.073 0.028 14.102
QueryMultiple 13.622 0.036 13.658
FlowSOM 12.568 0.072 12.640
PlotGroups 12.562 0.056 12.618
Plot2DScatters 10.361 0.080 10.410
AddAnnotation 10.144 0.183 10.328
QueryStarPlot 9.428 0.020 9.449
GetFlowJoLabels 8.710 0.236 8.945
UpdateNodeSize 8.158 0.088 8.246
PlotNumbers 7.989 0.024 8.014
PlotNode 7.702 0.052 7.756
PlotVariable 7.734 0.008 7.743
PlotPies 7.030 0.044 7.075
PlotManualBars 6.872 0.016 6.889
PlotFlowSOM 5.866 0.052 5.918
CountGroups 5.632 0.088 5.720
GetFeatures 5.276 0.080 5.356
PlotLabels 5.231 0.076 5.307
SaveClustersToFCS 5.216 0.012 5.228
* checking for unstated dependencies in vignettes ... OK
* checking package vignettes in ‘inst/doc’ ... OK
* checking running R code from vignettes ...
‘FlowSOM.Rnw’ using ‘latin-9’... OK
OK
* checking re-building of vignette outputs ... OK
* checking PDF version of manual ... OK
* DONE
Status: 1 NOTE
See
‘/home/biocbuild/bbs-3.18-bioc/meat/FlowSOM.Rcheck/00check.log’
for details.
FlowSOM.Rcheck/00install.out
############################################################################## ############################################################################## ### ### Running command: ### ### /home/biocbuild/bbs-3.18-bioc/R/bin/R CMD INSTALL FlowSOM ### ############################################################################## ############################################################################## * installing to library ‘/home/biocbuild/bbs-3.18-bioc/R/site-library’ * installing *source* package ‘FlowSOM’ ... ** using staged installation ** libs using C compiler: ‘gcc (Ubuntu 11.4.0-1ubuntu1~22.04) 11.4.0’ gcc -I"/home/biocbuild/bbs-3.18-bioc/R/include" -DNDEBUG -I/usr/local/include -fpic -g -O2 -Wall -c som.c -o som.o gcc -shared -L/home/biocbuild/bbs-3.18-bioc/R/lib -L/usr/local/lib -o FlowSOM.so som.o -L/home/biocbuild/bbs-3.18-bioc/R/lib -lR installing to /home/biocbuild/bbs-3.18-bioc/R/site-library/00LOCK-FlowSOM/00new/FlowSOM/libs ** R ** inst ** byte-compile and prepare package for lazy loading ** help *** installing help indices ** building package indices ** installing vignettes ** testing if installed package can be loaded from temporary location ** checking absolute paths in shared objects and dynamic libraries ** testing if installed package can be loaded from final location ** testing if installed package keeps a record of temporary installation path * DONE (FlowSOM)
FlowSOM.Rcheck/FlowSOM-Ex.timings
| name | user | system | elapsed | |
| AddAnnotation | 10.144 | 0.183 | 10.328 | |
| AggregateFlowFrames | 0.076 | 0.000 | 0.076 | |
| BuildMST | 1.327 | 0.024 | 1.351 | |
| BuildSOM | 1.021 | 0.020 | 1.041 | |
| CountGroups | 5.632 | 0.088 | 5.720 | |
| FMeasure | 0.001 | 0.000 | 0.001 | |
| FlowSOM | 12.568 | 0.072 | 12.640 | |
| FlowSOMSubset | 3.934 | 0.068 | 4.002 | |
| FlowSOMmary | 59.513 | 0.480 | 59.668 | |
| GetChannels | 0.027 | 0.000 | 0.026 | |
| GetClusterMFIs | 3.887 | 0.200 | 4.087 | |
| GetClusterPercentagesPositive | 3.814 | 0.180 | 3.994 | |
| GetClusters | 3.777 | 0.136 | 3.919 | |
| GetCounts | 3.884 | 0.048 | 3.932 | |
| GetFeatures | 5.276 | 0.080 | 5.356 | |
| GetFlowJoLabels | 8.710 | 0.236 | 8.945 | |
| GetMFIs | 4.594 | 0.096 | 4.689 | |
| GetMarkers | 0.026 | 0.000 | 0.026 | |
| GetMetaclusterCVs | 4.263 | 0.092 | 4.372 | |
| GetMetaclusterMFIs | 4.334 | 0.028 | 4.364 | |
| GetMetaclusterPercentagesPositive | 4.345 | 0.080 | 4.425 | |
| GetMetaclusters | 4.565 | 0.064 | 4.629 | |
| GetPercentages | 4.426 | 0.056 | 4.482 | |
| GroupStats | 15.397 | 0.168 | 15.565 | |
| Initialize_KWSP | 0.004 | 0.000 | 0.004 | |
| Initialize_PCA | 0.001 | 0.000 | 0.001 | |
| MetaClustering | 2.947 | 0.096 | 3.042 | |
| MetaclusterCVs | 4.184 | 0.052 | 4.235 | |
| MetaclusterMFIs | 4.934 | 0.036 | 4.969 | |
| NClusters | 4.523 | 0.028 | 4.553 | |
| NMetaclusters | 4.626 | 0.044 | 4.670 | |
| NewData | 3.697 | 0.012 | 3.708 | |
| Plot2DScatters | 10.361 | 0.080 | 10.410 | |
| PlotCenters | 1.028 | 0.004 | 1.033 | |
| PlotClusters2D | 1.039 | 0.000 | 1.040 | |
| PlotDimRed | 44.973 | 0.216 | 45.123 | |
| PlotFileScatters | 0.882 | 0.008 | 0.890 | |
| PlotFlowSOM | 5.866 | 0.052 | 5.918 | |
| PlotGroups | 12.562 | 0.056 | 12.618 | |
| PlotLabels | 5.231 | 0.076 | 5.307 | |
| PlotManualBars | 6.872 | 0.016 | 6.889 | |
| PlotMarker | 23.616 | 0.152 | 23.768 | |
| PlotNode | 7.702 | 0.052 | 7.756 | |
| PlotNumbers | 7.989 | 0.024 | 8.014 | |
| PlotOutliers | 15.940 | 0.020 | 15.961 | |
| PlotOverview2D | 4.485 | 0.012 | 4.497 | |
| PlotPies | 7.030 | 0.044 | 7.075 | |
| PlotSD | 2.461 | 0.012 | 2.473 | |
| PlotStars | 17.795 | 0.124 | 17.921 | |
| PlotVariable | 7.734 | 0.008 | 7.743 | |
| Purity | 0.001 | 0.000 | 0.001 | |
| QueryMultiple | 13.622 | 0.036 | 13.658 | |
| QueryStarPlot | 9.428 | 0.020 | 9.449 | |
| ReadInput | 3.069 | 0.024 | 3.094 | |
| SaveClustersToFCS | 5.216 | 0.012 | 5.228 | |
| TestOutliers | 4.896 | 0.004 | 4.900 | |
| UpdateMetaclusters | 21.115 | 0.088 | 21.203 | |
| UpdateNodeSize | 8.158 | 0.088 | 8.246 | |
| get_channels | 0.026 | 0.000 | 0.026 | |
| get_markers | 0.036 | 0.004 | 0.040 | |
| metaClustering_consensus | 2.783 | 0.016 | 2.799 | |
| plotStarLegend | 0.78 | 0.00 | 0.78 | |
| print.FlowSOM | 4.110 | 0.020 | 4.131 | |
| query_multiple | 14.073 | 0.028 | 14.102 | |