| Back to Multiple platform build/check report for BioC 3.18: simplified long |
|
This page was generated on 2024-03-04 11:37:20 -0500 (Mon, 04 Mar 2024).
| Hostname | OS | Arch (*) | R version | Installed pkgs |
|---|---|---|---|---|
| nebbiolo2 | Linux (Ubuntu 22.04.3 LTS) | x86_64 | 4.3.2 Patched (2023-11-13 r85521) -- "Eye Holes" | 4692 |
| palomino4 | Windows Server 2022 Datacenter | x64 | 4.3.2 (2023-10-31 ucrt) -- "Eye Holes" | 4445 |
| lconway | macOS 12.7.1 Monterey | x86_64 | 4.3.2 Patched (2023-11-01 r85457) -- "Eye Holes" | 4466 |
| Click on any hostname to see more info about the system (e.g. compilers) (*) as reported by 'uname -p', except on Windows and Mac OS X | ||||
| Package 711/2266 | Hostname | OS / Arch | INSTALL | BUILD | CHECK | BUILD BIN | ||||||||
| FindIT2 1.8.0 (landing page) Guandong Shang
| nebbiolo2 | Linux (Ubuntu 22.04.3 LTS) / x86_64 | OK | OK | OK | |||||||||
| palomino4 | Windows Server 2022 Datacenter / x64 | OK | OK | OK | OK | |||||||||
| lconway | macOS 12.7.1 Monterey / x86_64 | OK | OK | OK | OK | |||||||||
| kjohnson1 | macOS 13.6.1 Ventura / arm64 | see weekly results here | ||||||||||||
|
To the developers/maintainers of the FindIT2 package: - Allow up to 24 hours (and sometimes 48 hours) for your latest push to git@git.bioconductor.org:packages/FindIT2.git to reflect on this report. See Troubleshooting Build Report for more information. - Use the following Renviron settings to reproduce errors and warnings. - If 'R CMD check' started to fail recently on the Linux builder(s) over a missing dependency, add the missing dependency to 'Suggests:' in your DESCRIPTION file. See Renviron.bioc for more information. |
| Package: FindIT2 |
| Version: 1.8.0 |
| Command: /Library/Frameworks/R.framework/Resources/bin/R CMD check --install=check:FindIT2.install-out.txt --library=/Library/Frameworks/R.framework/Resources/library --no-vignettes --timings FindIT2_1.8.0.tar.gz |
| StartedAt: 2024-03-03 20:36:50 -0500 (Sun, 03 Mar 2024) |
| EndedAt: 2024-03-03 20:43:57 -0500 (Sun, 03 Mar 2024) |
| EllapsedTime: 427.2 seconds |
| RetCode: 0 |
| Status: OK |
| CheckDir: FindIT2.Rcheck |
| Warnings: 0 |
##############################################################################
##############################################################################
###
### Running command:
###
### /Library/Frameworks/R.framework/Resources/bin/R CMD check --install=check:FindIT2.install-out.txt --library=/Library/Frameworks/R.framework/Resources/library --no-vignettes --timings FindIT2_1.8.0.tar.gz
###
##############################################################################
##############################################################################
* using log directory ‘/Users/biocbuild/bbs-3.18-bioc/meat/FindIT2.Rcheck’
* using R version 4.3.2 Patched (2023-11-01 r85457)
* using platform: x86_64-apple-darwin20 (64-bit)
* R was compiled by
Apple clang version 14.0.3 (clang-1403.0.22.14.1)
GNU Fortran (GCC) 12.2.0
* running under: macOS Monterey 12.7.1
* using session charset: UTF-8
* using option ‘--no-vignettes’
* checking for file ‘FindIT2/DESCRIPTION’ ... OK
* this is package ‘FindIT2’ version ‘1.8.0’
* package encoding: UTF-8
* checking package namespace information ... OK
* checking package dependencies ... OK
* checking if this is a source package ... OK
* checking if there is a namespace ... OK
* checking for hidden files and directories ... OK
* checking for portable file names ... OK
* checking for sufficient/correct file permissions ... OK
* checking whether package ‘FindIT2’ can be installed ... OK
* checking installed package size ... OK
* checking package directory ... OK
* checking ‘build’ directory ... OK
* checking DESCRIPTION meta-information ... OK
* checking top-level files ... OK
* checking for left-over files ... OK
* checking index information ... OK
* checking package subdirectories ... OK
* checking R files for non-ASCII characters ... OK
* checking R files for syntax errors ... OK
* checking whether the package can be loaded ... OK
* checking whether the package can be loaded with stated dependencies ... OK
* checking whether the package can be unloaded cleanly ... OK
* checking whether the namespace can be loaded with stated dependencies ... OK
* checking whether the namespace can be unloaded cleanly ... OK
* checking dependencies in R code ... OK
* checking S3 generic/method consistency ... OK
* checking replacement functions ... OK
* checking foreign function calls ... OK
* checking R code for possible problems ... OK
* checking Rd files ... OK
* checking Rd metadata ... OK
* checking Rd cross-references ... OK
* checking for missing documentation entries ... OK
* checking for code/documentation mismatches ... OK
* checking Rd \usage sections ... OK
* checking Rd contents ... OK
* checking for unstated dependencies in examples ... OK
* checking contents of ‘data’ directory ... OK
* checking data for non-ASCII characters ... OK
* checking data for ASCII and uncompressed saves ... OK
* checking files in ‘vignettes’ ... OK
* checking examples ... OK
Examples with CPU (user + system) or elapsed time > 5s
user system elapsed
findIT_regionRP 6.868 0.180 7.104
calcRP_region 5.431 0.199 5.676
calcRP_coverage 4.505 0.908 5.512
* checking for unstated dependencies in ‘tests’ ... OK
* checking tests ...
Running ‘testthat.R’
OK
* checking for unstated dependencies in vignettes ... OK
* checking package vignettes in ‘inst/doc’ ... OK
* checking running R code from vignettes ... SKIPPED
* checking re-building of vignette outputs ... SKIPPED
* checking PDF version of manual ... OK
* DONE
Status: OK
FindIT2.Rcheck/00install.out
############################################################################## ############################################################################## ### ### Running command: ### ### /Library/Frameworks/R.framework/Resources/bin/R CMD INSTALL FindIT2 ### ############################################################################## ############################################################################## * installing to library ‘/Library/Frameworks/R.framework/Versions/4.3-x86_64/Resources/library’ * installing *source* package ‘FindIT2’ ... ** using staged installation ** R ** data ** inst ** byte-compile and prepare package for lazy loading ** help *** installing help indices ** building package indices ** installing vignettes ** testing if installed package can be loaded from temporary location ** testing if installed package can be loaded from final location ** testing if installed package keeps a record of temporary installation path * DONE (FindIT2)
FindIT2.Rcheck/tests/testthat.Rout
R version 4.3.2 Patched (2023-11-01 r85457) -- "Eye Holes"
Copyright (C) 2023 The R Foundation for Statistical Computing
Platform: x86_64-apple-darwin20 (64-bit)
R is free software and comes with ABSOLUTELY NO WARRANTY.
You are welcome to redistribute it under certain conditions.
Type 'license()' or 'licence()' for distribution details.
R is a collaborative project with many contributors.
Type 'contributors()' for more information and
'citation()' on how to cite R or R packages in publications.
Type 'demo()' for some demos, 'help()' for on-line help, or
'help.start()' for an HTML browser interface to help.
Type 'q()' to quit R.
> library(testthat)
> library(FindIT2)
Loading required package: GenomicRanges
Loading required package: stats4
Loading required package: BiocGenerics
Attaching package: 'BiocGenerics'
The following objects are masked from 'package:stats':
IQR, mad, sd, var, xtabs
The following objects are masked from 'package:base':
Filter, Find, Map, Position, Reduce, anyDuplicated, aperm, append,
as.data.frame, basename, cbind, colnames, dirname, do.call,
duplicated, eval, evalq, get, grep, grepl, intersect, is.unsorted,
lapply, mapply, match, mget, order, paste, pmax, pmax.int, pmin,
pmin.int, rank, rbind, rownames, sapply, setdiff, sort, table,
tapply, union, unique, unsplit, which.max, which.min
Loading required package: S4Vectors
Attaching package: 'S4Vectors'
The following object is masked from 'package:utils':
findMatches
The following objects are masked from 'package:base':
I, expand.grid, unname
Loading required package: IRanges
Loading required package: GenomeInfoDb
> if (!requireNamespace("TxDb.Athaliana.BioMart.plantsmart28")) {
+ stop("unable to load TxDb.Athaliana.BioMart.plantsmart28")
+ }
Loading required namespace: TxDb.Athaliana.BioMart.plantsmart28
>
> test_check("FindIT2")
>> preparing gene features information... 2024-03-03 20:42:42
>> some scan range may cross Chr bound, trimming... 2024-03-03 20:42:44
>> preparing weight info... 2024-03-03 20:42:44
>> loading E50h_sampleChr5.bw info... 2024-03-03 20:42:44
------------
>> extracting and calcluating Chr5 signal... 2024-03-03 20:42:44
>> dealing with Chr5 left gene signal... 2024-03-03 20:42:48
>> norming Chr5RP accoring to the whole Chr RP... 2024-03-03 20:42:49
>> merging all Chr RP together... 2024-03-03 20:42:49
>> done 2024-03-03 20:42:49
>> checking seqlevels match... 2024-03-03 20:42:49
>> your peak_GR seqlevel:Chr5...
>> your Txdb seqlevel:Chr1 Chr2 Chr3 Chr4 Chr5 ChrM ChrC...
Good, your Chrs in peak_GR is all in Txdb
------------
annotatePeak using geneScan mode begins
>> preparing gene features information and scan region... 2024-03-03 20:42:49
>> some scan range may cross Chr bound, trimming... 2024-03-03 20:42:50
>> finding overlap peak in gene scan region... 2024-03-03 20:42:50
>> dealing with left peak not your gene scan region... 2024-03-03 20:42:50
>> merging two set peaks... 2024-03-03 20:42:50
>> calculating distance and dealing with gene strand... 2024-03-03 20:42:50
>> merging all info together ... 2024-03-03 20:42:50
>> done 2024-03-03 20:42:50
>> calculating peakCenter to TSS using peak-gene pair... 2024-03-03 20:42:50
>> pre-filling 1356 noAssoc peak gene's RP with 0... 2024-03-03 20:42:51
>> calculating RP using centerToTSS and peak score2024-03-03 20:42:51
>> merging all info together 2024-03-03 20:42:53
>> done 2024-03-03 20:42:54
>> calculating peakCenter to TSS using peak-gene pair... 2024-03-03 20:42:54
>> pre-filling 1356 noAssoc peak gene's RP with 0... 2024-03-03 20:42:55
>> calculating RP using centerToTSS and peak score2024-03-03 20:42:55
>> merging all info together 2024-03-03 20:42:58
>> done 2024-03-03 20:42:59
>> checking seqlevels match... 2024-03-03 20:42:59
>> your peak_GR seqlevel:Chr5...
>> your Txdb seqlevel:Chr1 Chr2 Chr3 Chr4 Chr5 ChrM ChrC...
Good, your Chrs in peak_GR is all in Txdb
------------
annotatePeak using geneScan mode begins
>> preparing gene features information and scan region... 2024-03-03 20:42:59
>> some scan range may cross Chr bound, trimming... 2024-03-03 20:43:00
>> finding overlap peak in gene scan region... 2024-03-03 20:43:00
>> dealing with left peak not your gene scan region... 2024-03-03 20:43:00
>> merging two set peaks... 2024-03-03 20:43:00
>> calculating distance and dealing with gene strand... 2024-03-03 20:43:00
>> merging all info together ... 2024-03-03 20:43:01
>> done 2024-03-03 20:43:01
>> calculating peakCenter to TSS using peak-gene pair... 2024-03-03 20:43:01
>> calculating RP using centerToTSS and TF hit 2024-03-03 20:43:01
>> merging all info together 2024-03-03 20:43:01
>> done 2024-03-03 20:43:02
>> calculating peakCenter to TSS using peak-gene pair... 2024-03-03 20:43:02
>> calculating RP using centerToTSS and TF hit 2024-03-03 20:43:03
>> merging all info together 2024-03-03 20:43:03
>> done 2024-03-03 20:43:03
>> checking seqlevels match... 2024-03-03 20:43:03
>> your peak_GR seqlevel:Chr5...
>> your Txdb seqlevel:Chr1 Chr2 Chr3 Chr4 Chr5 ChrM ChrC...
Good, your Chrs in peak_GR is all in Txdb
------------
annotatePeak using geneScan mode begins
>> preparing gene features information and scan region... 2024-03-03 20:43:04
>> some scan range may cross Chr bound, trimming... 2024-03-03 20:43:05
>> finding overlap peak in gene scan region... 2024-03-03 20:43:05
>> dealing with left peak not your gene scan region... 2024-03-03 20:43:06
>> merging two set peaks... 2024-03-03 20:43:06
>> calculating distance and dealing with gene strand... 2024-03-03 20:43:06
>> merging all info together ... 2024-03-03 20:43:06
>> done 2024-03-03 20:43:06
>> calculating peakCenter to TSS using peak-gene pair... 2024-03-03 20:43:06
>> pre-filling 1356 noAssoc peak gene's RP with 0... 2024-03-03 20:43:07
>> calculating RP using centerToTSS and peak score2024-03-03 20:43:07
>> merging all info together 2024-03-03 20:43:09
>> done 2024-03-03 20:43:09
>> extracting RP info from regionRP... 2024-03-03 20:43:11
>> dealing with TF_GR_databse... 2024-03-03 20:43:11
>> calculating percent and p-value... 2024-03-03 20:43:11
>> dealing withE5_0h_R1... 2024-03-03 20:43:11
>> dealing withE5_0h_R2... 2024-03-03 20:43:11
>> dealing withE5_4h_R1... 2024-03-03 20:43:11
>> dealing withE5_4h_R2... 2024-03-03 20:43:11
>> dealing withE5_8h_R1... 2024-03-03 20:43:11
>> dealing withE5_8h_R2... 2024-03-03 20:43:12
>> dealing withE5_16h_R1... 2024-03-03 20:43:12
>> dealing withE5_16h_R2... 2024-03-03 20:43:12
>> dealing withE5_24h_R1... 2024-03-03 20:43:12
>> dealing withE5_24h_R2... 2024-03-03 20:43:12
>> dealing withE5_48h_R1... 2024-03-03 20:43:12
>> dealing withE5_48h_R2... 2024-03-03 20:43:12
>> dealing withE5_48h_R3... 2024-03-03 20:43:12
>> dealing withE5_72h_R1... 2024-03-03 20:43:12
>> dealing withE5_72h_R2... 2024-03-03 20:43:12
>> dealing withE5_72h_R3... 2024-03-03 20:43:12
>> merging all info together... 2024-03-03 20:43:12
>> done 2024-03-03 20:43:12
>> preparing gene features information... 2024-03-03 20:43:12
>> some scan range may cross Chr bound, trimming... 2024-03-03 20:43:13
>> calculating p-value for each TF, which may be time consuming... 2024-03-03 20:43:13
>> merging all info together... 2024-03-03 20:43:13
>> done 2024-03-03 20:43:13
>> dealing with TF_GR_database... 2024-03-03 20:43:14
>> calculating coef and converting into z-score using INT... 2024-03-03 20:43:14
>> dealing with E5_0h_R1... 2024-03-03 20:43:14
>> dealing with E5_0h_R2... 2024-03-03 20:43:14
>> dealing with E5_4h_R1... 2024-03-03 20:43:14
>> dealing with E5_4h_R2... 2024-03-03 20:43:14
>> dealing with E5_8h_R1... 2024-03-03 20:43:14
>> dealing with E5_8h_R2... 2024-03-03 20:43:14
>> dealing with E5_16h_R1... 2024-03-03 20:43:14
>> dealing with E5_16h_R2... 2024-03-03 20:43:14
>> dealing with E5_24h_R1... 2024-03-03 20:43:14
>> dealing with E5_24h_R2... 2024-03-03 20:43:14
>> dealing with E5_48h_R1... 2024-03-03 20:43:15
>> dealing with E5_48h_R2... 2024-03-03 20:43:15
>> dealing with E5_48h_R3... 2024-03-03 20:43:15
>> dealing with E5_72h_R1... 2024-03-03 20:43:15
>> dealing with E5_72h_R2... 2024-03-03 20:43:15
>> dealing with E5_72h_R3... 2024-03-03 20:43:15
>> merging all info together... 2024-03-03 20:43:15
>> done 2024-03-03 20:43:15
>> checking seqlevels match... 2024-03-03 20:43:15
>> your peak_GR seqlevel:Chr5...
>> your Txdb seqlevel:Chr1 Chr2 Chr3 Chr4 Chr5 ChrM ChrC...
Good, your Chrs in peak_GR is all in Txdb
------------
annotatePeak using geneScan mode begins
>> preparing gene features information and scan region... 2024-03-03 20:43:15
>> some scan range may cross Chr bound, trimming... 2024-03-03 20:43:16
>> finding overlap peak in gene scan region... 2024-03-03 20:43:16
>> dealing with left peak not your gene scan region... 2024-03-03 20:43:16
>> merging two set peaks... 2024-03-03 20:43:17
>> calculating distance and dealing with gene strand... 2024-03-03 20:43:17
>> merging all info together ... 2024-03-03 20:43:17
>> done 2024-03-03 20:43:17
>> calculating peakCenter to TSS using peak-gene pair... 2024-03-03 20:43:17
>> calculating RP using centerToTSS and TF hit 2024-03-03 20:43:17
>> merging all info together 2024-03-03 20:43:17
>> done 2024-03-03 20:43:18
>> checking seqlevels match... 2024-03-03 20:43:18
>> your peak_GR seqlevel:5...
>> your Txdb seqlevel:Chr1 Chr2 Chr3 Chr4 Chr5 ChrM ChrC...
>> checking seqlevels match... 2024-03-03 20:43:18
>> your peak_GR seqlevel:Chr5 Chr6...
>> your Txdb seqlevel:Chr1 Chr2 Chr3 Chr4 Chr5 ChrM ChrC...
>> checking seqlevels match... 2024-03-03 20:43:22
>> your peak_GR seqlevel:Chr5...
>> your Txdb seqlevel:Chr1 Chr2 Chr3 Chr4 Chr5 ChrM ChrC...
Good, your Chrs in peak_GR is all in Txdb
>> checking seqlevels match... 2024-03-03 20:43:22
>> your peak_GR seqlevel:Chr5...
>> your Txdb seqlevel:Chr1 Chr2 Chr3 Chr4 Chr5 ChrM ChrC...
Good, your Chrs in peak_GR is all in Txdb
------------
annotating Peak using nearest gene mode begins
>> preparing gene features information... 2024-03-03 20:43:22
>> finding nearest gene and calculating distance... 2024-03-03 20:43:23
>> dealing with gene strand ... 2024-03-03 20:43:23
>> merging all info together ... 2024-03-03 20:43:23
>> done 2024-03-03 20:43:23
>> checking seqlevels match... 2024-03-03 20:43:23
>> your peak_GR seqlevel:Chr5...
>> your Txdb seqlevel:Chr1 Chr2 Chr3 Chr4 Chr5 ChrM ChrC...
Good, your Chrs in peak_GR is all in Txdb
>> checking seqlevels match... 2024-03-03 20:43:23
>> your peak_GR seqlevel:Chr5...
>> your Txdb seqlevel:Chr1 Chr2 Chr3 Chr4 Chr5 ChrM ChrC...
Good, your Chrs in peak_GR is all in Txdb
------------
annotating Peak using nearest gene mode begins
>> preparing gene features information... 2024-03-03 20:43:23
>> finding nearest gene and calculating distance... 2024-03-03 20:43:24
>> dealing with gene strand ... 2024-03-03 20:43:24
>> merging all info together ... 2024-03-03 20:43:24
>> done 2024-03-03 20:43:24
>> checking seqlevels match... 2024-03-03 20:43:25
>> your peak_GR seqlevel:Chr5...
>> your Txdb seqlevel:Chr1 Chr2 Chr3 Chr4 Chr5 ChrM ChrC...
Good, your Chrs in peak_GR is all in Txdb
>> checking seqlevels match... 2024-03-03 20:43:25
>> your peak_GR seqlevel:Chr5...
>> your Txdb seqlevel:Chr1 Chr2 Chr3 Chr4 Chr5 ChrM ChrC...
Good, your Chrs in peak_GR is all in Txdb
------------
annotating Peak using nearest gene mode begins
>> preparing gene features information... 2024-03-03 20:43:25
>> finding nearest gene and calculating distance... 2024-03-03 20:43:26
>> dealing with gene strand ... 2024-03-03 20:43:26
>> merging all info together ... 2024-03-03 20:43:26
>> done 2024-03-03 20:43:26
>> checking seqlevels match... 2024-03-03 20:43:27
>> your peak_GR seqlevel:Chr5...
>> your Txdb seqlevel:Chr1 Chr2 Chr3 Chr4 Chr5 ChrM ChrC...
Good, your Chrs in peak_GR is all in Txdb
>> checking seqlevels match... 2024-03-03 20:43:27
>> your peak_GR seqlevel:Chr5...
>> your Txdb seqlevel:Chr1 Chr2 Chr3 Chr4 Chr5 ChrM ChrC...
Good, your Chrs in peak_GR is all in Txdb
------------
annotating Peak using nearest gene mode begins
>> preparing gene features information... 2024-03-03 20:43:27
>> finding nearest gene and calculating distance... 2024-03-03 20:43:28
>> dealing with gene strand ... 2024-03-03 20:43:28
>> merging all info together ... 2024-03-03 20:43:28
>> done 2024-03-03 20:43:28
It seems that there 1 genes have not been annotated by nearestGene mode
>> checking seqlevels match... 2024-03-03 20:43:29
>> your peak_GR seqlevel:Chr5...
>> your Txdb seqlevel:Chr1 Chr2 Chr3 Chr4 Chr5 ChrM ChrC...
Good, your Chrs in peak_GR is all in Txdb
>> checking seqlevels match... 2024-03-03 20:43:29
>> your peak_GR seqlevel:Chr5...
>> your Txdb seqlevel:Chr1 Chr2 Chr3 Chr4 Chr5 ChrM ChrC...
Good, your Chrs in peak_GR is all in Txdb
------------
annotating Peak using nearest gene mode begins
>> preparing gene features information... 2024-03-03 20:43:29
>> finding nearest gene and calculating distance... 2024-03-03 20:43:30
>> dealing with gene strand ... 2024-03-03 20:43:30
>> merging all info together ... 2024-03-03 20:43:30
>> done 2024-03-03 20:43:31
It seems that there 1 genes have not been annotated by nearestGene mode
>> checking seqlevels match... 2024-03-03 20:43:32
>> your peak_GR seqlevel:Chr5...
>> your Txdb seqlevel:Chr1 Chr2 Chr3 Chr4 Chr5 ChrM ChrC...
Good, your Chrs in peak_GR is all in Txdb
>> checking seqlevels match... 2024-03-03 20:43:33
>> your peak_GR seqlevel:Chr5...
>> your Txdb seqlevel:Chr1 Chr2 Chr3 Chr4 Chr5 ChrM ChrC...
Good, your Chrs in peak_GR is all in Txdb
>> some scan range may cross Chr bound, trimming... 2024-03-03 20:43:34
>> checking seqlevels match... 2024-03-03 20:43:34
>> your peak_GR seqlevel:Chr5...
>> your Txdb seqlevel:Chr1 Chr2 Chr3 Chr4 Chr5 ChrM ChrC...
Good, your Chrs in peak_GR is all in Txdb
>> some scan range may cross Chr bound, trimming... 2024-03-03 20:43:36
Good, your two matrix colnames matchs
>> calculating cor and pvalue, which may be time consuming... 2024-03-03 20:43:38
>> merging all info together... 2024-03-03 20:43:38
>> done 2024-03-03 20:43:38
>> checking seqlevels match... 2024-03-03 20:43:38
>> your peak_GR seqlevel:Chr5...
>> your Txdb seqlevel:Chr1 Chr2 Chr3 Chr4 Chr5 ChrM ChrC...
Good, your Chrs in peak_GR is all in Txdb
>> using scanPromoter parameter to scan promoter for each gene... 2024-03-03 20:43:38
>> checking seqlevels match... 2024-03-03 20:43:38
>> your peak_GR seqlevel:Chr5...
>> your Txdb seqlevel:Chr1 Chr2 Chr3 Chr4 Chr5 ChrM ChrC...
Good, your Chrs in peak_GR is all in Txdb
>> some scan range may cross Chr bound, trimming... 2024-03-03 20:43:39
>> there are 85 gene have scaned promoter
>> using scanEnhancer parameter to scan Enhancer for each gene... 2024-03-03 20:43:39
>> checking seqlevels match... 2024-03-03 20:43:39
>> your peak_GR seqlevel:Chr5...
>> your Txdb seqlevel:Chr1 Chr2 Chr3 Chr4 Chr5 ChrM ChrC...
Good, your Chrs in peak_GR is all in Txdb
>> some scan range may cross Chr bound, trimming... 2024-03-03 20:43:40
>> calculating cor and pvalue, which may be time consuming... 2024-03-03 20:43:40
>> merging all info together... 2024-03-03 20:43:40
>> done 2024-03-03 20:43:41
Good, your two matrix colnames matchs
>> calculating cor and pvalue, which may be time consuming... 2024-03-03 20:43:41
>> merging all info together... 2024-03-03 20:43:41
>> done 2024-03-03 20:43:41
>> checking seqlevels match... 2024-03-03 20:43:41
>> your peak_GR seqlevel:Chr5...
>> your Txdb seqlevel:Chr1 Chr2 Chr3 Chr4 Chr5 ChrM ChrC...
Good, your Chrs in peak_GR is all in Txdb
------------
annotatePeak using geneScan mode begins
>> preparing gene features information and scan region... 2024-03-03 20:43:41
>> some scan range may cross Chr bound, trimming... 2024-03-03 20:43:42
>> finding overlap peak in gene scan region... 2024-03-03 20:43:42
>> dealing with left peak not your gene scan region... 2024-03-03 20:43:42
>> merging two set peaks... 2024-03-03 20:43:42
>> calculating distance and dealing with gene strand... 2024-03-03 20:43:42
>> merging all info together ... 2024-03-03 20:43:42
>> done 2024-03-03 20:43:42
Good, your two matrix colnames matchs
>> calculating cor and pvalue, which may be time consuming... 2024-03-03 20:43:43
>> merging all info together... 2024-03-03 20:43:43
>> done 2024-03-03 20:43:43
>> checking seqlevels match... 2024-03-03 20:43:43
>> your peak_GR seqlevel:Chr5...
>> your Txdb seqlevel:Chr1 Chr2 Chr3 Chr4 Chr5 ChrM ChrC...
Good, your Chrs in peak_GR is all in Txdb
>> using scanPromoter parameter to scan promoter for each gene... 2024-03-03 20:43:43
>> checking seqlevels match... 2024-03-03 20:43:43
>> your peak_GR seqlevel:Chr5...
>> your Txdb seqlevel:Chr1 Chr2 Chr3 Chr4 Chr5 ChrM ChrC...
Good, your Chrs in peak_GR is all in Txdb
>> some scan range may cross Chr bound, trimming... 2024-03-03 20:43:44
>> there are 85 gene have scaned promoter
>> using scanEnhancer parameter to scan Enhancer for each gene... 2024-03-03 20:43:45
>> checking seqlevels match... 2024-03-03 20:43:45
>> your peak_GR seqlevel:Chr5...
>> your Txdb seqlevel:Chr1 Chr2 Chr3 Chr4 Chr5 ChrM ChrC...
Good, your Chrs in peak_GR is all in Txdb
>> some scan range may cross Chr bound, trimming... 2024-03-03 20:43:46
>> calculating cor and pvalue, which may be time consuming... 2024-03-03 20:43:46
>> merging all info together... 2024-03-03 20:43:46
>> done 2024-03-03 20:43:46
Joining with `by = join_by(feature_id)`
Joining with `by = join_by(feature_id)`
`geom_smooth()` using formula = 'y ~ x'
Joining with `by = join_by(feature_id)`
Joining with `by = join_by(feature_id)`
`geom_smooth()` using formula = 'y ~ x'
[ FAIL 0 | WARN 0 | SKIP 0 | PASS 65 ]
>
> proc.time()
user system elapsed
75.244 3.351 79.433
FindIT2.Rcheck/FindIT2-Ex.timings
| name | user | system | elapsed | |
| TF_target_database | 0.000 | 0.002 | 0.003 | |
| calcRP_TFHit | 3.980 | 0.209 | 4.302 | |
| calcRP_coverage | 4.505 | 0.908 | 5.512 | |
| calcRP_region | 5.431 | 0.199 | 5.676 | |
| enhancerPromoterCor | 3.070 | 0.079 | 3.173 | |
| findIT_MARA | 0.593 | 0.053 | 0.649 | |
| findIT_TFHit | 1.194 | 0.037 | 1.242 | |
| findIT_TTPair | 0.103 | 0.007 | 0.111 | |
| findIT_enrichFisher | 0.200 | 0.006 | 0.209 | |
| findIT_enrichWilcox | 0.203 | 0.006 | 0.211 | |
| findIT_regionRP | 6.868 | 0.180 | 7.104 | |
| getAssocPairNumber | 1.423 | 0.053 | 1.491 | |
| integrate_ChIP_RNA | 2.635 | 0.099 | 2.787 | |
| integrate_replicates | 0.002 | 0.001 | 0.003 | |
| jaccard_findIT_TTpair | 0.128 | 0.007 | 0.137 | |
| jaccard_findIT_enrichFisher | 0.292 | 0.023 | 0.326 | |
| loadPeakFile | 0.080 | 0.003 | 0.084 | |
| mm_geneBound | 1.525 | 0.042 | 1.581 | |
| mm_geneScan | 1.506 | 0.042 | 1.571 | |
| mm_nearestGene | 1.313 | 0.096 | 1.449 | |
| peakGeneCor | 2.652 | 0.067 | 2.750 | |
| plot_annoDistance | 1.741 | 0.066 | 1.828 | |
| plot_peakGeneAlias_summary | 1.573 | 0.048 | 1.647 | |
| plot_peakGeneCor | 4.168 | 0.184 | 4.395 | |
| test_geneSet | 0.000 | 0.000 | 0.001 | |