| Back to Multiple platform build/check report for BioC 3.18: simplified long |
|
This page was generated on 2024-04-17 11:35:57 -0400 (Wed, 17 Apr 2024).
| Hostname | OS | Arch (*) | R version | Installed pkgs |
|---|---|---|---|---|
| nebbiolo2 | Linux (Ubuntu 22.04.3 LTS) | x86_64 | 4.3.3 (2024-02-29) -- "Angel Food Cake" | 4676 |
| palomino4 | Windows Server 2022 Datacenter | x64 | 4.3.3 (2024-02-29 ucrt) -- "Angel Food Cake" | 4414 |
| merida1 | macOS 12.7.1 Monterey | x86_64 | 4.3.3 (2024-02-29) -- "Angel Food Cake" | 4437 |
| Click on any hostname to see more info about the system (e.g. compilers) (*) as reported by 'uname -p', except on Windows and Mac OS X | ||||
| Package 711/2266 | Hostname | OS / Arch | INSTALL | BUILD | CHECK | BUILD BIN | ||||||||
| FindIT2 1.8.0 (landing page) Guandong Shang
| nebbiolo2 | Linux (Ubuntu 22.04.3 LTS) / x86_64 | OK | OK | OK | |||||||||
| palomino4 | Windows Server 2022 Datacenter / x64 | OK | OK | OK | OK | |||||||||
| merida1 | macOS 12.7.1 Monterey / x86_64 | OK | OK | OK | OK | |||||||||
| kjohnson1 | macOS 13.6.1 Ventura / arm64 | see weekly results here | ||||||||||||
|
To the developers/maintainers of the FindIT2 package: - Allow up to 24 hours (and sometimes 48 hours) for your latest push to git@git.bioconductor.org:packages/FindIT2.git to reflect on this report. See Troubleshooting Build Report for more information. - Use the following Renviron settings to reproduce errors and warnings. - If 'R CMD check' started to fail recently on the Linux builder(s) over a missing dependency, add the missing dependency to 'Suggests:' in your DESCRIPTION file. See Renviron.bioc for more information. |
| Package: FindIT2 |
| Version: 1.8.0 |
| Command: /home/biocbuild/bbs-3.18-bioc/R/bin/R CMD check --install=check:FindIT2.install-out.txt --library=/home/biocbuild/bbs-3.18-bioc/R/site-library --timings FindIT2_1.8.0.tar.gz |
| StartedAt: 2024-04-15 22:47:42 -0400 (Mon, 15 Apr 2024) |
| EndedAt: 2024-04-15 22:55:19 -0400 (Mon, 15 Apr 2024) |
| EllapsedTime: 457.0 seconds |
| RetCode: 0 |
| Status: OK |
| CheckDir: FindIT2.Rcheck |
| Warnings: 0 |
##############################################################################
##############################################################################
###
### Running command:
###
### /home/biocbuild/bbs-3.18-bioc/R/bin/R CMD check --install=check:FindIT2.install-out.txt --library=/home/biocbuild/bbs-3.18-bioc/R/site-library --timings FindIT2_1.8.0.tar.gz
###
##############################################################################
##############################################################################
* using log directory ‘/home/biocbuild/bbs-3.18-bioc/meat/FindIT2.Rcheck’
* using R version 4.3.3 (2024-02-29)
* using platform: x86_64-pc-linux-gnu (64-bit)
* R was compiled by
gcc (Ubuntu 11.4.0-1ubuntu1~22.04) 11.4.0
GNU Fortran (Ubuntu 11.4.0-1ubuntu1~22.04) 11.4.0
* running under: Ubuntu 22.04.4 LTS
* using session charset: UTF-8
* checking for file ‘FindIT2/DESCRIPTION’ ... OK
* this is package ‘FindIT2’ version ‘1.8.0’
* package encoding: UTF-8
* checking package namespace information ... OK
* checking package dependencies ... OK
* checking if this is a source package ... OK
* checking if there is a namespace ... OK
* checking for hidden files and directories ... OK
* checking for portable file names ... OK
* checking for sufficient/correct file permissions ... OK
* checking whether package ‘FindIT2’ can be installed ... OK
* checking installed package size ... OK
* checking package directory ... OK
* checking ‘build’ directory ... OK
* checking DESCRIPTION meta-information ... OK
* checking top-level files ... OK
* checking for left-over files ... OK
* checking index information ... OK
* checking package subdirectories ... OK
* checking R files for non-ASCII characters ... OK
* checking R files for syntax errors ... OK
* checking whether the package can be loaded ... OK
* checking whether the package can be loaded with stated dependencies ... OK
* checking whether the package can be unloaded cleanly ... OK
* checking whether the namespace can be loaded with stated dependencies ... OK
* checking whether the namespace can be unloaded cleanly ... OK
* checking loading without being on the library search path ... OK
* checking dependencies in R code ... OK
* checking S3 generic/method consistency ... OK
* checking replacement functions ... OK
* checking foreign function calls ... OK
* checking R code for possible problems ... OK
* checking Rd files ... OK
* checking Rd metadata ... OK
* checking Rd cross-references ... OK
* checking for missing documentation entries ... OK
* checking for code/documentation mismatches ... OK
* checking Rd \usage sections ... OK
* checking Rd contents ... OK
* checking for unstated dependencies in examples ... OK
* checking contents of ‘data’ directory ... OK
* checking data for non-ASCII characters ... OK
* checking data for ASCII and uncompressed saves ... OK
* checking files in ‘vignettes’ ... OK
* checking examples ... OK
Examples with CPU (user + system) or elapsed time > 5s
user system elapsed
findIT_regionRP 5.925 0.019 5.945
* checking for unstated dependencies in ‘tests’ ... OK
* checking tests ...
Running ‘testthat.R’
OK
* checking for unstated dependencies in vignettes ... OK
* checking package vignettes in ‘inst/doc’ ... OK
* checking running R code from vignettes ...
‘FindIT2.Rmd’ using ‘UTF-8’... OK
OK
* checking re-building of vignette outputs ... OK
* checking PDF version of manual ... OK
* DONE
Status: OK
FindIT2.Rcheck/00install.out
############################################################################## ############################################################################## ### ### Running command: ### ### /home/biocbuild/bbs-3.18-bioc/R/bin/R CMD INSTALL FindIT2 ### ############################################################################## ############################################################################## * installing to library ‘/home/biocbuild/bbs-3.18-bioc/R/site-library’ * installing *source* package ‘FindIT2’ ... ** using staged installation ** R ** data ** inst ** byte-compile and prepare package for lazy loading ** help *** installing help indices ** building package indices ** installing vignettes ** testing if installed package can be loaded from temporary location ** testing if installed package can be loaded from final location ** testing if installed package keeps a record of temporary installation path * DONE (FindIT2)
FindIT2.Rcheck/tests/testthat.Rout
R version 4.3.3 (2024-02-29) -- "Angel Food Cake"
Copyright (C) 2024 The R Foundation for Statistical Computing
Platform: x86_64-pc-linux-gnu (64-bit)
R is free software and comes with ABSOLUTELY NO WARRANTY.
You are welcome to redistribute it under certain conditions.
Type 'license()' or 'licence()' for distribution details.
R is a collaborative project with many contributors.
Type 'contributors()' for more information and
'citation()' on how to cite R or R packages in publications.
Type 'demo()' for some demos, 'help()' for on-line help, or
'help.start()' for an HTML browser interface to help.
Type 'q()' to quit R.
> library(testthat)
> library(FindIT2)
Loading required package: GenomicRanges
Loading required package: stats4
Loading required package: BiocGenerics
Attaching package: 'BiocGenerics'
The following objects are masked from 'package:stats':
IQR, mad, sd, var, xtabs
The following objects are masked from 'package:base':
Filter, Find, Map, Position, Reduce, anyDuplicated, aperm, append,
as.data.frame, basename, cbind, colnames, dirname, do.call,
duplicated, eval, evalq, get, grep, grepl, intersect, is.unsorted,
lapply, mapply, match, mget, order, paste, pmax, pmax.int, pmin,
pmin.int, rank, rbind, rownames, sapply, setdiff, sort, table,
tapply, union, unique, unsplit, which.max, which.min
Loading required package: S4Vectors
Attaching package: 'S4Vectors'
The following object is masked from 'package:utils':
findMatches
The following objects are masked from 'package:base':
I, expand.grid, unname
Loading required package: IRanges
Loading required package: GenomeInfoDb
> if (!requireNamespace("TxDb.Athaliana.BioMart.plantsmart28")) {
+ stop("unable to load TxDb.Athaliana.BioMart.plantsmart28")
+ }
Loading required namespace: TxDb.Athaliana.BioMart.plantsmart28
>
> test_check("FindIT2")
>> preparing gene features information... 2024-04-15 22:52:35
>> some scan range may cross Chr bound, trimming... 2024-04-15 22:52:37
>> preparing weight info... 2024-04-15 22:52:37
>> loading E50h_sampleChr5.bw info... 2024-04-15 22:52:37
------------
>> extracting and calcluating Chr5 signal... 2024-04-15 22:52:37
>> dealing with Chr5 left gene signal... 2024-04-15 22:52:40
>> norming Chr5RP accoring to the whole Chr RP... 2024-04-15 22:52:40
>> merging all Chr RP together... 2024-04-15 22:52:40
>> done 2024-04-15 22:52:40
>> checking seqlevels match... 2024-04-15 22:52:41
>> your peak_GR seqlevel:Chr5...
>> your Txdb seqlevel:Chr1 Chr2 Chr3 Chr4 Chr5 ChrM ChrC...
Good, your Chrs in peak_GR is all in Txdb
------------
annotatePeak using geneScan mode begins
>> preparing gene features information and scan region... 2024-04-15 22:52:41
>> some scan range may cross Chr bound, trimming... 2024-04-15 22:52:41
>> finding overlap peak in gene scan region... 2024-04-15 22:52:41
>> dealing with left peak not your gene scan region... 2024-04-15 22:52:42
>> merging two set peaks... 2024-04-15 22:52:42
>> calculating distance and dealing with gene strand... 2024-04-15 22:52:42
>> merging all info together ... 2024-04-15 22:52:42
>> done 2024-04-15 22:52:42
>> calculating peakCenter to TSS using peak-gene pair... 2024-04-15 22:52:42
>> pre-filling 1356 noAssoc peak gene's RP with 0... 2024-04-15 22:52:43
>> calculating RP using centerToTSS and peak score2024-04-15 22:52:43
>> merging all info together 2024-04-15 22:52:44
>> done 2024-04-15 22:52:45
>> calculating peakCenter to TSS using peak-gene pair... 2024-04-15 22:52:45
>> pre-filling 1356 noAssoc peak gene's RP with 0... 2024-04-15 22:52:46
>> calculating RP using centerToTSS and peak score2024-04-15 22:52:46
>> merging all info together 2024-04-15 22:52:48
>> done 2024-04-15 22:52:49
>> checking seqlevels match... 2024-04-15 22:52:49
>> your peak_GR seqlevel:Chr5...
>> your Txdb seqlevel:Chr1 Chr2 Chr3 Chr4 Chr5 ChrM ChrC...
Good, your Chrs in peak_GR is all in Txdb
------------
annotatePeak using geneScan mode begins
>> preparing gene features information and scan region... 2024-04-15 22:52:49
>> some scan range may cross Chr bound, trimming... 2024-04-15 22:52:50
>> finding overlap peak in gene scan region... 2024-04-15 22:52:50
>> dealing with left peak not your gene scan region... 2024-04-15 22:52:50
>> merging two set peaks... 2024-04-15 22:52:50
>> calculating distance and dealing with gene strand... 2024-04-15 22:52:50
>> merging all info together ... 2024-04-15 22:52:50
>> done 2024-04-15 22:52:50
>> calculating peakCenter to TSS using peak-gene pair... 2024-04-15 22:52:50
>> calculating RP using centerToTSS and TF hit 2024-04-15 22:52:51
>> merging all info together 2024-04-15 22:52:51
>> done 2024-04-15 22:52:51
>> calculating peakCenter to TSS using peak-gene pair... 2024-04-15 22:52:51
>> calculating RP using centerToTSS and TF hit 2024-04-15 22:52:52
>> merging all info together 2024-04-15 22:52:52
>> done 2024-04-15 22:52:52
>> checking seqlevels match... 2024-04-15 22:52:53
>> your peak_GR seqlevel:Chr5...
>> your Txdb seqlevel:Chr1 Chr2 Chr3 Chr4 Chr5 ChrM ChrC...
Good, your Chrs in peak_GR is all in Txdb
------------
annotatePeak using geneScan mode begins
>> preparing gene features information and scan region... 2024-04-15 22:52:53
>> some scan range may cross Chr bound, trimming... 2024-04-15 22:52:53
>> finding overlap peak in gene scan region... 2024-04-15 22:52:53
>> dealing with left peak not your gene scan region... 2024-04-15 22:52:53
>> merging two set peaks... 2024-04-15 22:52:54
>> calculating distance and dealing with gene strand... 2024-04-15 22:52:54
>> merging all info together ... 2024-04-15 22:52:54
>> done 2024-04-15 22:52:54
>> calculating peakCenter to TSS using peak-gene pair... 2024-04-15 22:52:54
>> pre-filling 1356 noAssoc peak gene's RP with 0... 2024-04-15 22:52:55
>> calculating RP using centerToTSS and peak score2024-04-15 22:52:55
>> merging all info together 2024-04-15 22:52:57
>> done 2024-04-15 22:52:57
>> extracting RP info from regionRP... 2024-04-15 22:52:58
>> dealing with TF_GR_databse... 2024-04-15 22:52:58
>> calculating percent and p-value... 2024-04-15 22:52:58
>> dealing withE5_0h_R1... 2024-04-15 22:52:58
>> dealing withE5_0h_R2... 2024-04-15 22:52:58
>> dealing withE5_4h_R1... 2024-04-15 22:52:58
>> dealing withE5_4h_R2... 2024-04-15 22:52:58
>> dealing withE5_8h_R1... 2024-04-15 22:52:58
>> dealing withE5_8h_R2... 2024-04-15 22:52:58
>> dealing withE5_16h_R1... 2024-04-15 22:52:59
>> dealing withE5_16h_R2... 2024-04-15 22:52:59
>> dealing withE5_24h_R1... 2024-04-15 22:52:59
>> dealing withE5_24h_R2... 2024-04-15 22:52:59
>> dealing withE5_48h_R1... 2024-04-15 22:52:59
>> dealing withE5_48h_R2... 2024-04-15 22:52:59
>> dealing withE5_48h_R3... 2024-04-15 22:52:59
>> dealing withE5_72h_R1... 2024-04-15 22:52:59
>> dealing withE5_72h_R2... 2024-04-15 22:52:59
>> dealing withE5_72h_R3... 2024-04-15 22:52:59
>> merging all info together... 2024-04-15 22:52:59
>> done 2024-04-15 22:52:59
>> preparing gene features information... 2024-04-15 22:52:59
>> some scan range may cross Chr bound, trimming... 2024-04-15 22:53:00
>> calculating p-value for each TF, which may be time consuming... 2024-04-15 22:53:00
>> merging all info together... 2024-04-15 22:53:00
>> done 2024-04-15 22:53:00
>> dealing with TF_GR_database... 2024-04-15 22:53:00
>> calculating coef and converting into z-score using INT... 2024-04-15 22:53:00
>> dealing with E5_0h_R1... 2024-04-15 22:53:00
>> dealing with E5_0h_R2... 2024-04-15 22:53:00
>> dealing with E5_4h_R1... 2024-04-15 22:53:00
>> dealing with E5_4h_R2... 2024-04-15 22:53:00
>> dealing with E5_8h_R1... 2024-04-15 22:53:01
>> dealing with E5_8h_R2... 2024-04-15 22:53:01
>> dealing with E5_16h_R1... 2024-04-15 22:53:01
>> dealing with E5_16h_R2... 2024-04-15 22:53:01
>> dealing with E5_24h_R1... 2024-04-15 22:53:01
>> dealing with E5_24h_R2... 2024-04-15 22:53:01
>> dealing with E5_48h_R1... 2024-04-15 22:53:01
>> dealing with E5_48h_R2... 2024-04-15 22:53:01
>> dealing with E5_48h_R3... 2024-04-15 22:53:01
>> dealing with E5_72h_R1... 2024-04-15 22:53:01
>> dealing with E5_72h_R2... 2024-04-15 22:53:01
>> dealing with E5_72h_R3... 2024-04-15 22:53:01
>> merging all info together... 2024-04-15 22:53:01
>> done 2024-04-15 22:53:01
>> checking seqlevels match... 2024-04-15 22:53:02
>> your peak_GR seqlevel:Chr5...
>> your Txdb seqlevel:Chr1 Chr2 Chr3 Chr4 Chr5 ChrM ChrC...
Good, your Chrs in peak_GR is all in Txdb
------------
annotatePeak using geneScan mode begins
>> preparing gene features information and scan region... 2024-04-15 22:53:02
>> some scan range may cross Chr bound, trimming... 2024-04-15 22:53:02
>> finding overlap peak in gene scan region... 2024-04-15 22:53:02
>> dealing with left peak not your gene scan region... 2024-04-15 22:53:02
>> merging two set peaks... 2024-04-15 22:53:03
>> calculating distance and dealing with gene strand... 2024-04-15 22:53:03
>> merging all info together ... 2024-04-15 22:53:03
>> done 2024-04-15 22:53:03
>> calculating peakCenter to TSS using peak-gene pair... 2024-04-15 22:53:03
>> calculating RP using centerToTSS and TF hit 2024-04-15 22:53:03
>> merging all info together 2024-04-15 22:53:03
>> done 2024-04-15 22:53:03
>> checking seqlevels match... 2024-04-15 22:53:04
>> your peak_GR seqlevel:5...
>> your Txdb seqlevel:Chr1 Chr2 Chr3 Chr4 Chr5 ChrM ChrC...
>> checking seqlevels match... 2024-04-15 22:53:04
>> your peak_GR seqlevel:Chr5 Chr6...
>> your Txdb seqlevel:Chr1 Chr2 Chr3 Chr4 Chr5 ChrM ChrC...
>> checking seqlevels match... 2024-04-15 22:53:07
>> your peak_GR seqlevel:Chr5...
>> your Txdb seqlevel:Chr1 Chr2 Chr3 Chr4 Chr5 ChrM ChrC...
Good, your Chrs in peak_GR is all in Txdb
>> checking seqlevels match... 2024-04-15 22:53:07
>> your peak_GR seqlevel:Chr5...
>> your Txdb seqlevel:Chr1 Chr2 Chr3 Chr4 Chr5 ChrM ChrC...
Good, your Chrs in peak_GR is all in Txdb
------------
annotating Peak using nearest gene mode begins
>> preparing gene features information... 2024-04-15 22:53:07
>> finding nearest gene and calculating distance... 2024-04-15 22:53:07
>> dealing with gene strand ... 2024-04-15 22:53:08
>> merging all info together ... 2024-04-15 22:53:08
>> done 2024-04-15 22:53:08
>> checking seqlevels match... 2024-04-15 22:53:08
>> your peak_GR seqlevel:Chr5...
>> your Txdb seqlevel:Chr1 Chr2 Chr3 Chr4 Chr5 ChrM ChrC...
Good, your Chrs in peak_GR is all in Txdb
>> checking seqlevels match... 2024-04-15 22:53:08
>> your peak_GR seqlevel:Chr5...
>> your Txdb seqlevel:Chr1 Chr2 Chr3 Chr4 Chr5 ChrM ChrC...
Good, your Chrs in peak_GR is all in Txdb
------------
annotating Peak using nearest gene mode begins
>> preparing gene features information... 2024-04-15 22:53:08
>> finding nearest gene and calculating distance... 2024-04-15 22:53:08
>> dealing with gene strand ... 2024-04-15 22:53:09
>> merging all info together ... 2024-04-15 22:53:09
>> done 2024-04-15 22:53:09
>> checking seqlevels match... 2024-04-15 22:53:09
>> your peak_GR seqlevel:Chr5...
>> your Txdb seqlevel:Chr1 Chr2 Chr3 Chr4 Chr5 ChrM ChrC...
Good, your Chrs in peak_GR is all in Txdb
>> checking seqlevels match... 2024-04-15 22:53:09
>> your peak_GR seqlevel:Chr5...
>> your Txdb seqlevel:Chr1 Chr2 Chr3 Chr4 Chr5 ChrM ChrC...
Good, your Chrs in peak_GR is all in Txdb
------------
annotating Peak using nearest gene mode begins
>> preparing gene features information... 2024-04-15 22:53:09
>> finding nearest gene and calculating distance... 2024-04-15 22:53:10
>> dealing with gene strand ... 2024-04-15 22:53:10
>> merging all info together ... 2024-04-15 22:53:10
>> done 2024-04-15 22:53:10
>> checking seqlevels match... 2024-04-15 22:53:11
>> your peak_GR seqlevel:Chr5...
>> your Txdb seqlevel:Chr1 Chr2 Chr3 Chr4 Chr5 ChrM ChrC...
Good, your Chrs in peak_GR is all in Txdb
>> checking seqlevels match... 2024-04-15 22:53:11
>> your peak_GR seqlevel:Chr5...
>> your Txdb seqlevel:Chr1 Chr2 Chr3 Chr4 Chr5 ChrM ChrC...
Good, your Chrs in peak_GR is all in Txdb
------------
annotating Peak using nearest gene mode begins
>> preparing gene features information... 2024-04-15 22:53:11
>> finding nearest gene and calculating distance... 2024-04-15 22:53:12
>> dealing with gene strand ... 2024-04-15 22:53:12
>> merging all info together ... 2024-04-15 22:53:12
>> done 2024-04-15 22:53:12
It seems that there 1 genes have not been annotated by nearestGene mode
>> checking seqlevels match... 2024-04-15 22:53:13
>> your peak_GR seqlevel:Chr5...
>> your Txdb seqlevel:Chr1 Chr2 Chr3 Chr4 Chr5 ChrM ChrC...
Good, your Chrs in peak_GR is all in Txdb
>> checking seqlevels match... 2024-04-15 22:53:13
>> your peak_GR seqlevel:Chr5...
>> your Txdb seqlevel:Chr1 Chr2 Chr3 Chr4 Chr5 ChrM ChrC...
Good, your Chrs in peak_GR is all in Txdb
------------
annotating Peak using nearest gene mode begins
>> preparing gene features information... 2024-04-15 22:53:13
>> finding nearest gene and calculating distance... 2024-04-15 22:53:14
>> dealing with gene strand ... 2024-04-15 22:53:14
>> merging all info together ... 2024-04-15 22:53:14
>> done 2024-04-15 22:53:14
It seems that there 1 genes have not been annotated by nearestGene mode
>> checking seqlevels match... 2024-04-15 22:53:15
>> your peak_GR seqlevel:Chr5...
>> your Txdb seqlevel:Chr1 Chr2 Chr3 Chr4 Chr5 ChrM ChrC...
Good, your Chrs in peak_GR is all in Txdb
>> checking seqlevels match... 2024-04-15 22:53:16
>> your peak_GR seqlevel:Chr5...
>> your Txdb seqlevel:Chr1 Chr2 Chr3 Chr4 Chr5 ChrM ChrC...
Good, your Chrs in peak_GR is all in Txdb
>> some scan range may cross Chr bound, trimming... 2024-04-15 22:53:16
>> checking seqlevels match... 2024-04-15 22:53:17
>> your peak_GR seqlevel:Chr5...
>> your Txdb seqlevel:Chr1 Chr2 Chr3 Chr4 Chr5 ChrM ChrC...
Good, your Chrs in peak_GR is all in Txdb
>> some scan range may cross Chr bound, trimming... 2024-04-15 22:53:18
Good, your two matrix colnames matchs
>> calculating cor and pvalue, which may be time consuming... 2024-04-15 22:53:19
>> merging all info together... 2024-04-15 22:53:19
>> done 2024-04-15 22:53:19
>> checking seqlevels match... 2024-04-15 22:53:19
>> your peak_GR seqlevel:Chr5...
>> your Txdb seqlevel:Chr1 Chr2 Chr3 Chr4 Chr5 ChrM ChrC...
Good, your Chrs in peak_GR is all in Txdb
>> using scanPromoter parameter to scan promoter for each gene... 2024-04-15 22:53:19
>> checking seqlevels match... 2024-04-15 22:53:19
>> your peak_GR seqlevel:Chr5...
>> your Txdb seqlevel:Chr1 Chr2 Chr3 Chr4 Chr5 ChrM ChrC...
Good, your Chrs in peak_GR is all in Txdb
>> some scan range may cross Chr bound, trimming... 2024-04-15 22:53:20
>> there are 85 gene have scaned promoter
>> using scanEnhancer parameter to scan Enhancer for each gene... 2024-04-15 22:53:20
>> checking seqlevels match... 2024-04-15 22:53:20
>> your peak_GR seqlevel:Chr5...
>> your Txdb seqlevel:Chr1 Chr2 Chr3 Chr4 Chr5 ChrM ChrC...
Good, your Chrs in peak_GR is all in Txdb
>> some scan range may cross Chr bound, trimming... 2024-04-15 22:53:21
>> calculating cor and pvalue, which may be time consuming... 2024-04-15 22:53:21
>> merging all info together... 2024-04-15 22:53:21
>> done 2024-04-15 22:53:21
Good, your two matrix colnames matchs
>> calculating cor and pvalue, which may be time consuming... 2024-04-15 22:53:21
>> merging all info together... 2024-04-15 22:53:21
>> done 2024-04-15 22:53:21
>> checking seqlevels match... 2024-04-15 22:53:22
>> your peak_GR seqlevel:Chr5...
>> your Txdb seqlevel:Chr1 Chr2 Chr3 Chr4 Chr5 ChrM ChrC...
Good, your Chrs in peak_GR is all in Txdb
------------
annotatePeak using geneScan mode begins
>> preparing gene features information and scan region... 2024-04-15 22:53:22
>> some scan range may cross Chr bound, trimming... 2024-04-15 22:53:22
>> finding overlap peak in gene scan region... 2024-04-15 22:53:22
>> dealing with left peak not your gene scan region... 2024-04-15 22:53:22
>> merging two set peaks... 2024-04-15 22:53:23
>> calculating distance and dealing with gene strand... 2024-04-15 22:53:23
>> merging all info together ... 2024-04-15 22:53:23
>> done 2024-04-15 22:53:23
Good, your two matrix colnames matchs
>> calculating cor and pvalue, which may be time consuming... 2024-04-15 22:53:23
>> merging all info together... 2024-04-15 22:53:24
>> done 2024-04-15 22:53:24
>> checking seqlevels match... 2024-04-15 22:53:24
>> your peak_GR seqlevel:Chr5...
>> your Txdb seqlevel:Chr1 Chr2 Chr3 Chr4 Chr5 ChrM ChrC...
Good, your Chrs in peak_GR is all in Txdb
>> using scanPromoter parameter to scan promoter for each gene... 2024-04-15 22:53:24
>> checking seqlevels match... 2024-04-15 22:53:24
>> your peak_GR seqlevel:Chr5...
>> your Txdb seqlevel:Chr1 Chr2 Chr3 Chr4 Chr5 ChrM ChrC...
Good, your Chrs in peak_GR is all in Txdb
>> some scan range may cross Chr bound, trimming... 2024-04-15 22:53:24
>> there are 85 gene have scaned promoter
>> using scanEnhancer parameter to scan Enhancer for each gene... 2024-04-15 22:53:25
>> checking seqlevels match... 2024-04-15 22:53:25
>> your peak_GR seqlevel:Chr5...
>> your Txdb seqlevel:Chr1 Chr2 Chr3 Chr4 Chr5 ChrM ChrC...
Good, your Chrs in peak_GR is all in Txdb
>> some scan range may cross Chr bound, trimming... 2024-04-15 22:53:26
>> calculating cor and pvalue, which may be time consuming... 2024-04-15 22:53:26
>> merging all info together... 2024-04-15 22:53:26
>> done 2024-04-15 22:53:26
Joining with `by = join_by(feature_id)`
Joining with `by = join_by(feature_id)`
`geom_smooth()` using formula = 'y ~ x'
Joining with `by = join_by(feature_id)`
Joining with `by = join_by(feature_id)`
`geom_smooth()` using formula = 'y ~ x'
[ FAIL 0 | WARN 0 | SKIP 0 | PASS 65 ]
>
> proc.time()
user system elapsed
61.451 2.021 63.462
FindIT2.Rcheck/FindIT2-Ex.timings
| name | user | system | elapsed | |
| TF_target_database | 0 | 0 | 0 | |
| calcRP_TFHit | 3.628 | 0.172 | 3.857 | |
| calcRP_coverage | 3.604 | 0.247 | 3.854 | |
| calcRP_region | 4.578 | 0.080 | 4.657 | |
| enhancerPromoterCor | 2.620 | 0.032 | 2.651 | |
| findIT_MARA | 0.429 | 0.001 | 0.429 | |
| findIT_TFHit | 1.036 | 0.011 | 1.048 | |
| findIT_TTPair | 0.072 | 0.000 | 0.071 | |
| findIT_enrichFisher | 0.152 | 0.000 | 0.152 | |
| findIT_enrichWilcox | 0.168 | 0.000 | 0.169 | |
| findIT_regionRP | 5.925 | 0.019 | 5.945 | |
| getAssocPairNumber | 1.235 | 0.012 | 1.247 | |
| integrate_ChIP_RNA | 2.171 | 0.024 | 2.195 | |
| integrate_replicates | 0.000 | 0.002 | 0.002 | |
| jaccard_findIT_TTpair | 0.097 | 0.002 | 0.099 | |
| jaccard_findIT_enrichFisher | 0.202 | 0.000 | 0.202 | |
| loadPeakFile | 0.057 | 0.003 | 0.060 | |
| mm_geneBound | 1.290 | 0.004 | 1.294 | |
| mm_geneScan | 1.213 | 0.012 | 1.225 | |
| mm_nearestGene | 1.090 | 0.012 | 1.102 | |
| peakGeneCor | 2.244 | 0.040 | 2.284 | |
| plot_annoDistance | 1.522 | 0.008 | 1.530 | |
| plot_peakGeneAlias_summary | 1.331 | 0.000 | 1.331 | |
| plot_peakGeneCor | 2.848 | 0.040 | 2.888 | |
| test_geneSet | 0 | 0 | 0 | |