| Back to Multiple platform build/check report for BioC 3.18: simplified long |
|
This page was generated on 2024-04-17 11:35:53 -0400 (Wed, 17 Apr 2024).
| Hostname | OS | Arch (*) | R version | Installed pkgs |
|---|---|---|---|---|
| nebbiolo2 | Linux (Ubuntu 22.04.3 LTS) | x86_64 | 4.3.3 (2024-02-29) -- "Angel Food Cake" | 4676 |
| palomino4 | Windows Server 2022 Datacenter | x64 | 4.3.3 (2024-02-29 ucrt) -- "Angel Food Cake" | 4414 |
| merida1 | macOS 12.7.1 Monterey | x86_64 | 4.3.3 (2024-02-29) -- "Angel Food Cake" | 4437 |
| Click on any hostname to see more info about the system (e.g. compilers) (*) as reported by 'uname -p', except on Windows and Mac OS X | ||||
| Package 500/2266 | Hostname | OS / Arch | INSTALL | BUILD | CHECK | BUILD BIN | ||||||||
| DAPAR 1.34.6 (landing page) Samuel Wieczorek
| nebbiolo2 | Linux (Ubuntu 22.04.3 LTS) / x86_64 | OK | OK | OK | |||||||||
| palomino4 | Windows Server 2022 Datacenter / x64 | OK | OK | OK | OK | |||||||||
| merida1 | macOS 12.7.1 Monterey / x86_64 | OK | OK | OK | OK | |||||||||
| kjohnson1 | macOS 13.6.1 Ventura / arm64 | see weekly results here | ||||||||||||
|
To the developers/maintainers of the DAPAR package: - Allow up to 24 hours (and sometimes 48 hours) for your latest push to git@git.bioconductor.org:packages/DAPAR.git to reflect on this report. See Troubleshooting Build Report for more information. - Use the following Renviron settings to reproduce errors and warnings. - If 'R CMD check' started to fail recently on the Linux builder(s) over a missing dependency, add the missing dependency to 'Suggests:' in your DESCRIPTION file. See Renviron.bioc for more information. |
| Package: DAPAR |
| Version: 1.34.6 |
| Command: /home/biocbuild/bbs-3.18-bioc/R/bin/R CMD check --install=check:DAPAR.install-out.txt --library=/home/biocbuild/bbs-3.18-bioc/R/site-library --timings DAPAR_1.34.6.tar.gz |
| StartedAt: 2024-04-15 21:50:35 -0400 (Mon, 15 Apr 2024) |
| EndedAt: 2024-04-15 21:55:34 -0400 (Mon, 15 Apr 2024) |
| EllapsedTime: 299.2 seconds |
| RetCode: 0 |
| Status: OK |
| CheckDir: DAPAR.Rcheck |
| Warnings: 0 |
##############################################################################
##############################################################################
###
### Running command:
###
### /home/biocbuild/bbs-3.18-bioc/R/bin/R CMD check --install=check:DAPAR.install-out.txt --library=/home/biocbuild/bbs-3.18-bioc/R/site-library --timings DAPAR_1.34.6.tar.gz
###
##############################################################################
##############################################################################
* using log directory ‘/home/biocbuild/bbs-3.18-bioc/meat/DAPAR.Rcheck’
* using R version 4.3.3 (2024-02-29)
* using platform: x86_64-pc-linux-gnu (64-bit)
* R was compiled by
gcc (Ubuntu 11.4.0-1ubuntu1~22.04) 11.4.0
GNU Fortran (Ubuntu 11.4.0-1ubuntu1~22.04) 11.4.0
* running under: Ubuntu 22.04.4 LTS
* using session charset: UTF-8
* checking for file ‘DAPAR/DESCRIPTION’ ... OK
* checking extension type ... Package
* this is package ‘DAPAR’ version ‘1.34.6’
* package encoding: UTF-8
* checking package namespace information ... OK
* checking package dependencies ... OK
* checking if this is a source package ... OK
* checking if there is a namespace ... OK
* checking for hidden files and directories ... OK
* checking for portable file names ... OK
* checking for sufficient/correct file permissions ... OK
* checking whether package ‘DAPAR’ can be installed ... OK
* checking installed package size ... OK
* checking package directory ... OK
* checking DESCRIPTION meta-information ... OK
* checking top-level files ... OK
* checking for left-over files ... OK
* checking index information ... OK
* checking package subdirectories ... OK
* checking R files for non-ASCII characters ... OK
* checking R files for syntax errors ... OK
* checking whether the package can be loaded ... OK
* checking whether the package can be loaded with stated dependencies ... OK
* checking whether the package can be unloaded cleanly ... OK
* checking whether the namespace can be loaded with stated dependencies ... OK
* checking whether the namespace can be unloaded cleanly ... OK
* checking loading without being on the library search path ... OK
* checking startup messages can be suppressed ... OK
* checking dependencies in R code ... NOTE
Namespaces in Imports field not imported from:
‘knitr’ ‘norm’ ‘org.Sc.sgd.db’ ‘parallel’ ‘scales’ ‘tidyverse’
All declared Imports should be used.
* checking S3 generic/method consistency ... OK
* checking replacement functions ... OK
* checking foreign function calls ... OK
* checking R code for possible problems ... NOTE
Check_Dataset_Validity: no visible global function definition for
‘exprs’
OWAnova: no visible global function definition for ‘aov’
aggregateIterParallel: no visible binding for global variable ‘cond’
averageIntensities: no visible binding for global variable ‘condition’
averageIntensities: no visible binding for global variable ‘feature’
averageIntensities: no visible binding for global variable ‘intensity’
createMSnset: no visible global function definition for
‘installed.packages’
createMSnset: no visible binding for global variable ‘Prostar.loc’
diffAnaVolcanoplot_rCharts: no visible binding for global variable ‘x’
diffAnaVolcanoplot_rCharts: no visible binding for global variable ‘y’
diffAnaVolcanoplot_rCharts: no visible binding for global variable ‘g’
display.CC.visNet: no visible binding for global variable
‘layout_nicely’
getTextForGOAnalysis: no visible binding for global variable
‘textGOParams’
getTextForGOAnalysis: no visible binding for global variable ‘input’
globalAdjPval: no visible global function definition for ‘stack’
heatmapForMissingValues: no visible binding for global variable ‘par’
limmaCompleteTest: no visible binding for global variable ‘A’
limmaCompleteTest: no visible binding for global variable ‘B’
limmaCompleteTest: no visible binding for global variable ‘P.Value’
pepa.test: no visible global function definition for ‘nodes<-’
testAnovaModels : <anonymous>: no visible global function definition
for ‘TukeyHSD’
visualizeClusters: no visible binding for global variable
‘adjusted_pvalues’
visualizeClusters: no visible binding for global variable ‘Condition’
visualizeClusters: no visible binding for global variable ‘Intensity’
visualizeClusters: no visible binding for global variable
‘FDR_threshold’
visualizeClusters: no visible binding for global variable ‘feature’
wrapperClassic1wayAnova: no visible binding for global variable
‘Pr(>F)1’
wrapperRunClustering: no visible global function definition for ‘str_c’
Undefined global functions or variables:
A B Condition FDR_threshold Intensity P.Value Pr(>F)1 Prostar.loc
TukeyHSD adjusted_pvalues aov cond condition exprs feature g input
installed.packages intensity layout_nicely nodes<- par stack str_c
textGOParams x y
Consider adding
importFrom("graphics", "par")
importFrom("stats", "TukeyHSD", "aov")
importFrom("utils", "installed.packages", "stack")
to your NAMESPACE file.
* checking Rd files ... OK
* checking Rd metadata ... OK
* checking Rd cross-references ... OK
* checking for missing documentation entries ... OK
* checking for code/documentation mismatches ... OK
* checking Rd \usage sections ... OK
* checking Rd contents ... OK
* checking for unstated dependencies in examples ... OK
* checking examples ... OK
Examples with CPU (user + system) or elapsed time > 5s
user system elapsed
wrapper.compareNormalizationD_HC 27.566 1.748 29.314
wrapper.dapar.impute.mi 13.300 0.228 13.530
barplotEnrichGO_HC 8.479 0.787 9.268
barplotGroupGO_HC 5.116 0.360 5.476
* checking for unstated dependencies in ‘tests’ ... OK
* checking tests ...
Running ‘testthat.R’
OK
* checking PDF version of manual ... OK
* DONE
Status: 2 NOTEs
See
‘/home/biocbuild/bbs-3.18-bioc/meat/DAPAR.Rcheck/00check.log’
for details.
DAPAR.Rcheck/00install.out
############################################################################## ############################################################################## ### ### Running command: ### ### /home/biocbuild/bbs-3.18-bioc/R/bin/R CMD INSTALL DAPAR ### ############################################################################## ############################################################################## * installing to library ‘/home/biocbuild/bbs-3.18-bioc/R/site-library’ * installing *source* package ‘DAPAR’ ... ** using staged installation ** R ** inst ** byte-compile and prepare package for lazy loading ** help *** installing help indices ** building package indices ** testing if installed package can be loaded from temporary location ** testing if installed package can be loaded from final location ** testing if installed package keeps a record of temporary installation path * DONE (DAPAR)
DAPAR.Rcheck/tests/testthat.Rout
R version 4.3.3 (2024-02-29) -- "Angel Food Cake"
Copyright (C) 2024 The R Foundation for Statistical Computing
Platform: x86_64-pc-linux-gnu (64-bit)
R is free software and comes with ABSOLUTELY NO WARRANTY.
You are welcome to redistribute it under certain conditions.
Type 'license()' or 'licence()' for distribution details.
R is a collaborative project with many contributors.
Type 'contributors()' for more information and
'citation()' on how to cite R or R packages in publications.
Type 'demo()' for some demos, 'help()' for on-line help, or
'help.start()' for an HTML browser interface to help.
Type 'q()' to quit R.
> library(testthat)
> library(DAPAR)
This is the 'DAPAR' version 1.34.6.
To get started, visit
http://www.prostar-proteomics.org/
>
> test_check("DAPAR")
Iterations:
1 / 1 - Imputation MNAR OK -
Imputation MCAR in progress -
3 % - 6 % - 9 % - 12 % - 15 % - 18 % - 21 % - 24 % - 27 % - 30 % - 33 % - 36 % - 39 % - 42 % - 45 % - 48 % - 51 % - 54 % - 57 % - 60 % - 63 % - 66 % - 69 % - 72 % - 75 % - 78 % - 81 % - 84 % - 87 % - 90 % - 93 % - 96 % - 99 % -
Iterations:
1 / 1 - Imputation MNAR OK -
Imputation MCAR in progress -
3 % - 6 % - 9 % - 12 % - 15 % - 18 % - 21 % - 24 % - 27 % - 30 % - 33 % - 36 % - 39 % - 42 % - 45 % - 48 % - 51 % - 54 % - 57 % - 60 % - 63 % - 66 % - 69 % - 72 % - 75 % - 78 % - 81 % - 84 % - 87 % - 90 % - 93 % - 96 % - 99 % -
Imputation in condition 1 ...
In progress: 10 % - 20 % - 30 % - 40 % - 50 % - 60 % - 70 % - 80 % - 90 % - 100 % -
Imputation in condition 2 ...
In progress: 10 % - 20 % - 30 % - 40 % - 50 % - 60 % - 70 % - 80 % - 90 % - 100 % - [ FAIL 0 | WARN 17 | SKIP 0 | PASS 66 ]
[ FAIL 0 | WARN 17 | SKIP 0 | PASS 66 ]
>
> proc.time()
user system elapsed
23.715 1.078 24.787
DAPAR.Rcheck/DAPAR-Ex.timings
| name | user | system | elapsed | |
| AggregateMetacell | 1.633 | 0.072 | 1.705 | |
| BuildAdjacencyMatrix | 0.292 | 0.004 | 0.296 | |
| BuildColumnToProteinDataset | 0.824 | 0.080 | 0.904 | |
| BuildMetaCell | 0.532 | 0.020 | 0.553 | |
| CVDistD_HC | 2.226 | 0.125 | 2.358 | |
| Children | 0.004 | 0.000 | 0.004 | |
| CountPep | 0.343 | 0.016 | 0.359 | |
| ExtendPalette | 0.026 | 0.000 | 0.025 | |
| GOAnalysisSave | 0 | 0 | 0 | |
| GetCC | 1.510 | 0.092 | 1.602 | |
| GetColorsForConditions | 0.235 | 0.004 | 0.239 | |
| GetDetailedNbPeptides | 0.263 | 0.000 | 0.263 | |
| GetDetailedNbPeptidesUsed | 0.001 | 0.000 | 0.000 | |
| GetIndices_BasedOnConditions | 0.253 | 0.012 | 0.265 | |
| GetIndices_MetacellFiltering | 0.262 | 0.004 | 0.266 | |
| GetIndices_WholeLine | 0.249 | 0.008 | 0.258 | |
| GetIndices_WholeMatrix | 0.254 | 0.004 | 0.258 | |
| GetKeyId | 0.248 | 0.007 | 0.256 | |
| GetMatAdj | 0.286 | 0.005 | 0.290 | |
| GetMetacell | 0 | 0 | 0 | |
| GetMetacellTags | 0.247 | 0.004 | 0.251 | |
| GetNbPeptidesUsed | 0.258 | 0.000 | 0.258 | |
| GetNbTags | 0 | 0 | 0 | |
| GetSoftAvailables | 0 | 0 | 0 | |
| GetTypeofData | 0.246 | 0.000 | 0.246 | |
| Get_AllComparisons | 0.243 | 0.004 | 0.247 | |
| GlobalQuantileAlignment | 0.271 | 0.004 | 0.274 | |
| GraphPepProt | 0.261 | 0.000 | 0.261 | |
| LH0 | 0.001 | 0.000 | 0.000 | |
| LH0.lm | 0 | 0 | 0 | |
| LH1 | 0.000 | 0.000 | 0.001 | |
| LH1.lm | 0 | 0 | 0 | |
| LOESS | 0.978 | 0.012 | 0.990 | |
| MeanCentering | 0.249 | 0.000 | 0.248 | |
| MetaCellFiltering | 0.397 | 0.035 | 0.433 | |
| MetacellFilteringScope | 0 | 0 | 0 | |
| Metacell_DIA_NN | 0.403 | 0.008 | 0.411 | |
| Metacell_generic | 0.425 | 0.000 | 0.425 | |
| Metacell_maxquant | 0.432 | 0.000 | 0.433 | |
| Metacell_proline | 0.417 | 0.012 | 0.430 | |
| NumericalFiltering | 0.304 | 0.000 | 0.304 | |
| NumericalgetIndicesOfLinesToRemove | 0.297 | 0.000 | 0.296 | |
| OWAnova | 0.007 | 0.000 | 0.006 | |
| QuantileCentering | 0.256 | 0.000 | 0.255 | |
| SetCC | 1.413 | 0.068 | 1.481 | |
| SetMatAdj | 0.283 | 0.000 | 0.283 | |
| Set_POV_MEC_tags | 0.257 | 0.000 | 0.257 | |
| StringBasedFiltering | 0.282 | 0.012 | 0.295 | |
| StringBasedFiltering2 | 0.261 | 0.019 | 0.282 | |
| SumByColumns | 1.078 | 0.028 | 1.106 | |
| SymFilteringOperators | 0 | 0 | 0 | |
| UpdateMetacellAfterImputation | 0.271 | 0.000 | 0.272 | |
| aggregateIter | 0.387 | 0.011 | 0.400 | |
| aggregateIterParallel | 0 | 0 | 0 | |
| aggregateMean | 0.338 | 0.005 | 0.341 | |
| aggregateSum | 0.355 | 0.004 | 0.358 | |
| aggregateTopn | 0.309 | 0.000 | 0.309 | |
| applyAnovasOnProteins | 0.078 | 0.000 | 0.078 | |
| averageIntensities | 0.423 | 0.019 | 0.444 | |
| barplotEnrichGO_HC | 8.479 | 0.787 | 9.268 | |
| barplotGroupGO_HC | 5.116 | 0.360 | 5.476 | |
| boxPlotD_HC | 0.180 | 0.008 | 0.189 | |
| buildGraph | 1.079 | 0.063 | 1.143 | |
| check.conditions | 0.241 | 0.001 | 0.241 | |
| check.design | 0.239 | 0.000 | 0.239 | |
| checkClusterability | 1.994 | 0.259 | 2.253 | |
| classic1wayAnova | 0 | 0 | 0 | |
| compareNormalizationD_HC | 0.110 | 0.012 | 0.121 | |
| compute.selection.table | 0.578 | 0.048 | 0.626 | |
| compute_t_tests | 0.909 | 0.023 | 0.933 | |
| corrMatrixD_HC | 0.317 | 0.004 | 0.320 | |
| createMSnset | 1.491 | 0.028 | 1.519 | |
| dapar_hc_ExportMenu | 0.107 | 0.012 | 0.119 | |
| dapar_hc_chart | 0.043 | 0.004 | 0.046 | |
| deleteLinesFromIndices | 0.274 | 0.000 | 0.273 | |
| densityPlotD_HC | 1.732 | 0.148 | 1.880 | |
| diffAnaComputeAdjustedPValues | 0.107 | 0.012 | 0.120 | |
| diffAnaComputeFDR | 0 | 0 | 0 | |
| diffAnaGetSignificant | 0.186 | 0.020 | 0.205 | |
| diffAnaSave | 0.186 | 0.000 | 0.186 | |
| diffAnaVolcanoplot | 0.121 | 0.000 | 0.121 | |
| diffAnaVolcanoplot_rCharts | 0.265 | 0.024 | 0.289 | |
| display.CC.visNet | 1.185 | 0.084 | 1.268 | |
| enrich_GO | 4.225 | 0.192 | 4.417 | |
| finalizeAggregation | 0 | 0 | 0 | |
| findMECBlock | 0.275 | 0.004 | 0.280 | |
| formatHSDResults | 0 | 0 | 0 | |
| formatLimmaResult | 0.109 | 0.008 | 0.117 | |
| formatPHResults | 0 | 0 | 0 | |
| formatPHTResults | 0 | 0 | 0 | |
| fudge2LRT | 0.001 | 0.000 | 0.000 | |
| get.pep.prot.cc | 1.082 | 0.120 | 1.201 | |
| getDesignLevel | 0.242 | 0.000 | 0.242 | |
| getIndicesConditions | 0.244 | 0.004 | 0.248 | |
| getIndicesOfLinesToRemove | 0.254 | 0.004 | 0.257 | |
| getListNbValuesInLines | 0.245 | 0.005 | 0.250 | |
| getNumberOf | 0.248 | 0.014 | 0.262 | |
| getNumberOfEmptyLines | 0.267 | 0.000 | 0.267 | |
| getPourcentageOfMV | 0.26 | 0.00 | 0.26 | |
| getProcessingInfo | 0.243 | 0.000 | 0.243 | |
| getProteinsStats | 0.264 | 0.000 | 0.264 | |
| getQuantile4Imp | 0.059 | 0.000 | 0.059 | |
| getTextForAggregation | 0 | 0 | 0 | |
| getTextForAnaDiff | 0.001 | 0.000 | 0.000 | |
| getTextForFiltering | 0 | 0 | 0 | |
| getTextForGOAnalysis | 0.000 | 0.000 | 0.001 | |
| getTextForHypothesisTest | 0 | 0 | 0 | |
| getTextForNewDataset | 0.002 | 0.000 | 0.002 | |
| getTextForNormalization | 0 | 0 | 0 | |
| getTextForpeptideImputation | 0.001 | 0.000 | 0.000 | |
| getTextForproteinImputation | 0 | 0 | 0 | |
| globalAdjPval | 0.327 | 0.008 | 0.336 | |
| group_GO | 4.306 | 0.140 | 4.446 | |
| hc_logFC_DensityPlot | 0.369 | 0.008 | 0.376 | |
| hc_mvTypePlot2 | 0.524 | 0.032 | 0.556 | |
| heatmapD | 0.570 | 0.008 | 0.577 | |
| heatmapForMissingValues | 0.145 | 0.000 | 0.147 | |
| histPValue_HC | 0.156 | 0.016 | 0.172 | |
| impute.pa2 | 0.291 | 0.012 | 0.303 | |
| inner.aggregate.iter | 0.307 | 0.000 | 0.307 | |
| inner.aggregate.topn | 0.337 | 0.004 | 0.341 | |
| inner.mean | 0.279 | 0.000 | 0.280 | |
| inner.sum | 0.281 | 0.000 | 0.281 | |
| is.subset | 0 | 0 | 0 | |
| limmaCompleteTest | 1.939 | 0.124 | 2.063 | |
| listSheets | 0 | 0 | 0 | |
| make.contrast | 0.239 | 0.000 | 0.240 | |
| make.design.1 | 0.239 | 0.000 | 0.239 | |
| make.design.2 | 0.237 | 0.004 | 0.241 | |
| make.design.3 | 0.237 | 0.004 | 0.241 | |
| make.design | 0.237 | 0.000 | 0.237 | |
| match.metacell | 0.254 | 0.000 | 0.255 | |
| metacell.def | 0.004 | 0.000 | 0.004 | |
| metacellHisto_HC | 0.280 | 0.008 | 0.288 | |
| metacellPerLinesHistoPerCondition_HC | 0.389 | 0.016 | 0.405 | |
| metacellPerLinesHisto_HC | 0.451 | 0.036 | 0.487 | |
| metacombine | 0.044 | 0.008 | 0.051 | |
| mvImage | 1.71 | 0.02 | 1.73 | |
| my_hc_ExportMenu | 0.102 | 0.012 | 0.113 | |
| my_hc_chart | 0.105 | 0.008 | 0.113 | |
| nonzero | 0.015 | 0.000 | 0.015 | |
| normalizeMethods.dapar | 0.000 | 0.000 | 0.001 | |
| pepa.test | 0.250 | 0.004 | 0.255 | |
| pkgs.require | 0 | 0 | 0 | |
| plotJitter | 1.088 | 0.016 | 1.105 | |
| plotJitter_rCharts | 0.986 | 0.008 | 0.994 | |
| plotPCA_Eigen | 0.307 | 0.000 | 0.307 | |
| plotPCA_Eigen_hc | 0.239 | 0.000 | 0.240 | |
| plotPCA_Ind | 0.245 | 0.000 | 0.246 | |
| plotPCA_Var | 0.235 | 0.004 | 0.239 | |
| postHocTest | 0 | 0 | 0 | |
| proportionConRev_HC | 0.032 | 0.008 | 0.041 | |
| rbindMSnset | 0.307 | 0.000 | 0.308 | |
| reIntroduceMEC | 0.280 | 0.012 | 0.293 | |
| readExcel | 0 | 0 | 0 | |
| removeLines | 0.269 | 0.004 | 0.273 | |
| samLRT | 0 | 0 | 0 | |
| saveParameters | 0.244 | 0.000 | 0.243 | |
| scatterplotEnrichGO_HC | 4.310 | 0.112 | 4.421 | |
| search.metacell.tags | 0.005 | 0.000 | 0.005 | |
| separateAdjPval | 0.136 | 0.000 | 0.136 | |
| splitAdjacencyMat | 0.271 | 0.000 | 0.272 | |
| test.design | 0.255 | 0.000 | 0.256 | |
| testAnovaModels | 0.076 | 0.004 | 0.080 | |
| thresholdpval4fdr | 0 | 0 | 0 | |
| translatedRandomBeta | 0.003 | 0.000 | 0.002 | |
| univ_AnnotDbPkg | 0.107 | 0.012 | 0.118 | |
| violinPlotD | 0.205 | 0.008 | 0.214 | |
| visualizeClusters | 0.991 | 0.020 | 1.012 | |
| vsn | 0.656 | 0.040 | 0.695 | |
| wrapper.CVDistD_HC | 1.208 | 0.144 | 1.351 | |
| wrapper.compareNormalizationD_HC | 27.566 | 1.748 | 29.314 | |
| wrapper.corrMatrixD_HC | 0.316 | 0.012 | 0.328 | |
| wrapper.dapar.impute.mi | 13.300 | 0.228 | 13.530 | |
| wrapper.heatmapD | 0.491 | 0.000 | 0.491 | |
| wrapper.impute.KNN | 0.269 | 0.000 | 0.269 | |
| wrapper.impute.detQuant | 0.291 | 0.004 | 0.295 | |
| wrapper.impute.fixedValue | 0.296 | 0.004 | 0.300 | |
| wrapper.impute.mle | 0.297 | 0.004 | 0.301 | |
| wrapper.impute.pa | 0.087 | 0.004 | 0.091 | |
| wrapper.impute.pa2 | 0.275 | 0.004 | 0.279 | |
| wrapper.impute.slsa | 0.378 | 0.000 | 0.379 | |
| wrapper.mvImage | 0.106 | 0.000 | 0.106 | |
| wrapper.normalizeD | 0.255 | 0.000 | 0.255 | |
| wrapper.pca | 0.097 | 0.008 | 0.105 | |
| wrapperCalibrationPlot | 0.147 | 0.000 | 0.148 | |
| wrapperClassic1wayAnova | 0 | 0 | 0 | |
| wrapperRunClustering | 1.643 | 0.064 | 1.707 | |
| write.excel | 0.529 | 0.024 | 0.553 | |
| writeMSnsetToCSV | 0.264 | 0.000 | 0.264 | |
| writeMSnsetToExcel | 0.708 | 0.025 | 0.734 | |