Back to Multiple platform build/check report for BioC 3.18: simplified long |
|
This page was generated on 2024-04-17 11:37:39 -0400 (Wed, 17 Apr 2024).
Hostname | OS | Arch (*) | R version | Installed pkgs |
---|---|---|---|---|
nebbiolo2 | Linux (Ubuntu 22.04.3 LTS) | x86_64 | 4.3.3 (2024-02-29) -- "Angel Food Cake" | 4676 |
palomino4 | Windows Server 2022 Datacenter | x64 | 4.3.3 (2024-02-29 ucrt) -- "Angel Food Cake" | 4414 |
merida1 | macOS 12.7.1 Monterey | x86_64 | 4.3.3 (2024-02-29) -- "Angel Food Cake" | 4437 |
Click on any hostname to see more info about the system (e.g. compilers) (*) as reported by 'uname -p', except on Windows and Mac OS X |
Package 500/2266 | Hostname | OS / Arch | INSTALL | BUILD | CHECK | BUILD BIN | ||||||||
DAPAR 1.34.6 (landing page) Samuel Wieczorek
| nebbiolo2 | Linux (Ubuntu 22.04.3 LTS) / x86_64 | OK | OK | OK | ![]() | ||||||||
palomino4 | Windows Server 2022 Datacenter / x64 | OK | OK | OK | OK | ![]() | ||||||||
merida1 | macOS 12.7.1 Monterey / x86_64 | OK | OK | OK | OK | ![]() | ||||||||
kjohnson1 | macOS 13.6.1 Ventura / arm64 | see weekly results here | ||||||||||||
To the developers/maintainers of the DAPAR package: - Allow up to 24 hours (and sometimes 48 hours) for your latest push to git@git.bioconductor.org:packages/DAPAR.git to reflect on this report. See Troubleshooting Build Report for more information. - Use the following Renviron settings to reproduce errors and warnings. - If 'R CMD check' started to fail recently on the Linux builder(s) over a missing dependency, add the missing dependency to 'Suggests:' in your DESCRIPTION file. See Renviron.bioc for more information. |
Package: DAPAR |
Version: 1.34.6 |
Command: /Library/Frameworks/R.framework/Resources/bin/R CMD check --install=check:DAPAR.install-out.txt --library=/Library/Frameworks/R.framework/Resources/library --no-vignettes --timings DAPAR_1.34.6.tar.gz |
StartedAt: 2024-04-16 01:35:42 -0400 (Tue, 16 Apr 2024) |
EndedAt: 2024-04-16 01:48:15 -0400 (Tue, 16 Apr 2024) |
EllapsedTime: 752.9 seconds |
RetCode: 0 |
Status: OK |
CheckDir: DAPAR.Rcheck |
Warnings: 0 |
############################################################################## ############################################################################## ### ### Running command: ### ### /Library/Frameworks/R.framework/Resources/bin/R CMD check --install=check:DAPAR.install-out.txt --library=/Library/Frameworks/R.framework/Resources/library --no-vignettes --timings DAPAR_1.34.6.tar.gz ### ############################################################################## ############################################################################## * using log directory ‘/Users/biocbuild/bbs-3.18-bioc/meat/DAPAR.Rcheck’ * using R version 4.3.3 (2024-02-29) * using platform: x86_64-apple-darwin20 (64-bit) * R was compiled by Apple clang version 14.0.0 (clang-1400.0.29.202) GNU Fortran (GCC) 12.2.0 * running under: macOS Monterey 12.7.1 * using session charset: UTF-8 * using option ‘--no-vignettes’ * checking for file ‘DAPAR/DESCRIPTION’ ... OK * checking extension type ... Package * this is package ‘DAPAR’ version ‘1.34.6’ * package encoding: UTF-8 * checking package namespace information ... OK * checking package dependencies ... OK * checking if this is a source package ... OK * checking if there is a namespace ... OK * checking for hidden files and directories ... OK * checking for portable file names ... OK * checking for sufficient/correct file permissions ... OK * checking whether package ‘DAPAR’ can be installed ... OK * checking installed package size ... OK * checking package directory ... OK * checking DESCRIPTION meta-information ... OK * checking top-level files ... OK * checking for left-over files ... OK * checking index information ... OK * checking package subdirectories ... OK * checking R files for non-ASCII characters ... OK * checking R files for syntax errors ... OK * checking whether the package can be loaded ... OK * checking whether the package can be loaded with stated dependencies ... OK * checking whether the package can be unloaded cleanly ... OK * checking whether the namespace can be loaded with stated dependencies ... OK * checking whether the namespace can be unloaded cleanly ... OK * checking startup messages can be suppressed ... OK * checking dependencies in R code ... NOTE Namespaces in Imports field not imported from: ‘knitr’ ‘norm’ ‘org.Sc.sgd.db’ ‘parallel’ ‘scales’ ‘tidyverse’ All declared Imports should be used. * checking S3 generic/method consistency ... OK * checking replacement functions ... OK * checking foreign function calls ... OK * checking R code for possible problems ... NOTE Check_Dataset_Validity: no visible global function definition for ‘exprs’ OWAnova: no visible global function definition for ‘aov’ aggregateIterParallel: no visible binding for global variable ‘cond’ averageIntensities: no visible binding for global variable ‘condition’ averageIntensities: no visible binding for global variable ‘feature’ averageIntensities: no visible binding for global variable ‘intensity’ createMSnset: no visible global function definition for ‘installed.packages’ createMSnset: no visible binding for global variable ‘Prostar.loc’ diffAnaVolcanoplot_rCharts: no visible binding for global variable ‘x’ diffAnaVolcanoplot_rCharts: no visible binding for global variable ‘y’ diffAnaVolcanoplot_rCharts: no visible binding for global variable ‘g’ display.CC.visNet: no visible binding for global variable ‘layout_nicely’ getTextForGOAnalysis: no visible binding for global variable ‘textGOParams’ getTextForGOAnalysis: no visible binding for global variable ‘input’ globalAdjPval: no visible global function definition for ‘stack’ heatmapForMissingValues: no visible binding for global variable ‘par’ limmaCompleteTest: no visible binding for global variable ‘A’ limmaCompleteTest: no visible binding for global variable ‘B’ limmaCompleteTest: no visible binding for global variable ‘P.Value’ pepa.test: no visible global function definition for ‘nodes<-’ testAnovaModels : <anonymous>: no visible global function definition for ‘TukeyHSD’ visualizeClusters: no visible binding for global variable ‘adjusted_pvalues’ visualizeClusters: no visible binding for global variable ‘Condition’ visualizeClusters: no visible binding for global variable ‘Intensity’ visualizeClusters: no visible binding for global variable ‘FDR_threshold’ visualizeClusters: no visible binding for global variable ‘feature’ wrapperClassic1wayAnova: no visible binding for global variable ‘Pr(>F)1’ wrapperRunClustering: no visible global function definition for ‘str_c’ Undefined global functions or variables: A B Condition FDR_threshold Intensity P.Value Pr(>F)1 Prostar.loc TukeyHSD adjusted_pvalues aov cond condition exprs feature g input installed.packages intensity layout_nicely nodes<- par stack str_c textGOParams x y Consider adding importFrom("graphics", "par") importFrom("stats", "TukeyHSD", "aov") importFrom("utils", "installed.packages", "stack") to your NAMESPACE file. * checking Rd files ... OK * checking Rd metadata ... OK * checking Rd cross-references ... OK * checking for missing documentation entries ... OK * checking for code/documentation mismatches ... OK * checking Rd \usage sections ... OK * checking Rd contents ... OK * checking for unstated dependencies in examples ... OK * checking examples ... OK Examples with CPU (user + system) or elapsed time > 5s user system elapsed wrapper.compareNormalizationD_HC 87.135 10.526 105.083 wrapper.dapar.impute.mi 30.244 0.999 34.178 barplotEnrichGO_HC 16.400 1.714 19.971 barplotGroupGO_HC 10.182 0.744 11.776 group_GO 10.193 0.723 12.226 enrich_GO 9.424 0.667 10.779 scatterplotEnrichGO_HC 9.211 0.638 10.646 CVDistD_HC 6.754 0.280 7.464 checkClusterability 5.487 0.836 6.795 densityPlotD_HC 5.009 0.695 6.177 mvImage 5.072 0.130 5.593 wrapper.CVDistD_HC 4.158 0.720 5.124 hc_mvTypePlot2 1.338 0.227 8.318 hc_logFC_DensityPlot 1.017 0.221 5.180 histPValue_HC 0.400 0.134 8.618 * checking for unstated dependencies in ‘tests’ ... OK * checking tests ... Running ‘testthat.R’ OK * checking PDF version of manual ... OK * DONE Status: 2 NOTEs See ‘/Users/biocbuild/bbs-3.18-bioc/meat/DAPAR.Rcheck/00check.log’ for details.
DAPAR.Rcheck/00install.out
############################################################################## ############################################################################## ### ### Running command: ### ### /Library/Frameworks/R.framework/Resources/bin/R CMD INSTALL DAPAR ### ############################################################################## ############################################################################## * installing to library ‘/Library/Frameworks/R.framework/Versions/4.3-x86_64/Resources/library’ * installing *source* package ‘DAPAR’ ... ** using staged installation ** R ** inst ** byte-compile and prepare package for lazy loading ** help *** installing help indices ** building package indices ** testing if installed package can be loaded from temporary location ** testing if installed package can be loaded from final location ** testing if installed package keeps a record of temporary installation path * DONE (DAPAR)
DAPAR.Rcheck/tests/testthat.Rout
R version 4.3.3 (2024-02-29) -- "Angel Food Cake" Copyright (C) 2024 The R Foundation for Statistical Computing Platform: x86_64-apple-darwin20 (64-bit) R is free software and comes with ABSOLUTELY NO WARRANTY. You are welcome to redistribute it under certain conditions. Type 'license()' or 'licence()' for distribution details. R is a collaborative project with many contributors. Type 'contributors()' for more information and 'citation()' on how to cite R or R packages in publications. Type 'demo()' for some demos, 'help()' for on-line help, or 'help.start()' for an HTML browser interface to help. Type 'q()' to quit R. > library(testthat) > library(DAPAR) This is the 'DAPAR' version 1.34.6. To get started, visit http://www.prostar-proteomics.org/ > > test_check("DAPAR") Iterations: 1 / 1 - Imputation MNAR OK - Imputation MCAR in progress - 3 % - 6 % - 9 % - 12 % - 15 % - 18 % - 21 % - 24 % - 27 % - 30 % - 33 % - 36 % - 39 % - 42 % - 45 % - 48 % - 51 % - 54 % - 57 % - 60 % - 63 % - 66 % - 69 % - 72 % - 75 % - 78 % - 81 % - 84 % - 87 % - 90 % - 93 % - 96 % - 99 % - Iterations: 1 / 1 - Imputation MNAR OK - Imputation MCAR in progress - 3 % - 6 % - 9 % - 12 % - 15 % - 18 % - 21 % - 24 % - 27 % - 30 % - 33 % - 36 % - 39 % - 42 % - 45 % - 48 % - 51 % - 54 % - 57 % - 60 % - 63 % - 66 % - 69 % - 72 % - 75 % - 78 % - 81 % - 84 % - 87 % - 90 % - 93 % - 96 % - 99 % - Imputation in condition 1 ... In progress: 10 % - 20 % - 30 % - 40 % - 50 % - 60 % - 70 % - 80 % - 90 % - 100 % - Imputation in condition 2 ... In progress: 10 % - 20 % - 30 % - 40 % - 50 % - 60 % - 70 % - 80 % - 90 % - 100 % - [ FAIL 0 | WARN 17 | SKIP 0 | PASS 66 ] [ FAIL 0 | WARN 17 | SKIP 0 | PASS 66 ] > > proc.time() user system elapsed 50.016 1.661 55.643
DAPAR.Rcheck/DAPAR-Ex.timings
name | user | system | elapsed | |
AggregateMetacell | 3.576 | 0.116 | 3.820 | |
BuildAdjacencyMatrix | 0.603 | 0.010 | 0.643 | |
BuildColumnToProteinDataset | 0.698 | 0.011 | 0.754 | |
BuildMetaCell | 1.027 | 0.048 | 1.132 | |
CVDistD_HC | 6.754 | 0.280 | 7.464 | |
Children | 0.011 | 0.001 | 0.013 | |
CountPep | 0.567 | 0.008 | 0.627 | |
ExtendPalette | 0.055 | 0.003 | 0.064 | |
GOAnalysisSave | 0.000 | 0.000 | 0.001 | |
GetCC | 2.056 | 0.024 | 2.256 | |
GetColorsForConditions | 0.484 | 0.006 | 0.538 | |
GetDetailedNbPeptides | 0.540 | 0.007 | 0.586 | |
GetDetailedNbPeptidesUsed | 0.000 | 0.000 | 0.001 | |
GetIndices_BasedOnConditions | 0.525 | 0.007 | 0.571 | |
GetIndices_MetacellFiltering | 0.549 | 0.008 | 0.603 | |
GetIndices_WholeLine | 0.525 | 0.008 | 0.573 | |
GetIndices_WholeMatrix | 0.527 | 0.007 | 0.574 | |
GetKeyId | 0.513 | 0.008 | 0.559 | |
GetMatAdj | 0.595 | 0.006 | 0.645 | |
GetMetacell | 0 | 0 | 0 | |
GetMetacellTags | 0.515 | 0.006 | 0.561 | |
GetNbPeptidesUsed | 0.531 | 0.007 | 0.579 | |
GetNbTags | 0.001 | 0.000 | 0.000 | |
GetSoftAvailables | 0.001 | 0.000 | 0.001 | |
GetTypeofData | 0.491 | 0.006 | 0.539 | |
Get_AllComparisons | 0.431 | 0.011 | 0.472 | |
GlobalQuantileAlignment | 0.526 | 0.006 | 0.575 | |
GraphPepProt | 0.535 | 0.006 | 0.578 | |
LH0 | 0 | 0 | 0 | |
LH0.lm | 0.000 | 0.001 | 0.001 | |
LH1 | 0.000 | 0.001 | 0.001 | |
LH1.lm | 0.000 | 0.001 | 0.001 | |
LOESS | 1.743 | 0.026 | 1.912 | |
MeanCentering | 0.525 | 0.008 | 0.571 | |
MetaCellFiltering | 0.879 | 0.011 | 0.999 | |
MetacellFilteringScope | 0.000 | 0.000 | 0.001 | |
Metacell_DIA_NN | 0.871 | 0.024 | 0.962 | |
Metacell_generic | 0.875 | 0.022 | 0.954 | |
Metacell_maxquant | 0.900 | 0.026 | 0.968 | |
Metacell_proline | 0.815 | 0.022 | 0.870 | |
NumericalFiltering | 0.673 | 0.011 | 0.716 | |
NumericalgetIndicesOfLinesToRemove | 0.555 | 0.006 | 0.596 | |
OWAnova | 0.012 | 0.001 | 0.012 | |
QuantileCentering | 0.529 | 0.005 | 0.565 | |
SetCC | 1.838 | 0.016 | 2.008 | |
SetMatAdj | 0.607 | 0.006 | 0.660 | |
Set_POV_MEC_tags | 0.531 | 0.005 | 0.577 | |
StringBasedFiltering | 0.598 | 0.008 | 0.660 | |
StringBasedFiltering2 | 0.587 | 0.006 | 0.638 | |
SumByColumns | 3.275 | 0.023 | 3.572 | |
SymFilteringOperators | 0.000 | 0.001 | 0.001 | |
UpdateMetacellAfterImputation | 0.563 | 0.006 | 0.611 | |
aggregateIter | 0.859 | 0.009 | 0.955 | |
aggregateIterParallel | 0.001 | 0.000 | 0.001 | |
aggregateMean | 0.703 | 0.007 | 0.764 | |
aggregateSum | 0.780 | 0.008 | 0.853 | |
aggregateTopn | 0.680 | 0.008 | 0.753 | |
applyAnovasOnProteins | 0.151 | 0.004 | 0.168 | |
averageIntensities | 0.999 | 0.104 | 1.191 | |
barplotEnrichGO_HC | 16.400 | 1.714 | 19.971 | |
barplotGroupGO_HC | 10.182 | 0.744 | 11.776 | |
boxPlotD_HC | 0.442 | 0.088 | 0.583 | |
buildGraph | 1.511 | 0.023 | 1.650 | |
check.conditions | 0.476 | 0.006 | 0.518 | |
check.design | 0.480 | 0.005 | 0.521 | |
checkClusterability | 5.487 | 0.836 | 6.795 | |
classic1wayAnova | 0.000 | 0.001 | 0.001 | |
compareNormalizationD_HC | 0.205 | 0.074 | 0.313 | |
compute.selection.table | 1.281 | 0.102 | 1.480 | |
compute_t_tests | 2.281 | 0.153 | 2.581 | |
corrMatrixD_HC | 0.648 | 0.082 | 0.769 | |
createMSnset | 3.294 | 0.097 | 3.544 | |
dapar_hc_ExportMenu | 0.247 | 0.206 | 0.560 | |
dapar_hc_chart | 0.099 | 0.069 | 0.183 | |
deleteLinesFromIndices | 0.558 | 0.011 | 0.619 | |
densityPlotD_HC | 5.009 | 0.695 | 6.177 | |
diffAnaComputeAdjustedPValues | 0.247 | 0.038 | 0.317 | |
diffAnaComputeFDR | 0.000 | 0.001 | 0.001 | |
diffAnaGetSignificant | 0.466 | 0.029 | 0.553 | |
diffAnaSave | 0.385 | 0.028 | 0.456 | |
diffAnaVolcanoplot | 0.233 | 0.015 | 0.264 | |
diffAnaVolcanoplot_rCharts | 0.590 | 0.102 | 0.737 | |
display.CC.visNet | 1.663 | 0.058 | 1.868 | |
enrich_GO | 9.424 | 0.667 | 10.779 | |
finalizeAggregation | 0 | 0 | 0 | |
findMECBlock | 0.549 | 0.009 | 0.601 | |
formatHSDResults | 0.000 | 0.000 | 0.001 | |
formatLimmaResult | 1.071 | 0.028 | 1.172 | |
formatPHResults | 0.000 | 0.000 | 0.001 | |
formatPHTResults | 0.001 | 0.001 | 0.001 | |
fudge2LRT | 0.000 | 0.000 | 0.001 | |
get.pep.prot.cc | 1.319 | 0.017 | 1.552 | |
getDesignLevel | 0.473 | 0.006 | 0.544 | |
getIndicesConditions | 0.476 | 0.006 | 0.537 | |
getIndicesOfLinesToRemove | 0.515 | 0.008 | 0.560 | |
getListNbValuesInLines | 0.467 | 0.005 | 0.511 | |
getNumberOf | 0.504 | 0.009 | 0.557 | |
getNumberOfEmptyLines | 0.542 | 0.007 | 0.635 | |
getPourcentageOfMV | 0.516 | 0.009 | 0.550 | |
getProcessingInfo | 0.481 | 0.005 | 0.509 | |
getProteinsStats | 0.561 | 0.015 | 0.609 | |
getQuantile4Imp | 0.100 | 0.003 | 0.104 | |
getTextForAggregation | 0.001 | 0.001 | 0.001 | |
getTextForAnaDiff | 0.000 | 0.001 | 0.001 | |
getTextForFiltering | 0.000 | 0.001 | 0.001 | |
getTextForGOAnalysis | 0.001 | 0.001 | 0.002 | |
getTextForHypothesisTest | 0.000 | 0.000 | 0.001 | |
getTextForNewDataset | 0.003 | 0.000 | 0.003 | |
getTextForNormalization | 0.001 | 0.000 | 0.001 | |
getTextForpeptideImputation | 0.000 | 0.000 | 0.001 | |
getTextForproteinImputation | 0.001 | 0.001 | 0.001 | |
globalAdjPval | 0.787 | 0.023 | 0.857 | |
group_GO | 10.193 | 0.723 | 12.226 | |
hc_logFC_DensityPlot | 1.017 | 0.221 | 5.180 | |
hc_mvTypePlot2 | 1.338 | 0.227 | 8.318 | |
heatmapD | 0.921 | 0.097 | 1.256 | |
heatmapForMissingValues | 0.243 | 0.023 | 0.470 | |
histPValue_HC | 0.400 | 0.134 | 8.618 | |
impute.pa2 | 0.573 | 0.018 | 0.609 | |
inner.aggregate.iter | 0.569 | 0.017 | 0.637 | |
inner.aggregate.topn | 0.531 | 0.016 | 0.620 | |
inner.mean | 0.525 | 0.015 | 0.623 | |
inner.sum | 0.523 | 0.014 | 0.631 | |
is.subset | 0.000 | 0.001 | 0.004 | |
limmaCompleteTest | 3.175 | 0.066 | 3.602 | |
listSheets | 0.000 | 0.001 | 0.001 | |
make.contrast | 0.481 | 0.009 | 0.569 | |
make.design.1 | 0.482 | 0.008 | 0.543 | |
make.design.2 | 0.487 | 0.009 | 0.546 | |
make.design.3 | 0.493 | 0.011 | 0.567 | |
make.design | 0.487 | 0.009 | 0.556 | |
match.metacell | 0.533 | 0.013 | 0.695 | |
metacell.def | 0.009 | 0.004 | 0.020 | |
metacellHisto_HC | 0.639 | 0.081 | 0.803 | |
metacellPerLinesHistoPerCondition_HC | 0.773 | 0.142 | 0.991 | |
metacellPerLinesHisto_HC | 1.020 | 0.359 | 1.559 | |
metacombine | 0.144 | 0.004 | 0.159 | |
mvImage | 5.072 | 0.130 | 5.593 | |
my_hc_ExportMenu | 0.250 | 0.200 | 0.456 | |
my_hc_chart | 0.242 | 0.200 | 0.452 | |
nonzero | 0.027 | 0.002 | 0.029 | |
normalizeMethods.dapar | 0.000 | 0.001 | 0.001 | |
pepa.test | 0.587 | 0.009 | 0.623 | |
pkgs.require | 0.000 | 0.000 | 0.001 | |
plotJitter | 1.538 | 0.032 | 1.613 | |
plotJitter_rCharts | 1.518 | 0.104 | 1.794 | |
plotPCA_Eigen | 0.631 | 0.034 | 0.722 | |
plotPCA_Eigen_hc | 0.483 | 0.006 | 0.529 | |
plotPCA_Ind | 0.485 | 0.007 | 0.544 | |
plotPCA_Var | 0.476 | 0.005 | 0.512 | |
postHocTest | 0.001 | 0.000 | 0.000 | |
proportionConRev_HC | 0.086 | 0.063 | 0.163 | |
rbindMSnset | 0.638 | 0.019 | 0.714 | |
reIntroduceMEC | 0.594 | 0.014 | 0.654 | |
readExcel | 0.000 | 0.001 | 0.001 | |
removeLines | 0.555 | 0.014 | 0.618 | |
samLRT | 0.001 | 0.000 | 0.001 | |
saveParameters | 0.476 | 0.007 | 0.517 | |
scatterplotEnrichGO_HC | 9.211 | 0.638 | 10.646 | |
search.metacell.tags | 0.014 | 0.001 | 0.016 | |
separateAdjPval | 0.244 | 0.009 | 0.255 | |
splitAdjacencyMat | 0.541 | 0.009 | 0.556 | |
test.design | 0.496 | 0.005 | 0.522 | |
testAnovaModels | 0.152 | 0.008 | 0.166 | |
thresholdpval4fdr | 0.001 | 0.001 | 0.001 | |
translatedRandomBeta | 0.006 | 0.025 | 0.035 | |
univ_AnnotDbPkg | 0.284 | 0.172 | 0.466 | |
violinPlotD | 0.407 | 0.019 | 0.465 | |
visualizeClusters | 2.498 | 0.111 | 2.761 | |
vsn | 0.930 | 0.014 | 1.005 | |
wrapper.CVDistD_HC | 4.158 | 0.720 | 5.124 | |
wrapper.compareNormalizationD_HC | 87.135 | 10.526 | 105.083 | |
wrapper.corrMatrixD_HC | 0.648 | 0.081 | 0.794 | |
wrapper.dapar.impute.mi | 30.244 | 0.999 | 34.178 | |
wrapper.heatmapD | 0.878 | 0.075 | 0.964 | |
wrapper.impute.KNN | 0.542 | 0.011 | 0.558 | |
wrapper.impute.detQuant | 0.617 | 0.014 | 0.637 | |
wrapper.impute.fixedValue | 0.629 | 0.016 | 0.651 | |
wrapper.impute.mle | 0.551 | 0.011 | 0.569 | |
wrapper.impute.pa | 0.173 | 0.009 | 0.191 | |
wrapper.impute.pa2 | 0.565 | 0.016 | 0.614 | |
wrapper.impute.slsa | 0.850 | 0.024 | 0.990 | |
wrapper.mvImage | 0.220 | 0.012 | 0.237 | |
wrapper.normalizeD | 0.549 | 0.014 | 0.626 | |
wrapper.pca | 0.207 | 0.012 | 0.235 | |
wrapperCalibrationPlot | 0.268 | 0.018 | 0.326 | |
wrapperClassic1wayAnova | 0 | 0 | 0 | |
wrapperRunClustering | 3.994 | 0.209 | 4.604 | |
write.excel | 1.258 | 0.094 | 1.473 | |
writeMSnsetToCSV | 0.524 | 0.021 | 0.593 | |
writeMSnsetToExcel | 1.564 | 0.131 | 1.847 | |