| Back to Multiple platform build/check report for BioC 3.18: simplified long |
|
This page was generated on 2024-03-04 11:37:16 -0500 (Mon, 04 Mar 2024).
| Hostname | OS | Arch (*) | R version | Installed pkgs |
|---|---|---|---|---|
| nebbiolo2 | Linux (Ubuntu 22.04.3 LTS) | x86_64 | 4.3.2 Patched (2023-11-13 r85521) -- "Eye Holes" | 4692 |
| palomino4 | Windows Server 2022 Datacenter | x64 | 4.3.2 (2023-10-31 ucrt) -- "Eye Holes" | 4445 |
| lconway | macOS 12.7.1 Monterey | x86_64 | 4.3.2 Patched (2023-11-01 r85457) -- "Eye Holes" | 4466 |
| Click on any hostname to see more info about the system (e.g. compilers) (*) as reported by 'uname -p', except on Windows and Mac OS X | ||||
| Package 500/2266 | Hostname | OS / Arch | INSTALL | BUILD | CHECK | BUILD BIN | ||||||||
| DAPAR 1.34.6 (landing page) Samuel Wieczorek
| nebbiolo2 | Linux (Ubuntu 22.04.3 LTS) / x86_64 | OK | OK | OK | |||||||||
| palomino4 | Windows Server 2022 Datacenter / x64 | OK | OK | OK | OK | |||||||||
| lconway | macOS 12.7.1 Monterey / x86_64 | OK | OK | OK | OK | |||||||||
| kjohnson1 | macOS 13.6.1 Ventura / arm64 | see weekly results here | ||||||||||||
|
To the developers/maintainers of the DAPAR package: - Allow up to 24 hours (and sometimes 48 hours) for your latest push to git@git.bioconductor.org:packages/DAPAR.git to reflect on this report. See Troubleshooting Build Report for more information. - Use the following Renviron settings to reproduce errors and warnings. - If 'R CMD check' started to fail recently on the Linux builder(s) over a missing dependency, add the missing dependency to 'Suggests:' in your DESCRIPTION file. See Renviron.bioc for more information. |
| Package: DAPAR |
| Version: 1.34.6 |
| Command: /Library/Frameworks/R.framework/Resources/bin/R CMD check --install=check:DAPAR.install-out.txt --library=/Library/Frameworks/R.framework/Resources/library --no-vignettes --timings DAPAR_1.34.6.tar.gz |
| StartedAt: 2024-03-03 20:02:03 -0500 (Sun, 03 Mar 2024) |
| EndedAt: 2024-03-03 20:08:44 -0500 (Sun, 03 Mar 2024) |
| EllapsedTime: 400.5 seconds |
| RetCode: 0 |
| Status: OK |
| CheckDir: DAPAR.Rcheck |
| Warnings: 0 |
##############################################################################
##############################################################################
###
### Running command:
###
### /Library/Frameworks/R.framework/Resources/bin/R CMD check --install=check:DAPAR.install-out.txt --library=/Library/Frameworks/R.framework/Resources/library --no-vignettes --timings DAPAR_1.34.6.tar.gz
###
##############################################################################
##############################################################################
* using log directory ‘/Users/biocbuild/bbs-3.18-bioc/meat/DAPAR.Rcheck’
* using R version 4.3.2 Patched (2023-11-01 r85457)
* using platform: x86_64-apple-darwin20 (64-bit)
* R was compiled by
Apple clang version 14.0.3 (clang-1403.0.22.14.1)
GNU Fortran (GCC) 12.2.0
* running under: macOS Monterey 12.7.1
* using session charset: UTF-8
* using option ‘--no-vignettes’
* checking for file ‘DAPAR/DESCRIPTION’ ... OK
* checking extension type ... Package
* this is package ‘DAPAR’ version ‘1.34.6’
* package encoding: UTF-8
* checking package namespace information ... OK
* checking package dependencies ... OK
* checking if this is a source package ... OK
* checking if there is a namespace ... OK
* checking for hidden files and directories ... OK
* checking for portable file names ... OK
* checking for sufficient/correct file permissions ... OK
* checking whether package ‘DAPAR’ can be installed ... OK
* checking installed package size ... OK
* checking package directory ... OK
* checking DESCRIPTION meta-information ... OK
* checking top-level files ... OK
* checking for left-over files ... OK
* checking index information ... OK
* checking package subdirectories ... OK
* checking R files for non-ASCII characters ... OK
* checking R files for syntax errors ... OK
* checking whether the package can be loaded ... OK
* checking whether the package can be loaded with stated dependencies ... OK
* checking whether the package can be unloaded cleanly ... OK
* checking whether the namespace can be loaded with stated dependencies ... OK
* checking whether the namespace can be unloaded cleanly ... OK
* checking startup messages can be suppressed ... OK
* checking dependencies in R code ... NOTE
Namespaces in Imports field not imported from:
‘knitr’ ‘norm’ ‘org.Sc.sgd.db’ ‘parallel’ ‘scales’ ‘tidyverse’
All declared Imports should be used.
* checking S3 generic/method consistency ... OK
* checking replacement functions ... OK
* checking foreign function calls ... OK
* checking R code for possible problems ... NOTE
Check_Dataset_Validity: no visible global function definition for
‘exprs’
OWAnova: no visible global function definition for ‘aov’
aggregateIterParallel: no visible binding for global variable ‘cond’
averageIntensities: no visible binding for global variable ‘condition’
averageIntensities: no visible binding for global variable ‘feature’
averageIntensities: no visible binding for global variable ‘intensity’
createMSnset: no visible global function definition for
‘installed.packages’
createMSnset: no visible binding for global variable ‘Prostar.loc’
diffAnaVolcanoplot_rCharts: no visible binding for global variable ‘x’
diffAnaVolcanoplot_rCharts: no visible binding for global variable ‘y’
diffAnaVolcanoplot_rCharts: no visible binding for global variable ‘g’
display.CC.visNet: no visible binding for global variable
‘layout_nicely’
getTextForGOAnalysis: no visible binding for global variable
‘textGOParams’
getTextForGOAnalysis: no visible binding for global variable ‘input’
globalAdjPval: no visible global function definition for ‘stack’
heatmapForMissingValues: no visible binding for global variable ‘par’
limmaCompleteTest: no visible binding for global variable ‘A’
limmaCompleteTest: no visible binding for global variable ‘B’
limmaCompleteTest: no visible binding for global variable ‘P.Value’
pepa.test: no visible global function definition for ‘nodes<-’
testAnovaModels : <anonymous>: no visible global function definition
for ‘TukeyHSD’
visualizeClusters: no visible binding for global variable
‘adjusted_pvalues’
visualizeClusters: no visible binding for global variable ‘Condition’
visualizeClusters: no visible binding for global variable ‘Intensity’
visualizeClusters: no visible binding for global variable
‘FDR_threshold’
visualizeClusters: no visible binding for global variable ‘feature’
wrapperClassic1wayAnova: no visible binding for global variable
‘Pr(>F)1’
wrapperRunClustering: no visible global function definition for ‘str_c’
Undefined global functions or variables:
A B Condition FDR_threshold Intensity P.Value Pr(>F)1 Prostar.loc
TukeyHSD adjusted_pvalues aov cond condition exprs feature g input
installed.packages intensity layout_nicely nodes<- par stack str_c
textGOParams x y
Consider adding
importFrom("graphics", "par")
importFrom("stats", "TukeyHSD", "aov")
importFrom("utils", "installed.packages", "stack")
to your NAMESPACE file.
* checking Rd files ... OK
* checking Rd metadata ... OK
* checking Rd cross-references ... OK
* checking for missing documentation entries ... OK
* checking for code/documentation mismatches ... OK
* checking Rd \usage sections ... OK
* checking Rd contents ... OK
* checking for unstated dependencies in examples ... OK
* checking examples ... OK
Examples with CPU (user + system) or elapsed time > 5s
user system elapsed
wrapper.compareNormalizationD_HC 42.949 5.282 48.619
wrapper.dapar.impute.mi 16.656 0.831 17.654
barplotEnrichGO_HC 9.774 1.160 11.079
group_GO 6.532 0.510 7.142
barplotGroupGO_HC 6.393 0.500 6.959
scatterplotEnrichGO_HC 5.766 0.487 6.373
enrich_GO 5.638 0.425 6.149
* checking for unstated dependencies in ‘tests’ ... OK
* checking tests ...
Running ‘testthat.R’
OK
* checking PDF version of manual ... OK
* DONE
Status: 2 NOTEs
See
‘/Users/biocbuild/bbs-3.18-bioc/meat/DAPAR.Rcheck/00check.log’
for details.
DAPAR.Rcheck/00install.out
############################################################################## ############################################################################## ### ### Running command: ### ### /Library/Frameworks/R.framework/Resources/bin/R CMD INSTALL DAPAR ### ############################################################################## ############################################################################## * installing to library ‘/Library/Frameworks/R.framework/Versions/4.3-x86_64/Resources/library’ * installing *source* package ‘DAPAR’ ... ** using staged installation ** R ** inst ** byte-compile and prepare package for lazy loading ** help *** installing help indices ** building package indices ** testing if installed package can be loaded from temporary location ** testing if installed package can be loaded from final location ** testing if installed package keeps a record of temporary installation path * DONE (DAPAR)
DAPAR.Rcheck/tests/testthat.Rout
R version 4.3.2 Patched (2023-11-01 r85457) -- "Eye Holes"
Copyright (C) 2023 The R Foundation for Statistical Computing
Platform: x86_64-apple-darwin20 (64-bit)
R is free software and comes with ABSOLUTELY NO WARRANTY.
You are welcome to redistribute it under certain conditions.
Type 'license()' or 'licence()' for distribution details.
R is a collaborative project with many contributors.
Type 'contributors()' for more information and
'citation()' on how to cite R or R packages in publications.
Type 'demo()' for some demos, 'help()' for on-line help, or
'help.start()' for an HTML browser interface to help.
Type 'q()' to quit R.
> library(testthat)
> library(DAPAR)
This is the 'DAPAR' version 1.34.6.
To get started, visit
http://www.prostar-proteomics.org/
>
> test_check("DAPAR")
Iterations:
1 / 1 - Imputation MNAR OK -
Imputation MCAR in progress -
3 % - 6 % - 9 % - 12 % - 15 % - 18 % - 21 % - 24 % - 27 % - 30 % - 33 % - 36 % - 39 % - 42 % - 45 % - 48 % - 51 % - 54 % - 57 % - 60 % - 63 % - 66 % - 69 % - 72 % - 75 % - 78 % - 81 % - 84 % - 87 % - 90 % - 93 % - 96 % - 99 % -
Iterations:
1 / 1 - Imputation MNAR OK -
Imputation MCAR in progress -
3 % - 6 % - 9 % - 12 % - 15 % - 18 % - 21 % - 24 % - 27 % - 30 % - 33 % - 36 % - 39 % - 42 % - 45 % - 48 % - 51 % - 54 % - 57 % - 60 % - 63 % - 66 % - 69 % - 72 % - 75 % - 78 % - 81 % - 84 % - 87 % - 90 % - 93 % - 96 % - 99 % -
Imputation in condition 1 ...
In progress: 10 % - 20 % - 30 % - 40 % - 50 % - 60 % - 70 % - 80 % - 90 % - 100 % -
Imputation in condition 2 ...
In progress: 10 % - 20 % - 30 % - 40 % - 50 % - 60 % - 70 % - 80 % - 90 % - 100 % - [ FAIL 0 | WARN 17 | SKIP 0 | PASS 66 ]
[ FAIL 0 | WARN 17 | SKIP 0 | PASS 66 ]
>
> proc.time()
user system elapsed
29.165 1.396 30.891
DAPAR.Rcheck/DAPAR-Ex.timings
| name | user | system | elapsed | |
| AggregateMetacell | 2.427 | 0.081 | 2.535 | |
| BuildAdjacencyMatrix | 0.407 | 0.009 | 0.419 | |
| BuildColumnToProteinDataset | 0.422 | 0.009 | 0.434 | |
| BuildMetaCell | 0.715 | 0.035 | 0.759 | |
| CVDistD_HC | 3.149 | 0.175 | 3.363 | |
| Children | 0.004 | 0.000 | 0.004 | |
| CountPep | 0.407 | 0.008 | 0.420 | |
| ExtendPalette | 0.029 | 0.002 | 0.031 | |
| GOAnalysisSave | 0 | 0 | 0 | |
| GetCC | 1.613 | 0.030 | 1.661 | |
| GetColorsForConditions | 0.377 | 0.006 | 0.385 | |
| GetDetailedNbPeptides | 0.391 | 0.006 | 0.398 | |
| GetDetailedNbPeptidesUsed | 0.001 | 0.001 | 0.001 | |
| GetIndices_BasedOnConditions | 0.372 | 0.007 | 0.383 | |
| GetIndices_MetacellFiltering | 0.394 | 0.006 | 0.403 | |
| GetIndices_WholeLine | 0.385 | 0.007 | 0.395 | |
| GetIndices_WholeMatrix | 0.375 | 0.007 | 0.386 | |
| GetKeyId | 0.387 | 0.009 | 0.400 | |
| GetMatAdj | 0.415 | 0.006 | 0.426 | |
| GetMetacell | 0 | 0 | 0 | |
| GetMetacellTags | 0.373 | 0.008 | 0.386 | |
| GetNbPeptidesUsed | 0.378 | 0.008 | 0.391 | |
| GetNbTags | 0 | 0 | 0 | |
| GetSoftAvailables | 0.000 | 0.000 | 0.001 | |
| GetTypeofData | 0.342 | 0.005 | 0.349 | |
| Get_AllComparisons | 0.248 | 0.010 | 0.260 | |
| GlobalQuantileAlignment | 0.382 | 0.008 | 0.402 | |
| GraphPepProt | 0.374 | 0.006 | 0.383 | |
| LH0 | 0 | 0 | 0 | |
| LH0.lm | 0.000 | 0.001 | 0.000 | |
| LH1 | 0 | 0 | 0 | |
| LH1.lm | 0 | 0 | 0 | |
| LOESS | 1.087 | 0.024 | 1.122 | |
| MeanCentering | 0.373 | 0.007 | 0.385 | |
| MetaCellFiltering | 0.546 | 0.008 | 0.558 | |
| MetacellFilteringScope | 0 | 0 | 0 | |
| Metacell_DIA_NN | 0.565 | 0.023 | 0.597 | |
| Metacell_generic | 0.569 | 0.020 | 0.599 | |
| Metacell_maxquant | 0.581 | 0.024 | 0.615 | |
| Metacell_proline | 0.526 | 0.014 | 0.544 | |
| NumericalFiltering | 0.470 | 0.012 | 0.487 | |
| NumericalgetIndicesOfLinesToRemove | 0.409 | 0.007 | 0.420 | |
| OWAnova | 0.005 | 0.001 | 0.006 | |
| QuantileCentering | 0.391 | 0.007 | 0.401 | |
| SetCC | 1.526 | 0.021 | 1.557 | |
| SetMatAdj | 0.408 | 0.005 | 0.416 | |
| Set_POV_MEC_tags | 0.383 | 0.005 | 0.390 | |
| StringBasedFiltering | 0.393 | 0.006 | 0.403 | |
| StringBasedFiltering2 | 0.405 | 0.006 | 0.415 | |
| SumByColumns | 1.349 | 0.022 | 1.379 | |
| SymFilteringOperators | 0.001 | 0.001 | 0.000 | |
| UpdateMetacellAfterImputation | 0.393 | 0.006 | 0.402 | |
| aggregateIter | 0.520 | 0.007 | 0.530 | |
| aggregateIterParallel | 0 | 0 | 0 | |
| aggregateMean | 0.450 | 0.008 | 0.462 | |
| aggregateSum | 0.498 | 0.008 | 0.511 | |
| aggregateTopn | 0.424 | 0.008 | 0.436 | |
| applyAnovasOnProteins | 0.105 | 0.005 | 0.119 | |
| averageIntensities | 0.581 | 0.054 | 0.643 | |
| barplotEnrichGO_HC | 9.774 | 1.160 | 11.079 | |
| barplotGroupGO_HC | 6.393 | 0.500 | 6.959 | |
| boxPlotD_HC | 0.970 | 0.082 | 1.062 | |
| buildGraph | 1.140 | 0.014 | 1.161 | |
| check.conditions | 0.332 | 0.005 | 0.339 | |
| check.design | 0.330 | 0.006 | 0.339 | |
| checkClusterability | 2.552 | 0.408 | 2.987 | |
| classic1wayAnova | 0.000 | 0.000 | 0.001 | |
| compareNormalizationD_HC | 0.122 | 0.051 | 0.174 | |
| compute.selection.table | 0.688 | 0.074 | 0.771 | |
| compute_t_tests | 1.015 | 0.078 | 1.102 | |
| corrMatrixD_HC | 0.409 | 0.060 | 0.474 | |
| createMSnset | 2.030 | 0.074 | 2.125 | |
| dapar_hc_ExportMenu | 0.139 | 0.148 | 0.303 | |
| dapar_hc_chart | 0.063 | 0.045 | 0.109 | |
| deleteLinesFromIndices | 0.377 | 0.010 | 0.393 | |
| densityPlotD_HC | 2.481 | 0.380 | 2.891 | |
| diffAnaComputeAdjustedPValues | 0.130 | 0.017 | 0.149 | |
| diffAnaComputeFDR | 0.001 | 0.000 | 0.001 | |
| diffAnaGetSignificant | 0.222 | 0.014 | 0.241 | |
| diffAnaSave | 0.202 | 0.014 | 0.218 | |
| diffAnaVolcanoplot | 0.158 | 0.010 | 0.171 | |
| diffAnaVolcanoplot_rCharts | 0.350 | 0.068 | 0.424 | |
| display.CC.visNet | 1.356 | 0.066 | 1.443 | |
| enrich_GO | 5.638 | 0.425 | 6.149 | |
| finalizeAggregation | 0 | 0 | 0 | |
| findMECBlock | 0.412 | 0.008 | 0.425 | |
| formatHSDResults | 0 | 0 | 0 | |
| formatLimmaResult | 0.929 | 0.038 | 0.975 | |
| formatPHResults | 0.000 | 0.001 | 0.001 | |
| formatPHTResults | 0 | 0 | 0 | |
| fudge2LRT | 0 | 0 | 0 | |
| get.pep.prot.cc | 1.166 | 0.015 | 1.189 | |
| getDesignLevel | 0.338 | 0.008 | 0.351 | |
| getIndicesConditions | 0.351 | 0.007 | 0.360 | |
| getIndicesOfLinesToRemove | 0.370 | 0.009 | 0.383 | |
| getListNbValuesInLines | 0.369 | 0.006 | 0.377 | |
| getNumberOf | 0.374 | 0.007 | 0.385 | |
| getNumberOfEmptyLines | 0.376 | 0.008 | 0.389 | |
| getPourcentageOfMV | 0.372 | 0.008 | 0.383 | |
| getProcessingInfo | 0.346 | 0.006 | 0.355 | |
| getProteinsStats | 0.418 | 0.015 | 0.437 | |
| getQuantile4Imp | 0.069 | 0.002 | 0.071 | |
| getTextForAggregation | 0.000 | 0.000 | 0.001 | |
| getTextForAnaDiff | 0.000 | 0.000 | 0.001 | |
| getTextForFiltering | 0 | 0 | 0 | |
| getTextForGOAnalysis | 0.001 | 0.000 | 0.000 | |
| getTextForHypothesisTest | 0.000 | 0.000 | 0.001 | |
| getTextForNewDataset | 0.002 | 0.000 | 0.002 | |
| getTextForNormalization | 0 | 0 | 0 | |
| getTextForpeptideImputation | 0.001 | 0.000 | 0.001 | |
| getTextForproteinImputation | 0.001 | 0.001 | 0.000 | |
| globalAdjPval | 0.366 | 0.014 | 0.382 | |
| group_GO | 6.532 | 0.510 | 7.142 | |
| hc_logFC_DensityPlot | 0.457 | 0.097 | 0.565 | |
| hc_mvTypePlot2 | 0.781 | 0.106 | 0.893 | |
| heatmapD | 0.587 | 0.041 | 0.634 | |
| heatmapForMissingValues | 0.160 | 0.015 | 0.176 | |
| histPValue_HC | 0.254 | 0.064 | 0.322 | |
| impute.pa2 | 0.397 | 0.010 | 0.410 | |
| inner.aggregate.iter | 0.376 | 0.009 | 0.387 | |
| inner.aggregate.topn | 0.350 | 0.008 | 0.362 | |
| inner.mean | 0.366 | 0.009 | 0.380 | |
| inner.sum | 0.371 | 0.007 | 0.381 | |
| is.subset | 0.000 | 0.000 | 0.001 | |
| limmaCompleteTest | 1.403 | 0.033 | 1.446 | |
| listSheets | 0 | 0 | 0 | |
| make.contrast | 0.344 | 0.006 | 0.353 | |
| make.design.1 | 0.349 | 0.006 | 0.359 | |
| make.design.2 | 0.332 | 0.005 | 0.341 | |
| make.design.3 | 0.322 | 0.007 | 0.332 | |
| make.design | 0.335 | 0.007 | 0.345 | |
| match.metacell | 0.352 | 0.007 | 0.362 | |
| metacell.def | 0.004 | 0.002 | 0.005 | |
| metacellHisto_HC | 0.437 | 0.055 | 0.498 | |
| metacellPerLinesHistoPerCondition_HC | 0.488 | 0.103 | 0.597 | |
| metacellPerLinesHisto_HC | 0.606 | 0.246 | 0.860 | |
| metacombine | 0.053 | 0.002 | 0.055 | |
| mvImage | 2.111 | 0.071 | 2.197 | |
| my_hc_ExportMenu | 0.146 | 0.147 | 0.304 | |
| my_hc_chart | 0.144 | 0.141 | 0.288 | |
| nonzero | 0.026 | 0.001 | 0.028 | |
| normalizeMethods.dapar | 0.000 | 0.001 | 0.001 | |
| pepa.test | 0.365 | 0.007 | 0.376 | |
| pkgs.require | 0 | 0 | 0 | |
| plotJitter | 1.315 | 0.040 | 1.363 | |
| plotJitter_rCharts | 1.161 | 0.057 | 1.229 | |
| plotPCA_Eigen | 0.424 | 0.030 | 0.459 | |
| plotPCA_Eigen_hc | 0.323 | 0.006 | 0.331 | |
| plotPCA_Ind | 0.351 | 0.006 | 0.359 | |
| plotPCA_Var | 0.314 | 0.006 | 0.324 | |
| postHocTest | 0 | 0 | 0 | |
| proportionConRev_HC | 0.044 | 0.057 | 0.117 | |
| rbindMSnset | 0.437 | 0.014 | 0.454 | |
| reIntroduceMEC | 0.412 | 0.011 | 0.427 | |
| readExcel | 0.000 | 0.000 | 0.001 | |
| removeLines | 0.390 | 0.012 | 0.406 | |
| samLRT | 0.000 | 0.000 | 0.001 | |
| saveParameters | 0.335 | 0.009 | 0.347 | |
| scatterplotEnrichGO_HC | 5.766 | 0.487 | 6.373 | |
| search.metacell.tags | 0.004 | 0.001 | 0.004 | |
| separateAdjPval | 0.146 | 0.005 | 0.152 | |
| splitAdjacencyMat | 0.387 | 0.007 | 0.398 | |
| test.design | 0.377 | 0.005 | 0.385 | |
| testAnovaModels | 0.092 | 0.004 | 0.096 | |
| thresholdpval4fdr | 0.000 | 0.000 | 0.001 | |
| translatedRandomBeta | 0.002 | 0.007 | 0.015 | |
| univ_AnnotDbPkg | 0.190 | 0.049 | 0.241 | |
| violinPlotD | 0.244 | 0.011 | 0.257 | |
| visualizeClusters | 1.331 | 0.069 | 1.413 | |
| vsn | 0.601 | 0.010 | 0.619 | |
| wrapper.CVDistD_HC | 1.790 | 0.395 | 2.217 | |
| wrapper.compareNormalizationD_HC | 42.949 | 5.282 | 48.619 | |
| wrapper.corrMatrixD_HC | 0.490 | 0.091 | 0.612 | |
| wrapper.dapar.impute.mi | 16.656 | 0.831 | 17.654 | |
| wrapper.heatmapD | 0.621 | 0.081 | 0.750 | |
| wrapper.impute.KNN | 0.404 | 0.009 | 0.416 | |
| wrapper.impute.detQuant | 0.434 | 0.013 | 0.451 | |
| wrapper.impute.fixedValue | 0.441 | 0.013 | 0.457 | |
| wrapper.impute.mle | 0.399 | 0.009 | 0.412 | |
| wrapper.impute.pa | 0.112 | 0.005 | 0.119 | |
| wrapper.impute.pa2 | 0.403 | 0.012 | 0.419 | |
| wrapper.impute.slsa | 0.540 | 0.017 | 0.565 | |
| wrapper.mvImage | 0.146 | 0.009 | 0.160 | |
| wrapper.normalizeD | 0.430 | 0.012 | 0.447 | |
| wrapper.pca | 0.135 | 0.009 | 0.147 | |
| wrapperCalibrationPlot | 0.176 | 0.017 | 0.203 | |
| wrapperClassic1wayAnova | 0.000 | 0.001 | 0.000 | |
| wrapperRunClustering | 2.121 | 0.147 | 2.290 | |
| write.excel | 0.784 | 0.073 | 0.877 | |
| writeMSnsetToCSV | 0.389 | 0.020 | 0.426 | |
| writeMSnsetToExcel | 0.879 | 0.083 | 0.991 | |