This page was generated on 2023-02-02 17:32:40 -0500 (Thu, 02 Feb 2023).
|
| Hostname | OS | Arch (*) | R version | Installed pkgs |
|---|---|---|---|---|
| nebbiolo1 | Linux (Ubuntu 22.04.1 LTS) | x86_64 | R Under development (unstable) (2023-01-10 r83596) -- "Unsuffered Consequences" | 4467 |
| palomino3 | Windows Server 2022 Datacenter | x64 | R Under development (unstable) (2023-01-10 r83596 ucrt) -- "Unsuffered Consequences" | 4248 |
| merida1 | macOS 10.14.6 Mojave | x86_64 | R Under development (unstable) (2023-01-10 r83596) -- "Unsuffered Consequences" | 4271 |
| Click on any hostname to see more info about the system (e.g. compilers) (*) as reported by 'uname -p', except on Windows and Mac OS X | ||||
A | |||||||||
| QUICK STATS | OS / Arch | INSTALL | BUILD | ||||||||||
| nebbiolo1 | Linux (Ubuntu 22.04.1 LTS) / x86_64 |
|
| ||||||||||
| palomino3 | Windows Server 2022 Datacenter / x64 |
|
| ||||||||||
| merida1 | macOS 10.14.6 Mojave / x86_64 |
|
| ||||||||||
| Package 1/29 | Hostname | OS / Arch | INSTALL | BUILD | |||||||||
| annotation 1.23.0 (landing page) Bioconductor Package Maintainer
| nebbiolo1 | Linux (Ubuntu 22.04.1 LTS) / x86_64 | OK | ERROR | |||||||||
| palomino3 | Windows Server 2022 Datacenter / x64 | OK | OK | ||||||||||
| merida1 | macOS 10.14.6 Mojave / x86_64 | OK | OK | ||||||||||
| Package 2/29 | Hostname | OS / Arch | INSTALL | BUILD | |||||||||
| arrays 1.25.0 (landing page) Bioconductor Package Maintainer
| nebbiolo1 | Linux (Ubuntu 22.04.1 LTS) / x86_64 | OK | OK | |||||||||
| palomino3 | Windows Server 2022 Datacenter / x64 | OK | OK | ||||||||||
| merida1 | macOS 10.14.6 Mojave / x86_64 | OK | OK | ||||||||||
| Package 3/29 | Hostname | OS / Arch | INSTALL | BUILD | |||||||||
| BiocMetaWorkflow 1.21.0 (landing page) Mike Smith
| nebbiolo1 | Linux (Ubuntu 22.04.1 LTS) / x86_64 | OK | OK | |||||||||
| palomino3 | Windows Server 2022 Datacenter / x64 | OK | OK | ||||||||||
| merida1 | macOS 10.14.6 Mojave / x86_64 | OK | OK | ||||||||||
| Package 4/29 | Hostname | OS / Arch | INSTALL | BUILD | |||||||||
| BP4RNAseq 1.9.0 (landing page) Shanwen Sun
| nebbiolo1 | Linux (Ubuntu 22.04.1 LTS) / x86_64 | OK | OK | |||||||||
| palomino3 | Windows Server 2022 Datacenter / x64 | OK | OK | ||||||||||
| merida1 | macOS 10.14.6 Mojave / x86_64 | OK | OK | ||||||||||
| Package 5/29 | Hostname | OS / Arch | INSTALL | BUILD | |||||||||
| CAGEWorkflow 1.15.0 (landing page) Malte Thodberg
| nebbiolo1 | Linux (Ubuntu 22.04.1 LTS) / x86_64 | OK | OK | |||||||||
| palomino3 | Windows Server 2022 Datacenter / x64 | ... NOT SUPPORTED ... | |||||||||||
| merida1 | macOS 10.14.6 Mojave / x86_64 | OK | OK | ||||||||||
| Package 6/29 | Hostname | OS / Arch | INSTALL | BUILD | |||||||||
| chipseqDB 1.23.0 (landing page) Aaron Lun
| nebbiolo1 | Linux (Ubuntu 22.04.1 LTS) / x86_64 | OK | OK | |||||||||
| palomino3 | Windows Server 2022 Datacenter / x64 | ... NOT SUPPORTED ... | |||||||||||
| merida1 | macOS 10.14.6 Mojave / x86_64 | OK | OK | ||||||||||
| Package 7/29 | Hostname | OS / Arch | INSTALL | BUILD | |||||||||
| csawUsersGuide 1.15.0 (landing page) Aaron Lun
| nebbiolo1 | Linux (Ubuntu 22.04.1 LTS) / x86_64 | OK | OK | |||||||||
| palomino3 | Windows Server 2022 Datacenter / x64 | OK | OK | ||||||||||
| merida1 | macOS 10.14.6 Mojave / x86_64 | OK | OK | ||||||||||
| Package 8/29 | Hostname | OS / Arch | INSTALL | BUILD | |||||||||
| cytofWorkflow 1.23.0 (landing page) Mark D. Robinson
| nebbiolo1 | Linux (Ubuntu 22.04.1 LTS) / x86_64 | OK | OK | |||||||||
| palomino3 | Windows Server 2022 Datacenter / x64 | OK | OK | ||||||||||
| merida1 | macOS 10.14.6 Mojave / x86_64 | OK | OK | ||||||||||
| Package 9/29 | Hostname | OS / Arch | INSTALL | BUILD | |||||||||
| EGSEA123 1.23.0 (landing page) Matthew Ritchie
| nebbiolo1 | Linux (Ubuntu 22.04.1 LTS) / x86_64 | OK | OK | |||||||||
| palomino3 | Windows Server 2022 Datacenter / x64 | OK | OK | ||||||||||
| merida1 | macOS 10.14.6 Mojave / x86_64 | OK | OK | ||||||||||
| Package 10/29 | Hostname | OS / Arch | INSTALL | BUILD | |||||||||
| ExpHunterSuite 1.7.0 (landing page) James Perkins
| nebbiolo1 | Linux (Ubuntu 22.04.1 LTS) / x86_64 | OK | OK | |||||||||
| palomino3 | Windows Server 2022 Datacenter / x64 | OK | OK | ||||||||||
| merida1 | macOS 10.14.6 Mojave / x86_64 | OK | OK | ||||||||||
| Package 11/29 | Hostname | OS / Arch | INSTALL | BUILD | |||||||||
| ExpressionNormalizationWorkflow 1.25.0 (landing page) Karthikeyan Murugesan
| nebbiolo1 | Linux (Ubuntu 22.04.1 LTS) / x86_64 | OK | OK | |||||||||
| palomino3 | Windows Server 2022 Datacenter / x64 | OK | OK | ||||||||||
| merida1 | macOS 10.14.6 Mojave / x86_64 | OK | OK | ||||||||||
| Package 12/29 | Hostname | OS / Arch | INSTALL | BUILD | |||||||||
| fluentGenomics 1.11.0 (landing page) Stuart Lee
| nebbiolo1 | Linux (Ubuntu 22.04.1 LTS) / x86_64 | OK | OK | |||||||||
| palomino3 | Windows Server 2022 Datacenter / x64 | OK | OK | ||||||||||
| merida1 | macOS 10.14.6 Mojave / x86_64 | OK | OK | ||||||||||
| Package 13/29 | Hostname | OS / Arch | INSTALL | BUILD | |||||||||
| generegulation 1.23.0 (landing page) Bioconductor Package Maintainer
| nebbiolo1 | Linux (Ubuntu 22.04.1 LTS) / x86_64 | OK | OK | |||||||||
| palomino3 | Windows Server 2022 Datacenter / x64 | OK | OK | ||||||||||
| merida1 | macOS 10.14.6 Mojave / x86_64 | OK | OK | ||||||||||
| Package 14/29 | Hostname | OS / Arch | INSTALL | BUILD | |||||||||
| GeoMxWorkflows 1.5.0 (landing page) Jason Reeves
| nebbiolo1 | Linux (Ubuntu 22.04.1 LTS) / x86_64 | OK | OK | |||||||||
| palomino3 | Windows Server 2022 Datacenter / x64 | OK | OK | ||||||||||
| merida1 | macOS 10.14.6 Mojave / x86_64 | OK | OK | ||||||||||
| Package 15/29 | Hostname | OS / Arch | INSTALL | BUILD | |||||||||
| highthroughputassays 1.23.0 (landing page) Bioconductor Package Maintainer
| nebbiolo1 | Linux (Ubuntu 22.04.1 LTS) / x86_64 | OK | OK | |||||||||
| palomino3 | Windows Server 2022 Datacenter / x64 | ... NOT SUPPORTED ... | |||||||||||
| merida1 | macOS 10.14.6 Mojave / x86_64 | ... NOT SUPPORTED ... | |||||||||||
| Package 16/29 | Hostname | OS / Arch | INSTALL | BUILD | |||||||||
| liftOver 1.23.0 (landing page) Bioconductor Package Maintainer
| nebbiolo1 | Linux (Ubuntu 22.04.1 LTS) / x86_64 | OK | ERROR | |||||||||
| palomino3 | Windows Server 2022 Datacenter / x64 | OK | ERROR | ||||||||||
| merida1 | macOS 10.14.6 Mojave / x86_64 | OK | ERROR | ||||||||||
| Package 17/29 | Hostname | OS / Arch | INSTALL | BUILD | |||||||||
| maEndToEnd 2.19.0 (landing page) Stefanie Reisenauer
| nebbiolo1 | Linux (Ubuntu 22.04.1 LTS) / x86_64 | OK | ERROR | |||||||||
| palomino3 | Windows Server 2022 Datacenter / x64 | OK | ERROR | ||||||||||
| merida1 | macOS 10.14.6 Mojave / x86_64 | OK | ERROR | ||||||||||
| Package 18/29 | Hostname | OS / Arch | INSTALL | BUILD | |||||||||
| methylationArrayAnalysis 1.23.0 (landing page) Jovana Maksimovic
| nebbiolo1 | Linux (Ubuntu 22.04.1 LTS) / x86_64 | OK | OK | |||||||||
| palomino3 | Windows Server 2022 Datacenter / x64 | OK | OK | ||||||||||
| merida1 | macOS 10.14.6 Mojave / x86_64 | OK | OK | ||||||||||
| Package 19/29 | Hostname | OS / Arch | INSTALL | BUILD | |||||||||
| recountWorkflow 1.23.0 (landing page) Leonardo Collado-Torres
| nebbiolo1 | Linux (Ubuntu 22.04.1 LTS) / x86_64 | OK | ERROR | |||||||||
| palomino3 | Windows Server 2022 Datacenter / x64 | OK | OK | ||||||||||
| merida1 | macOS 10.14.6 Mojave / x86_64 | OK | OK | ||||||||||
| Package 20/29 | Hostname | OS / Arch | INSTALL | BUILD | |||||||||
| RNAseq123 1.23.0 (landing page) Matthew Ritchie
| nebbiolo1 | Linux (Ubuntu 22.04.1 LTS) / x86_64 | OK | OK | |||||||||
| palomino3 | Windows Server 2022 Datacenter / x64 | OK | OK | ||||||||||
| merida1 | macOS 10.14.6 Mojave / x86_64 | OK | OK | ||||||||||
| Package 21/29 | Hostname | OS / Arch | INSTALL | BUILD | |||||||||
| rnaseqDTU 1.19.0 (landing page) Michael Love
| nebbiolo1 | Linux (Ubuntu 22.04.1 LTS) / x86_64 | OK | OK | |||||||||
| palomino3 | Windows Server 2022 Datacenter / x64 | OK | OK | ||||||||||
| merida1 | macOS 10.14.6 Mojave / x86_64 | OK | OK | ||||||||||
| Package 22/29 | Hostname | OS / Arch | INSTALL | BUILD | |||||||||
| rnaseqGene 1.23.0 (landing page) Michael Love
| nebbiolo1 | Linux (Ubuntu 22.04.1 LTS) / x86_64 | OK | OK | |||||||||
| palomino3 | Windows Server 2022 Datacenter / x64 | OK | OK | ||||||||||
| merida1 | macOS 10.14.6 Mojave / x86_64 | OK | OK | ||||||||||
| Package 23/29 | Hostname | OS / Arch | INSTALL | BUILD | |||||||||
| RnaSeqGeneEdgeRQL 1.23.0 (landing page) Yunshun Chen
| nebbiolo1 | Linux (Ubuntu 22.04.1 LTS) / x86_64 | OK | OK | |||||||||
| palomino3 | Windows Server 2022 Datacenter / x64 | OK | OK | ||||||||||
| merida1 | macOS 10.14.6 Mojave / x86_64 | OK | OK | ||||||||||
| Package 24/29 | Hostname | OS / Arch | INSTALL | BUILD | |||||||||
| seqpac 0.99.18 (landing page) Daniel Natt
| nebbiolo1 | Linux (Ubuntu 22.04.1 LTS) / x86_64 | OK | OK | |||||||||
| palomino3 | Windows Server 2022 Datacenter / x64 | OK | OK | ||||||||||
| merida1 | macOS 10.14.6 Mojave / x86_64 | OK | OK | ||||||||||
| Package 25/29 | Hostname | OS / Arch | INSTALL | BUILD | |||||||||
| sequencing 1.23.0 (landing page) Bioconductor Package Maintainer
| nebbiolo1 | Linux (Ubuntu 22.04.1 LTS) / x86_64 | OK | OK | |||||||||
| palomino3 | Windows Server 2022 Datacenter / x64 | OK | OK | ||||||||||
| merida1 | macOS 10.14.6 Mojave / x86_64 | OK | OK | ||||||||||
| Package 26/29 | Hostname | OS / Arch | INSTALL | BUILD | |||||||||
| simpleSingleCell 1.23.0 (landing page) Aaron Lun
| nebbiolo1 | Linux (Ubuntu 22.04.1 LTS) / x86_64 | OK | OK | |||||||||
| palomino3 | Windows Server 2022 Datacenter / x64 | ... NOT SUPPORTED ... | |||||||||||
| merida1 | macOS 10.14.6 Mojave / x86_64 | OK | OK | ||||||||||
| Package 27/29 | Hostname | OS / Arch | INSTALL | BUILD | |||||||||
| SingscoreAMLMutations 1.15.0 (landing page) Dharmesh D. Bhuva
| nebbiolo1 | Linux (Ubuntu 22.04.1 LTS) / x86_64 | OK | OK | |||||||||
| palomino3 | Windows Server 2022 Datacenter / x64 | OK | OK | ||||||||||
| merida1 | macOS 10.14.6 Mojave / x86_64 | OK | OK | ||||||||||
| Package 28/29 | Hostname | OS / Arch | INSTALL | BUILD | |||||||||
| TCGAWorkflow 1.23.2 (landing page) Tiago Chedraoui Silva
| nebbiolo1 | Linux (Ubuntu 22.04.1 LTS) / x86_64 | OK | OK | |||||||||
| palomino3 | Windows Server 2022 Datacenter / x64 | OK | OK | ||||||||||
| merida1 | macOS 10.14.6 Mojave / x86_64 | OK | OK | ||||||||||
| Package 29/29 | Hostname | OS / Arch | INSTALL | BUILD | |||||||||
| variants 1.23.0 (landing page) Bioconductor Package Maintainer
| nebbiolo1 | Linux (Ubuntu 22.04.1 LTS) / x86_64 | OK | OK | |||||||||
| palomino3 | Windows Server 2022 Datacenter / x64 | OK | OK | ||||||||||
| merida1 | macOS 10.14.6 Mojave / x86_64 | OK | OK | ||||||||||