| Back to Workflows build report for BioC 3.17 |
This page was generated on 2023-10-13 14:00:09 -0400 (Fri, 13 Oct 2023).
| Hostname | OS | Arch (*) | R version | Installed pkgs |
|---|---|---|---|---|
| nebbiolo1 | Linux (Ubuntu 22.04.2 LTS) | x86_64 | 4.3.1 (2023-06-16) -- "Beagle Scouts" | 4626 |
| palomino3 | Windows Server 2022 Datacenter | x64 | 4.3.1 (2023-06-16 ucrt) -- "Beagle Scouts" | 4379 |
| merida1 | macOS 12.6.4 Monterey | x86_64 | 4.3.1 (2023-06-16) -- "Beagle Scouts" | 4395 |
| Click on any hostname to see more info about the system (e.g. compilers) (*) as reported by 'uname -p', except on Windows and Mac OS X | ||||
| Package 12/30 | Hostname | OS / Arch | INSTALL | BUILD | ||||||||
| fluentGenomics 1.12.0 (landing page) Stuart Lee
| nebbiolo1 | Linux (Ubuntu 22.04.2 LTS) / x86_64 | OK | OK | ||||||||
| palomino3 | Windows Server 2022 Datacenter / x64 | OK | OK | |||||||||
| merida1 | macOS 12.6.4 Monterey / x86_64 | OK | ERROR | |||||||||
|
To the developers/maintainers of the fluentGenomics package: - Use the following Renviron settings to reproduce errors and warnings. - If 'R CMD check' started to fail recently on the Linux builder(s) over a missing dependency, add the missing dependency to 'Suggests:' in your DESCRIPTION file. See Renviron.bioc for more information. |
| Package: fluentGenomics |
| Version: 1.12.0 |
| Command: F:\biocbuild\bbs-3.17-bioc\R\bin\R.exe CMD INSTALL fluentGenomics |
| StartedAt: 2023-10-13 11:01:43 -0400 (Fri, 13 Oct 2023) |
| EndedAt: 2023-10-13 11:02:20 -0400 (Fri, 13 Oct 2023) |
| EllapsedTime: 37.1 seconds |
| RetCode: 0 |
| Status: OK |
############################################################################## ############################################################################## ### ### Running command: ### ### F:\biocbuild\bbs-3.17-bioc\R\bin\R.exe CMD INSTALL fluentGenomics ### ############################################################################## ############################################################################## * installing to library 'F:/biocbuild/bbs-3.17-bioc/R/library' * installing *source* package 'fluentGenomics' ... ** using staged installation ** R ** data *** moving datasets to lazyload DB ** byte-compile and prepare package for lazy loading ** help *** installing help indices ** building package indices ** installing vignettes ** testing if installed package can be loaded from temporary location ** testing if installed package can be loaded from final location ** testing if installed package keeps a record of temporary installation path * DONE (fluentGenomics)