| Back to Workflows build report for BioC 3.17 |
This page was generated on 2023-10-13 14:00:09 -0400 (Fri, 13 Oct 2023).
| Hostname | OS | Arch (*) | R version | Installed pkgs |
|---|---|---|---|---|
| nebbiolo1 | Linux (Ubuntu 22.04.2 LTS) | x86_64 | 4.3.1 (2023-06-16) -- "Beagle Scouts" | 4626 |
| palomino3 | Windows Server 2022 Datacenter | x64 | 4.3.1 (2023-06-16 ucrt) -- "Beagle Scouts" | 4379 |
| merida1 | macOS 12.6.4 Monterey | x86_64 | 4.3.1 (2023-06-16) -- "Beagle Scouts" | 4395 |
| Click on any hostname to see more info about the system (e.g. compilers) (*) as reported by 'uname -p', except on Windows and Mac OS X | ||||
| Package 24/30 | Hostname | OS / Arch | INSTALL | BUILD | ||||||||
| seqpac 1.0.0 (landing page) Daniel Natt
| nebbiolo1 | Linux (Ubuntu 22.04.2 LTS) / x86_64 | OK | OK | ||||||||
| palomino3 | Windows Server 2022 Datacenter / x64 | OK | OK | |||||||||
| merida1 | macOS 12.6.4 Monterey / x86_64 | OK | OK | |||||||||
|
To the developers/maintainers of the seqpac package: - Use the following Renviron settings to reproduce errors and warnings. - If 'R CMD check' started to fail recently on the Linux builder(s) over a missing dependency, add the missing dependency to 'Suggests:' in your DESCRIPTION file. See Renviron.bioc for more information. |
| Package: seqpac |
| Version: 1.0.0 |
| Command: /Library/Frameworks/R.framework/Resources/bin/R CMD INSTALL seqpac |
| StartedAt: 2023-10-13 11:00:20 -0400 (Fri, 13 Oct 2023) |
| EndedAt: 2023-10-13 11:00:37 -0400 (Fri, 13 Oct 2023) |
| EllapsedTime: 17.8 seconds |
| RetCode: 0 |
| Status: OK |
############################################################################## ############################################################################## ### ### Running command: ### ### /Library/Frameworks/R.framework/Resources/bin/R CMD INSTALL seqpac ### ############################################################################## ############################################################################## * installing to library ‘/Library/Frameworks/R.framework/Versions/4.3-x86_64/Resources/library’ * installing *source* package ‘seqpac’ ... ** using staged installation ** R ** inst ** byte-compile and prepare package for lazy loading Creating a new generic function for ‘norm’ in package ‘seqpac’ Creating a new generic function for ‘summary’ in package ‘seqpac’ Creating a generic function for ‘rownames’ from package ‘base’ in package ‘seqpac’ Creating a generic function for ‘colnames’ from package ‘base’ in package ‘seqpac’ Creating a generic function for ‘ncol’ from package ‘base’ in package ‘seqpac’ Creating a generic function for ‘nrow’ from package ‘base’ in package ‘seqpac’ ** help *** installing help indices ** building package indices ** installing vignettes ** testing if installed package can be loaded from temporary location ** testing if installed package can be loaded from final location ** testing if installed package keeps a record of temporary installation path * DONE (seqpac)