| Back to Multiple platform build/check report for BioC 3.17 |
|
This page was generated on 2023-03-16 10:55:35 -0400 (Thu, 16 Mar 2023).
| Hostname | OS | Arch (*) | R version | Installed pkgs |
|---|---|---|---|---|
| nebbiolo1 | Linux (Ubuntu 22.04.1 LTS) | x86_64 | R Under development (unstable) (2023-01-10 r83596) -- "Unsuffered Consequences" | 4540 |
| nebbiolo2 | Linux (Ubuntu 20.04.5 LTS) | x86_64 | R Under development (unstable) (2023-02-14 r83833) -- "Unsuffered Consequences" | 4290 |
| Click on any hostname to see more info about the system (e.g. compilers) (*) as reported by 'uname -p', except on Windows and Mac OS X | ||||
|
To the developers/maintainers of the omada package: - Please allow up to 24 hours (and sometimes 48 hours) for your latest push to git@git.bioconductor.org:packages/omada.git to reflect on this report. See How and When does the builder pull? When will my changes propagate? for more information. - Make sure to use the following settings in order to reproduce any error or warning you see on this page. |
| Package 1391/2189 | Hostname | OS / Arch | INSTALL | BUILD | CHECK | BUILD BIN | ||||||||
| omada 1.1.0 (landing page) Sokratis Kariotis
| nebbiolo1 | Linux (Ubuntu 22.04.1 LTS) / x86_64 | OK | OK | OK | |||||||||
| nebbiolo2 | Linux (Ubuntu 20.04.5 LTS) / x86_64 | OK | OK | OK | ||||||||||
| Package: omada |
| Version: 1.1.0 |
| Command: /home/biocbuild/bbs-3.17-bioc/R/bin/R CMD check --install=check:omada.install-out.txt --library=/home/biocbuild/bbs-3.17-bioc/R/library --timings omada_1.1.0.tar.gz |
| StartedAt: 2023-03-15 22:05:58 -0400 (Wed, 15 Mar 2023) |
| EndedAt: 2023-03-15 22:24:45 -0400 (Wed, 15 Mar 2023) |
| EllapsedTime: 1127.1 seconds |
| RetCode: 0 |
| Status: OK |
| CheckDir: omada.Rcheck |
| Warnings: 0 |
##############################################################################
##############################################################################
###
### Running command:
###
### /home/biocbuild/bbs-3.17-bioc/R/bin/R CMD check --install=check:omada.install-out.txt --library=/home/biocbuild/bbs-3.17-bioc/R/library --timings omada_1.1.0.tar.gz
###
##############################################################################
##############################################################################
* using log directory ‘/home/biocbuild/bbs-3.17-bioc/meat/omada.Rcheck’
* using R Under development (unstable) (2023-01-10 r83596)
* using platform: x86_64-pc-linux-gnu (64-bit)
* R was compiled by
gcc (Ubuntu 11.3.0-1ubuntu1~22.04) 11.3.0
GNU Fortran (Ubuntu 11.3.0-1ubuntu1~22.04) 11.3.0
* running under: Ubuntu 22.04.2 LTS
* using session charset: UTF-8
* checking for file ‘omada/DESCRIPTION’ ... OK
* checking extension type ... Package
* this is package ‘omada’ version ‘1.1.0’
* package encoding: UTF-8
* checking package namespace information ... OK
* checking package dependencies ... NOTE
Depends: includes the non-default packages:
'pdfCluster', 'kernlab', 'fpc', 'Rcpp', 'diceR', 'ggplot2',
'reshape', 'clusterCrit', 'clValid', 'glmnet', 'dplyr'
Adding so many packages to the search path is excessive and importing
selectively is preferable.
* checking if this is a source package ... OK
* checking if there is a namespace ... OK
* checking for hidden files and directories ... OK
* checking for portable file names ... OK
* checking for sufficient/correct file permissions ... OK
* checking whether package ‘omada’ can be installed ... OK
* checking installed package size ... OK
* checking package directory ... OK
* checking ‘build’ directory ... OK
* checking DESCRIPTION meta-information ... OK
* checking top-level files ... NOTE
File
LICENSE
is not mentioned in the DESCRIPTION file.
* checking for left-over files ... OK
* checking index information ... OK
* checking package subdirectories ... OK
* checking R files for non-ASCII characters ... OK
* checking R files for syntax errors ... OK
* checking whether the package can be loaded ... OK
* checking whether the package can be loaded with stated dependencies ... OK
* checking whether the package can be unloaded cleanly ... OK
* checking whether the namespace can be loaded with stated dependencies ... OK
* checking whether the namespace can be unloaded cleanly ... OK
* checking dependencies in R code ... NOTE
Packages in Depends field not imported from:
‘Rcpp’ ‘clusterCrit’ ‘glmnet’ ‘kernlab’ ‘reshape’
These packages need to be imported from (in the NAMESPACE file)
for when this namespace is loaded but not attached.
* checking S3 generic/method consistency ... OK
* checking replacement functions ... OK
* checking foreign function calls ... OK
* checking R code for possible problems ... NOTE
clusterVoting: no visible binding for global variable ‘k’
clusterVoting: no visible binding for global variable ‘Frequency’
clusteringMethodSelection: no visible binding for global variable
‘value’
clusteringMethodSelection: no visible binding for global variable
‘methods’
featureSelection: no visible binding for global variable ‘featureSet’
featureSelection: no visible binding for global variable ‘means’
geneSignatures: no visible global function definition for ‘where’
geneSignatures: no visible binding for global variable ‘features’
geneSignatures: no visible binding for global variable ‘value’
geneSignatures: no visible binding for global variable ‘variable’
Undefined global functions or variables:
Frequency featureSet features k means methods value variable where
Consider adding
importFrom("utils", "methods")
to your NAMESPACE file.
* checking Rd files ... OK
* checking Rd metadata ... OK
* checking Rd cross-references ... OK
* checking for missing documentation entries ... OK
* checking for code/documentation mismatches ... OK
* checking Rd \usage sections ... OK
* checking Rd contents ... OK
* checking for unstated dependencies in examples ... OK
* checking contents of ‘data’ directory ... OK
* checking data for non-ASCII characters ... OK
* checking LazyData ... OK
* checking data for ASCII and uncompressed saves ... OK
* checking files in ‘vignettes’ ... OK
* checking examples ... OK
Examples with CPU (user + system) or elapsed time > 5s
user system elapsed
plot_feature_selection 51.942 0.176 76.969
plot_signature_feature 50.066 0.839 64.510
plot_partition_agreement 46.281 0.136 47.294
get_sample_memberships 45.028 0.136 48.385
get_feature_selection_optimal_number_of_features 43.552 0.100 43.652
get_feature_selection_scores 41.640 0.092 41.733
get_signature_feature_coefs 38.770 0.092 39.178
get_partition_agreement_scores 38.590 0.064 41.353
omada 34.569 0.060 34.798
plot_cluster_voting 30.174 0.084 34.784
get_cluster_voting_k_votes 29.295 0.264 29.559
get_cluster_voting_metric_votes 29.156 0.080 29.237
get_cluster_voting_memberships 28.015 0.195 28.210
get_feature_selection_optimal_features 27.478 0.048 27.527
get_cluster_voting_scores 26.951 0.089 27.042
plot_average_stabilities 10.255 0.048 10.531
get_optimal_number_of_features 10.244 0.008 10.254
get_optimal_memberships 10.017 0.003 10.019
get_optimal_features 9.297 0.020 9.317
get_optimal_parameter_used 9.090 0.060 9.150
get_optimal_stability_score 7.994 0.004 7.999
featureSelection 7.203 0.128 7.331
get_average_feature_k_stabilities 4.916 0.084 5.001
* checking for unstated dependencies in ‘tests’ ... OK
* checking tests ...
Running ‘testthat.R’
OK
* checking for unstated dependencies in vignettes ... OK
* checking package vignettes in ‘inst/doc’ ... OK
* checking running R code from vignettes ...
‘omada-vignette.Rmd’ using ‘UTF-8’... OK
NONE
* checking re-building of vignette outputs ... OK
* checking PDF version of manual ... OK
* DONE
Status: 4 NOTEs
See
‘/home/biocbuild/bbs-3.17-bioc/meat/omada.Rcheck/00check.log’
for details.
omada.Rcheck/00install.out
############################################################################## ############################################################################## ### ### Running command: ### ### /home/biocbuild/bbs-3.17-bioc/R/bin/R CMD INSTALL omada ### ############################################################################## ############################################################################## * installing to library ‘/home/biocbuild/bbs-3.17-bioc/R/library’ * installing *source* package ‘omada’ ... ** using staged installation ** R ** data *** moving datasets to lazyload DB ** inst ** byte-compile and prepare package for lazy loading ** help *** installing help indices ** building package indices ** installing vignettes ** testing if installed package can be loaded from temporary location ** testing if installed package can be loaded from final location ** testing if installed package keeps a record of temporary installation path * DONE (omada)
omada.Rcheck/tests/testthat.Rout
R Under development (unstable) (2023-01-10 r83596) -- "Unsuffered Consequences"
Copyright (C) 2023 The R Foundation for Statistical Computing
Platform: x86_64-pc-linux-gnu (64-bit)
R is free software and comes with ABSOLUTELY NO WARRANTY.
You are welcome to redistribute it under certain conditions.
Type 'license()' or 'licence()' for distribution details.
R is a collaborative project with many contributors.
Type 'contributors()' for more information and
'citation()' on how to cite R or R packages in publications.
Type 'demo()' for some demos, 'help()' for on-line help, or
'help.start()' for an HTML browser interface to help.
Type 'q()' to quit R.
> library(testthat)
> library(omada)
Loading required package: pdfCluster
pdfCluster 1.0-4
Loading required package: kernlab
Loading required package: fpc
Loading required package: Rcpp
Loading required package: diceR
Loading required package: ggplot2
Attaching package: 'ggplot2'
The following object is masked from 'package:kernlab':
alpha
Loading required package: reshape
Loading required package: clusterCrit
Loading required package: clValid
Loading required package: cluster
Loading required package: glmnet
Loading required package: Matrix
Attaching package: 'Matrix'
The following object is masked from 'package:reshape':
expand
Loaded glmnet 4.1-6
Loading required package: dplyr
Attaching package: 'dplyr'
The following object is masked from 'package:reshape':
rename
The following object is masked from 'package:pdfCluster':
groups
The following object is masked from 'package:testthat':
matches
The following objects are masked from 'package:stats':
filter, lag
The following objects are masked from 'package:base':
intersect, setdiff, setequal, union
>
> test_check("omada")
[ FAIL 0 | WARN 1 | SKIP 0 | PASS 39 ]
[ FAIL 0 | WARN 1 | SKIP 0 | PASS 39 ]
>
> proc.time()
user system elapsed
105.818 3.009 129.686
omada.Rcheck/omada-Ex.timings
| name | user | system | elapsed | |
| clusterVoting | 1.513 | 0.040 | 1.553 | |
| clusteringMethodSelection | 1.153 | 0.028 | 1.180 | |
| feasibilityAnalysis | 1.168 | 0.072 | 1.240 | |
| feasibilityAnalysisDataBased | 2.581 | 0.068 | 2.648 | |
| featureSelection | 7.203 | 0.128 | 7.331 | |
| geneSignatures | 0.837 | 0.004 | 0.841 | |
| get_agreement_scores | 0.154 | 0.000 | 0.154 | |
| get_average_feature_k_stabilities | 4.916 | 0.084 | 5.001 | |
| get_average_stabilities_per_k | 0.810 | 0.012 | 0.822 | |
| get_average_stability | 0.809 | 0.004 | 0.813 | |
| get_cluster_memberships_k | 0.268 | 0.008 | 0.276 | |
| get_cluster_voting_k_votes | 29.295 | 0.264 | 29.559 | |
| get_cluster_voting_memberships | 28.015 | 0.195 | 28.210 | |
| get_cluster_voting_metric_votes | 29.156 | 0.080 | 29.237 | |
| get_cluster_voting_scores | 26.951 | 0.089 | 27.042 | |
| get_coefficient_dataset | 0.403 | 0.002 | 0.406 | |
| get_feature_selection_optimal_features | 27.478 | 0.048 | 27.527 | |
| get_feature_selection_optimal_number_of_features | 43.552 | 0.100 | 43.652 | |
| get_feature_selection_scores | 41.640 | 0.092 | 41.733 | |
| get_generated_dataset | 3.391 | 0.000 | 3.391 | |
| get_internal_metric_scores | 0.280 | 0.001 | 0.281 | |
| get_max_stability | 0.834 | 0.006 | 0.841 | |
| get_metric_votes_k | 0.268 | 0.000 | 0.269 | |
| get_optimal_features | 9.297 | 0.020 | 9.317 | |
| get_optimal_memberships | 10.017 | 0.003 | 10.019 | |
| get_optimal_number_of_features | 10.244 | 0.008 | 10.254 | |
| get_optimal_parameter_used | 9.09 | 0.06 | 9.15 | |
| get_optimal_stability_score | 7.994 | 0.004 | 7.999 | |
| get_partition_agreement_scores | 38.590 | 0.064 | 41.353 | |
| get_sample_memberships | 45.028 | 0.136 | 48.385 | |
| get_signature_feature_coefs | 38.770 | 0.092 | 39.178 | |
| get_vote_frequencies_k | 0.514 | 0.000 | 0.514 | |
| omada | 34.569 | 0.060 | 34.798 | |
| optimalClustering | 0.084 | 0.000 | 0.084 | |
| partitionAgreement | 0.331 | 0.012 | 0.343 | |
| plot_average_stabilities | 10.255 | 0.048 | 10.531 | |
| plot_cluster_voting | 30.174 | 0.084 | 34.784 | |
| plot_feature_selection | 51.942 | 0.176 | 76.969 | |
| plot_partition_agreement | 46.281 | 0.136 | 47.294 | |
| plot_signature_feature | 50.066 | 0.839 | 64.510 | |
| plot_top30percent_coefficients | 1.204 | 0.000 | 1.204 | |
| plot_vote_frequencies | 0.739 | 0.024 | 0.763 | |
| toy_gene_memberships | 0.025 | 0.000 | 0.031 | |
| toy_genes | 0.001 | 0.000 | 0.002 | |