| Back to Multiple platform build/check report for BioC 3.17 | 
 | 
This page was generated on 2023-04-12 10:55:39 -0400 (Wed, 12 Apr 2023).
| Hostname | OS | Arch (*) | R version | Installed pkgs | 
|---|---|---|---|---|
| nebbiolo1 | Linux (Ubuntu 22.04.1 LTS) | x86_64 | 4.3.0 alpha (2023-04-03 r84154) | 4547 | 
| nebbiolo2 | Linux (Ubuntu 20.04.5 LTS) | x86_64 | R Under development (unstable) (2023-02-14 r83833) -- "Unsuffered Consequences" | 4333 | 
| Click on any hostname to see more info about the system (e.g. compilers) (*) as reported by 'uname -p', except on Windows and Mac OS X | ||||
| To the developers/maintainers of the omada package: - Allow up to 24 hours (and sometimes 48 hours) for your latest push to git@git.bioconductor.org:packages/omada.git to reflect on this report. See Troubleshooting Build Report for more information. - Use the following Renviron settings to reproduce errors and warnings. Note: If "R CMD check" recently failed on the Linux builder over a missing dependency, add the missing dependency to "Suggests" in your DESCRIPTION file. See the Renviron.bioc for details. | 
| Package 1402/2207 | Hostname | OS / Arch | INSTALL | BUILD | CHECK | BUILD BIN | ||||||||
| omada 1.1.0  (landing page) Sokratis Kariotis 
 | nebbiolo1 | Linux (Ubuntu 22.04.1 LTS) / x86_64 | ERROR | ERROR | skipped | |||||||||
| nebbiolo2 | Linux (Ubuntu 20.04.5 LTS) / x86_64 | OK | OK | OK | ||||||||||
| Package: omada | 
| Version: 1.1.0 | 
| Command: /home/biocbuild/bbs-3.17-bioc/R/bin/R CMD check --install=check:omada.install-out.txt --library=/home/biocbuild/bbs-3.17-bioc/R/site-library --timings omada_1.1.0.tar.gz | 
| StartedAt: 2023-04-12 07:58:42 -0400 (Wed, 12 Apr 2023) | 
| EndedAt: 2023-04-12 08:19:21 -0400 (Wed, 12 Apr 2023) | 
| EllapsedTime: 1238.8 seconds | 
| RetCode: 0 | 
| Status: OK | 
| CheckDir: omada.Rcheck | 
| Warnings: 0 | 
##############################################################################
##############################################################################
###
### Running command:
###
###   /home/biocbuild/bbs-3.17-bioc/R/bin/R CMD check --install=check:omada.install-out.txt --library=/home/biocbuild/bbs-3.17-bioc/R/site-library --timings omada_1.1.0.tar.gz
###
##############################################################################
##############################################################################
* using log directory ‘/home/biocbuild/bbs-3.17-bioc/meat/omada.Rcheck’
* using R Under development (unstable) (2023-02-14 r83833)
* using platform: x86_64-pc-linux-gnu (64-bit)
* R was compiled by
    gcc (Ubuntu 9.4.0-1ubuntu1~20.04.1) 9.4.0
    GNU Fortran (Ubuntu 9.4.0-1ubuntu1~20.04.1) 9.4.0
* running under: Ubuntu 20.04.6 LTS
* using session charset: UTF-8
* checking for file ‘omada/DESCRIPTION’ ... OK
* checking extension type ... Package
* this is package ‘omada’ version ‘1.1.0’
* package encoding: UTF-8
* checking package namespace information ... OK
* checking package dependencies ... NOTE
Depends: includes the non-default packages:
  'pdfCluster', 'kernlab', 'fpc', 'Rcpp', 'diceR', 'ggplot2',
  'reshape', 'clusterCrit', 'clValid', 'glmnet', 'dplyr'
Adding so many packages to the search path is excessive and importing
selectively is preferable.
* checking if this is a source package ... OK
* checking if there is a namespace ... OK
* checking for hidden files and directories ... OK
* checking for portable file names ... OK
* checking for sufficient/correct file permissions ... OK
* checking whether package ‘omada’ can be installed ... OK
* checking installed package size ... OK
* checking package directory ... OK
* checking ‘build’ directory ... OK
* checking DESCRIPTION meta-information ... OK
* checking top-level files ... NOTE
File
  LICENSE
is not mentioned in the DESCRIPTION file.
* checking for left-over files ... OK
* checking index information ... OK
* checking package subdirectories ... OK
* checking R files for non-ASCII characters ... OK
* checking R files for syntax errors ... OK
* checking whether the package can be loaded ... OK
* checking whether the package can be loaded with stated dependencies ... OK
* checking whether the package can be unloaded cleanly ... OK
* checking whether the namespace can be loaded with stated dependencies ... OK
* checking whether the namespace can be unloaded cleanly ... OK
* checking loading without being on the library search path ... OK
* checking dependencies in R code ... NOTE
Packages in Depends field not imported from:
  ‘Rcpp’ ‘clusterCrit’ ‘glmnet’ ‘kernlab’ ‘reshape’
  These packages need to be imported from (in the NAMESPACE file)
  for when this namespace is loaded but not attached.
* checking S3 generic/method consistency ... OK
* checking replacement functions ... OK
* checking foreign function calls ... OK
* checking R code for possible problems ... NOTE
clusterVoting: no visible binding for global variable ‘k’
clusterVoting: no visible binding for global variable ‘Frequency’
clusteringMethodSelection: no visible binding for global variable
  ‘value’
clusteringMethodSelection: no visible binding for global variable
  ‘methods’
featureSelection: no visible binding for global variable ‘featureSet’
featureSelection: no visible binding for global variable ‘means’
geneSignatures: no visible global function definition for ‘where’
geneSignatures: no visible binding for global variable ‘features’
geneSignatures: no visible binding for global variable ‘value’
geneSignatures: no visible binding for global variable ‘variable’
Undefined global functions or variables:
  Frequency featureSet features k means methods value variable where
Consider adding
  importFrom("utils", "methods")
to your NAMESPACE file.
* checking Rd files ... OK
* checking Rd metadata ... OK
* checking Rd cross-references ... OK
* checking for missing documentation entries ... OK
* checking for code/documentation mismatches ... OK
* checking Rd \usage sections ... OK
* checking Rd contents ... OK
* checking for unstated dependencies in examples ... OK
* checking contents of ‘data’ directory ... OK
* checking data for non-ASCII characters ... OK
* checking LazyData ... OK
* checking data for ASCII and uncompressed saves ... OK
* checking files in ‘vignettes’ ... OK
* checking examples ... OK
Examples with CPU (user + system) or elapsed time > 5s
                                                   user system elapsed
plot_feature_selection                           39.913  2.819 112.997
get_feature_selection_scores                     41.162  0.028  41.190
get_feature_selection_optimal_number_of_features 40.415  0.104  40.519
plot_partition_agreement                         30.765  9.320  62.667
plot_signature_feature                           24.269 14.491  83.370
plot_cluster_voting                              36.756  0.108  69.264
get_signature_feature_coefs                      32.239  0.088  32.398
get_partition_agreement_scores                   32.059  0.120  32.180
get_cluster_voting_k_votes                       30.684  0.088  30.772
get_sample_memberships                           29.531  0.040  29.939
get_cluster_voting_memberships                   28.736  0.024  28.761
get_cluster_voting_metric_votes                  27.623  0.080  27.703
get_cluster_voting_scores                        27.435  0.036  27.471
get_feature_selection_optimal_features           26.134  0.032  26.167
omada                                            24.225  0.052  24.285
plot_average_stabilities                         15.804  0.008  19.109
get_optimal_number_of_features                   10.532  0.000  10.532
get_optimal_features                              9.452  0.060   9.513
get_optimal_parameter_used                        8.051  0.044   8.096
get_optimal_stability_score                       8.081  0.004   8.085
get_optimal_memberships                           7.583  0.000   7.583
featureSelection                                  7.324  0.123   7.448
get_average_feature_k_stabilities                 5.855  0.064   5.920
* checking for unstated dependencies in ‘tests’ ... OK
* checking tests ...
  Running ‘testthat.R’
 OK
* checking for unstated dependencies in vignettes ... OK
* checking package vignettes in ‘inst/doc’ ... OK
* checking running R code from vignettes ...
  ‘omada-vignette.Rmd’ using ‘UTF-8’... OK
 NONE
* checking re-building of vignette outputs ... OK
* checking PDF version of manual ... OK
* DONE
Status: 4 NOTEs
See
  ‘/home/biocbuild/bbs-3.17-bioc/meat/omada.Rcheck/00check.log’
for details.
omada.Rcheck/00install.out
############################################################################## ############################################################################## ### ### Running command: ### ### /home/biocbuild/bbs-3.17-bioc/R/bin/R CMD INSTALL omada ### ############################################################################## ############################################################################## * installing to library ‘/home/biocbuild/bbs-3.17-bioc/R/site-library’ * installing *source* package ‘omada’ ... ** using staged installation ** R ** data *** moving datasets to lazyload DB ** inst ** byte-compile and prepare package for lazy loading ** help *** installing help indices ** building package indices ** installing vignettes ** testing if installed package can be loaded from temporary location ** testing if installed package can be loaded from final location ** testing if installed package keeps a record of temporary installation path * DONE (omada)
omada.Rcheck/tests/testthat.Rout
R Under development (unstable) (2023-02-14 r83833) -- "Unsuffered Consequences"
Copyright (C) 2023 The R Foundation for Statistical Computing
Platform: x86_64-pc-linux-gnu (64-bit)
R is free software and comes with ABSOLUTELY NO WARRANTY.
You are welcome to redistribute it under certain conditions.
Type 'license()' or 'licence()' for distribution details.
R is a collaborative project with many contributors.
Type 'contributors()' for more information and
'citation()' on how to cite R or R packages in publications.
Type 'demo()' for some demos, 'help()' for on-line help, or
'help.start()' for an HTML browser interface to help.
Type 'q()' to quit R.
> library(testthat)
> library(omada)
Loading required package: pdfCluster
pdfCluster 1.0-4
Loading required package: kernlab
Loading required package: fpc
Loading required package: Rcpp
Loading required package: diceR
Loading required package: ggplot2
Attaching package: 'ggplot2'
The following object is masked from 'package:kernlab':
    alpha
Loading required package: reshape
Loading required package: clusterCrit
Loading required package: clValid
Loading required package: cluster
Loading required package: glmnet
Loading required package: Matrix
Attaching package: 'Matrix'
The following object is masked from 'package:reshape':
    expand
Loaded glmnet 4.1-7
Loading required package: dplyr
Attaching package: 'dplyr'
The following object is masked from 'package:reshape':
    rename
The following object is masked from 'package:pdfCluster':
    groups
The following object is masked from 'package:testthat':
    matches
The following objects are masked from 'package:stats':
    filter, lag
The following objects are masked from 'package:base':
    intersect, setdiff, setequal, union
> 
> test_check("omada")
[ FAIL 0 | WARN 1 | SKIP 0 | PASS 39 ]
[ FAIL 0 | WARN 1 | SKIP 0 | PASS 39 ]
> 
> proc.time()
   user  system elapsed 
 87.780   1.944 125.913 
omada.Rcheck/omada-Ex.timings
| name | user | system | elapsed | |
| clusterVoting | 1.666 | 0.012 | 1.678 | |
| clusteringMethodSelection | 1.330 | 0.048 | 1.378 | |
| feasibilityAnalysis | 1.349 | 0.084 | 1.433 | |
| feasibilityAnalysisDataBased | 3.05 | 0.16 | 3.21 | |
| featureSelection | 7.324 | 0.123 | 7.448 | |
| geneSignatures | 0.845 | 0.056 | 0.900 | |
| get_agreement_scores | 0.157 | 0.000 | 0.158 | |
| get_average_feature_k_stabilities | 5.855 | 0.064 | 5.920 | |
| get_average_stabilities_per_k | 1.049 | 0.000 | 1.050 | |
| get_average_stability | 0.954 | 0.000 | 0.955 | |
| get_cluster_memberships_k | 0.273 | 0.012 | 0.285 | |
| get_cluster_voting_k_votes | 30.684 | 0.088 | 30.772 | |
| get_cluster_voting_memberships | 28.736 | 0.024 | 28.761 | |
| get_cluster_voting_metric_votes | 27.623 | 0.080 | 27.703 | |
| get_cluster_voting_scores | 27.435 | 0.036 | 27.471 | |
| get_coefficient_dataset | 0.374 | 0.000 | 0.375 | |
| get_feature_selection_optimal_features | 26.134 | 0.032 | 26.167 | |
| get_feature_selection_optimal_number_of_features | 40.415 | 0.104 | 40.519 | |
| get_feature_selection_scores | 41.162 | 0.028 | 41.190 | |
| get_generated_dataset | 2.786 | 0.008 | 2.794 | |
| get_internal_metric_scores | 0.254 | 0.016 | 0.270 | |
| get_max_stability | 0.845 | 0.004 | 0.849 | |
| get_metric_votes_k | 0.61 | 0.00 | 0.61 | |
| get_optimal_features | 9.452 | 0.060 | 9.513 | |
| get_optimal_memberships | 7.583 | 0.000 | 7.583 | |
| get_optimal_number_of_features | 10.532 | 0.000 | 10.532 | |
| get_optimal_parameter_used | 8.051 | 0.044 | 8.096 | |
| get_optimal_stability_score | 8.081 | 0.004 | 8.085 | |
| get_partition_agreement_scores | 32.059 | 0.120 | 32.180 | |
| get_sample_memberships | 29.531 | 0.040 | 29.939 | |
| get_signature_feature_coefs | 32.239 | 0.088 | 32.398 | |
| get_vote_frequencies_k | 0.578 | 0.000 | 0.578 | |
| omada | 24.225 | 0.052 | 24.285 | |
| optimalClustering | 0.130 | 0.004 | 0.133 | |
| partitionAgreement | 0.563 | 0.020 | 0.583 | |
| plot_average_stabilities | 15.804 | 0.008 | 19.109 | |
| plot_cluster_voting | 36.756 | 0.108 | 69.264 | |
| plot_feature_selection | 39.913 | 2.819 | 112.997 | |
| plot_partition_agreement | 30.765 | 9.320 | 62.667 | |
| plot_signature_feature | 24.269 | 14.491 | 83.370 | |
| plot_top30percent_coefficients | 0.503 | 0.024 | 0.528 | |
| plot_vote_frequencies | 0.367 | 0.007 | 0.436 | |
| toy_gene_memberships | 0.020 | 0.004 | 0.149 | |
| toy_genes | 0.001 | 0.000 | 0.001 | |