| Back to Multiple platform build/check report for BioC 3.17 |
|
This page was generated on 2023-04-12 10:55:17 -0400 (Wed, 12 Apr 2023).
| Hostname | OS | Arch (*) | R version | Installed pkgs |
|---|---|---|---|---|
| nebbiolo1 | Linux (Ubuntu 22.04.1 LTS) | x86_64 | 4.3.0 alpha (2023-04-03 r84154) | 4547 |
| nebbiolo2 | Linux (Ubuntu 20.04.5 LTS) | x86_64 | R Under development (unstable) (2023-02-14 r83833) -- "Unsuffered Consequences" | 4333 |
| Click on any hostname to see more info about the system (e.g. compilers) (*) as reported by 'uname -p', except on Windows and Mac OS X | ||||
|
To the developers/maintainers of the BiocStyle package: - Allow up to 24 hours (and sometimes 48 hours) for your latest push to git@git.bioconductor.org:packages/BiocStyle.git to reflect on this report. See Troubleshooting Build Report for more information. - Use the following Renviron settings to reproduce errors and warnings. Note: If "R CMD check" recently failed on the Linux builder over a missing dependency, add the missing dependency to "Suggests" in your DESCRIPTION file. See the Renviron.bioc for details. |
| Package 188/2207 | Hostname | OS / Arch | INSTALL | BUILD | CHECK | BUILD BIN | ||||||||
| BiocStyle 2.27.1 (landing page) Bioconductor Package
| nebbiolo1 | Linux (Ubuntu 22.04.1 LTS) / x86_64 | OK | OK | OK | |||||||||
| nebbiolo2 | Linux (Ubuntu 20.04.5 LTS) / x86_64 | OK | OK | OK | ||||||||||
| QUICK STATS | OS / Arch | INSTALL | BUILD | CHECK | BUILD BIN | ||||||||||||||
| nebbiolo1 | Linux (Ubuntu 22.04.1 LTS) / x86_64 |
|
|
| |||||||||||||||
| nebbiolo2 | Linux (Ubuntu 20.04.5 LTS) / x86_64 |
|
|
| |||||||||||||||
| Package 1/30 | Hostname | OS / Arch | INSTALL | BUILD | CHECK | BUILD BIN | |||||||||||||
| abseqR 1.17.0 (landing page) JiaHong Fong
| nebbiolo1 | Linux (Ubuntu 22.04.1 LTS) / x86_64 | OK | OK | OK | ||||||||||||||
| nebbiolo2 | Linux (Ubuntu 20.04.5 LTS) / x86_64 | OK | OK | OK | |||||||||||||||
| Package 2/30 | Hostname | OS / Arch | INSTALL | BUILD | CHECK | BUILD BIN | |||||||||||||
| ASpli 2.9.0 (landing page) Estefania Mancini
| nebbiolo1 | Linux (Ubuntu 22.04.1 LTS) / x86_64 | OK | OK | ERROR | ||||||||||||||
| nebbiolo2 | Linux (Ubuntu 20.04.5 LTS) / x86_64 | OK | OK | ERROR | |||||||||||||||
| Package 3/30 | Hostname | OS / Arch | INSTALL | BUILD | CHECK | BUILD BIN | |||||||||||||
| bandle 1.3.0 (landing page) Oliver M. Crook
| nebbiolo1 | Linux (Ubuntu 22.04.1 LTS) / x86_64 | OK | OK | OK | ||||||||||||||
| nebbiolo2 | Linux (Ubuntu 20.04.5 LTS) / x86_64 | OK | OK | OK | |||||||||||||||
| Package 4/30 | Hostname | OS / Arch | INSTALL | BUILD | CHECK | BUILD BIN | |||||||||||||
| BiocWorkflowTools 1.25.0 (landing page) Mike Smith
| nebbiolo1 | Linux (Ubuntu 22.04.1 LTS) / x86_64 | OK | OK | OK | ||||||||||||||
| nebbiolo2 | Linux (Ubuntu 20.04.5 LTS) / x86_64 | OK | OK | OK | |||||||||||||||
| Package 5/30 | Hostname | OS / Arch | INSTALL | BUILD | CHECK | BUILD BIN | |||||||||||||
| BPRMeth 1.25.0 (landing page) Chantriolnt-Andreas Kapourani
| nebbiolo1 | Linux (Ubuntu 22.04.1 LTS) / x86_64 | OK | OK | OK | ||||||||||||||
| nebbiolo2 | Linux (Ubuntu 20.04.5 LTS) / x86_64 | OK | OK | OK | |||||||||||||||
| Package 6/30 | Hostname | OS / Arch | INSTALL | BUILD | CHECK | BUILD BIN | |||||||||||||
| BubbleTree 2.29.0 (landing page) Todd Creasy
| nebbiolo1 | Linux (Ubuntu 22.04.1 LTS) / x86_64 | OK | OK | OK | ||||||||||||||
| nebbiolo2 | Linux (Ubuntu 20.04.5 LTS) / x86_64 | OK | OK | OK | |||||||||||||||
| Package 7/30 | Hostname | OS / Arch | INSTALL | BUILD | CHECK | BUILD BIN | |||||||||||||
| chimeraviz 1.25.0 (landing page) Stian Lågstad
| nebbiolo1 | Linux (Ubuntu 22.04.1 LTS) / x86_64 | OK | OK | OK | ||||||||||||||
| nebbiolo2 | Linux (Ubuntu 20.04.5 LTS) / x86_64 | OK | OK | OK | |||||||||||||||
| Package 8/30 | Hostname | OS / Arch | INSTALL | BUILD | CHECK | BUILD BIN | |||||||||||||
| COMPASS 1.37.0 (landing page) Greg Finak
| nebbiolo1 | Linux (Ubuntu 22.04.1 LTS) / x86_64 | OK | OK | OK | ||||||||||||||
| nebbiolo2 | Linux (Ubuntu 20.04.5 LTS) / x86_64 | OK | OK | OK | |||||||||||||||
| Package 9/30 | Hostname | OS / Arch | INSTALL | BUILD | CHECK | BUILD BIN | |||||||||||||
| deco 1.15.0 (landing page) Francisco Jose Campos Laborie
| nebbiolo1 | Linux (Ubuntu 22.04.1 LTS) / x86_64 | OK | ERROR | skipped | ||||||||||||||
| nebbiolo2 | Linux (Ubuntu 20.04.5 LTS) / x86_64 | OK | ERROR | skipped | |||||||||||||||
| Package 10/30 | Hostname | OS / Arch | INSTALL | BUILD | CHECK | BUILD BIN | |||||||||||||
| DiscoRhythm 1.15.0 (landing page) Matthew Carlucci
| nebbiolo1 | Linux (Ubuntu 22.04.1 LTS) / x86_64 | OK | OK | OK | ||||||||||||||
| nebbiolo2 | Linux (Ubuntu 20.04.5 LTS) / x86_64 | OK | OK | OK | |||||||||||||||
| Package 11/30 | Hostname | OS / Arch | INSTALL | BUILD | CHECK | BUILD BIN | |||||||||||||
| ExpressionAtlas 1.27.0 (landing page) Pedro Madrigal
| nebbiolo1 | Linux (Ubuntu 22.04.1 LTS) / x86_64 | OK | OK | OK | ||||||||||||||
| nebbiolo2 | Linux (Ubuntu 20.04.5 LTS) / x86_64 | OK | OK | OK | |||||||||||||||
| Package 12/30 | Hostname | OS / Arch | INSTALL | BUILD | CHECK | BUILD BIN | |||||||||||||
| geneXtendeR 1.25.0 (landing page) Bohdan Khomtchouk
| nebbiolo1 | Linux (Ubuntu 22.04.1 LTS) / x86_64 | OK | OK | WARNINGS | ||||||||||||||
| nebbiolo2 | Linux (Ubuntu 20.04.5 LTS) / x86_64 | OK | OK | WARNINGS | |||||||||||||||
| Package 13/30 | Hostname | OS / Arch | INSTALL | BUILD | CHECK | BUILD BIN | |||||||||||||
| Melissa 1.15.0 (landing page) C. A. Kapourani
| nebbiolo1 | Linux (Ubuntu 22.04.1 LTS) / x86_64 | OK | OK | OK | ||||||||||||||
| nebbiolo2 | Linux (Ubuntu 20.04.5 LTS) / x86_64 | OK | OK | OK | |||||||||||||||
| Package 14/30 | Hostname | OS / Arch | INSTALL | BUILD | CHECK | BUILD BIN | |||||||||||||
| meshr 2.5.0 (landing page) Koki Tsuyuzaki
| nebbiolo1 | Linux (Ubuntu 22.04.1 LTS) / x86_64 | OK | OK | OK | ||||||||||||||
| nebbiolo2 | Linux (Ubuntu 20.04.5 LTS) / x86_64 | OK | OK | OK | |||||||||||||||
| Package 15/30 | Hostname | OS / Arch | INSTALL | BUILD | CHECK | BUILD BIN | |||||||||||||
| MSnID 1.33.0 (landing page) Vlad Petyuk
| nebbiolo1 | Linux (Ubuntu 22.04.1 LTS) / x86_64 | OK | OK | OK | ||||||||||||||
| nebbiolo2 | Linux (Ubuntu 20.04.5 LTS) / x86_64 | OK | OK | ERROR | |||||||||||||||
| Package 16/30 | Hostname | OS / Arch | INSTALL | BUILD | CHECK | BUILD BIN | |||||||||||||
| netboost 2.7.7 (landing page) Pascal Schlosser
| nebbiolo1 | Linux (Ubuntu 22.04.1 LTS) / x86_64 | OK | OK | OK | ||||||||||||||
| nebbiolo2 | Linux (Ubuntu 20.04.5 LTS) / x86_64 | OK | OK | OK | |||||||||||||||
| Package 17/30 | Hostname | OS / Arch | INSTALL | BUILD | CHECK | BUILD BIN | |||||||||||||
| netresponse 1.59.4 (landing page) Leo Lahti
| nebbiolo1 | Linux (Ubuntu 22.04.1 LTS) / x86_64 | OK | OK | OK | ||||||||||||||
| nebbiolo2 | Linux (Ubuntu 20.04.5 LTS) / x86_64 | OK | OK | OK | |||||||||||||||
| Package 18/30 | Hostname | OS / Arch | INSTALL | BUILD | CHECK | BUILD BIN | |||||||||||||
| PathoStat 1.25.0 (landing page) Solaiappan Manimaran
| nebbiolo1 | Linux (Ubuntu 22.04.1 LTS) / x86_64 | OK | OK | OK | ||||||||||||||
| nebbiolo2 | Linux (Ubuntu 20.04.5 LTS) / x86_64 | OK | OK | OK | |||||||||||||||
| Package 19/30 | Hostname | OS / Arch | INSTALL | BUILD | CHECK | BUILD BIN | |||||||||||||
| PhyloProfile 1.13.6 (landing page) Vinh Tran
| nebbiolo1 | Linux (Ubuntu 22.04.1 LTS) / x86_64 | OK | OK | OK | ||||||||||||||
| nebbiolo2 | Linux (Ubuntu 20.04.5 LTS) / x86_64 | OK | OK | OK | |||||||||||||||
| Package 20/30 | Hostname | OS / Arch | INSTALL | BUILD | CHECK | BUILD BIN | |||||||||||||
| Pigengene 1.25.16 (landing page) Habil Zare
| nebbiolo1 | Linux (Ubuntu 22.04.1 LTS) / x86_64 | OK | OK | OK | ||||||||||||||
| nebbiolo2 | Linux (Ubuntu 20.04.5 LTS) / x86_64 | OK | OK | OK | |||||||||||||||
| Package 21/30 | Hostname | OS / Arch | INSTALL | BUILD | CHECK | BUILD BIN | |||||||||||||
| rebook 1.9.0 (landing page) Aaron Lun
| nebbiolo1 | Linux (Ubuntu 22.04.1 LTS) / x86_64 | OK | OK | ERROR | ||||||||||||||
| nebbiolo2 | Linux (Ubuntu 20.04.5 LTS) / x86_64 | OK | OK | ERROR | |||||||||||||||
| Package 22/30 | Hostname | OS / Arch | INSTALL | BUILD | CHECK | BUILD BIN | |||||||||||||
| regionReport 1.33.0 (landing page) Leonardo Collado-Torres
| nebbiolo1 | Linux (Ubuntu 22.04.1 LTS) / x86_64 | OK | OK | OK | ||||||||||||||
| nebbiolo2 | Linux (Ubuntu 20.04.5 LTS) / x86_64 | OK | OK | OK | |||||||||||||||
| Package 23/30 | Hostname | OS / Arch | INSTALL | BUILD | CHECK | BUILD BIN | |||||||||||||
| Rmmquant 1.17.2 (landing page) Zytnicki Matthias
| nebbiolo1 | Linux (Ubuntu 22.04.1 LTS) / x86_64 | OK | OK | OK | ||||||||||||||
| nebbiolo2 | Linux (Ubuntu 20.04.5 LTS) / x86_64 | OK | OK | OK | |||||||||||||||
| Package 24/30 | Hostname | OS / Arch | INSTALL | BUILD | CHECK | BUILD BIN | |||||||||||||
| RPA 1.55.2 (landing page) Leo Lahti
| nebbiolo1 | Linux (Ubuntu 22.04.1 LTS) / x86_64 | OK | OK | OK | ||||||||||||||
| nebbiolo2 | Linux (Ubuntu 20.04.5 LTS) / x86_64 | OK | OK | OK | |||||||||||||||
| Package 25/30 | Hostname | OS / Arch | INSTALL | BUILD | CHECK | BUILD BIN | |||||||||||||
| Rqc 1.33.0 (landing page) Welliton Souza
| nebbiolo1 | Linux (Ubuntu 22.04.1 LTS) / x86_64 | OK | OK | OK | ||||||||||||||
| nebbiolo2 | Linux (Ubuntu 20.04.5 LTS) / x86_64 | OK | OK | OK | |||||||||||||||
| Package 26/30 | Hostname | OS / Arch | INSTALL | BUILD | CHECK | BUILD BIN | |||||||||||||
| sangeranalyseR 1.9.0 (landing page) Kuan-Hao Chao
| nebbiolo1 | Linux (Ubuntu 22.04.1 LTS) / x86_64 | OK | OK | WARNINGS | ||||||||||||||
| nebbiolo2 | Linux (Ubuntu 20.04.5 LTS) / x86_64 | OK | OK | WARNINGS | |||||||||||||||
| Package 27/30 | Hostname | OS / Arch | INSTALL | BUILD | CHECK | BUILD BIN | |||||||||||||
| scMET 1.1.0 (landing page) Andreas C. Kapourani
| nebbiolo1 | Linux (Ubuntu 22.04.1 LTS) / x86_64 | OK | OK | OK | ||||||||||||||
| nebbiolo2 | Linux (Ubuntu 20.04.5 LTS) / x86_64 | OK | OK | OK | |||||||||||||||
| Package 28/30 | Hostname | OS / Arch | INSTALL | BUILD | CHECK | BUILD BIN | |||||||||||||
| scTensor 2.9.0 (landing page) Koki Tsuyuzaki
| nebbiolo1 | Linux (Ubuntu 22.04.1 LTS) / x86_64 | OK | OK | WARNINGS | ||||||||||||||
| nebbiolo2 | Linux (Ubuntu 20.04.5 LTS) / x86_64 | OK | OK | WARNINGS | |||||||||||||||
| Package 29/30 | Hostname | OS / Arch | INSTALL | BUILD | CHECK | BUILD BIN | |||||||||||||
| scTGIF 1.13.0 (landing page) Koki Tsuyuzaki
| nebbiolo1 | Linux (Ubuntu 22.04.1 LTS) / x86_64 | OK | OK | OK | ||||||||||||||
| nebbiolo2 | Linux (Ubuntu 20.04.5 LTS) / x86_64 | OK | OK | OK | |||||||||||||||
| Package 30/30 | Hostname | OS / Arch | INSTALL | BUILD | CHECK | BUILD BIN | |||||||||||||
| srnadiff 1.19.2 (landing page) Zytnicki Matthias
| nebbiolo1 | Linux (Ubuntu 22.04.1 LTS) / x86_64 | OK | OK | WARNINGS | ||||||||||||||
| nebbiolo2 | Linux (Ubuntu 20.04.5 LTS) / x86_64 | OK | OK | WARNINGS | |||||||||||||||