| Back to Multiple platform build/check report for BioC 3.17 |
|
This page was generated on 2023-04-12 10:55:22 -0400 (Wed, 12 Apr 2023).
| Hostname | OS | Arch (*) | R version | Installed pkgs |
|---|---|---|---|---|
| nebbiolo1 | Linux (Ubuntu 22.04.1 LTS) | x86_64 | 4.3.0 alpha (2023-04-03 r84154) | 4547 |
| nebbiolo2 | Linux (Ubuntu 20.04.5 LTS) | x86_64 | R Under development (unstable) (2023-02-14 r83833) -- "Unsuffered Consequences" | 4333 |
| Click on any hostname to see more info about the system (e.g. compilers) (*) as reported by 'uname -p', except on Windows and Mac OS X | ||||
|
To the developers/maintainers of the BubbleTree package: - Allow up to 24 hours (and sometimes 48 hours) for your latest push to git@git.bioconductor.org:packages/BubbleTree.git to reflect on this report. See Troubleshooting Build Report for more information. - Use the following Renviron settings to reproduce errors and warnings. Note: If "R CMD check" recently failed on the Linux builder over a missing dependency, add the missing dependency to "Suggests" in your DESCRIPTION file. See the Renviron.bioc for details. |
| Package 243/2207 | Hostname | OS / Arch | INSTALL | BUILD | CHECK | BUILD BIN | ||||||||
| BubbleTree 2.29.0 (landing page) Todd Creasy
| nebbiolo1 | Linux (Ubuntu 22.04.1 LTS) / x86_64 | OK | OK | OK | |||||||||
| nebbiolo2 | Linux (Ubuntu 20.04.5 LTS) / x86_64 | OK | OK | OK | ||||||||||
| Package: BubbleTree |
| Version: 2.29.0 |
| Command: /home/biocbuild/bbs-3.17-bioc/R/bin/R CMD check --install=check:BubbleTree.install-out.txt --library=/home/biocbuild/bbs-3.17-bioc/R/site-library --timings BubbleTree_2.29.0.tar.gz |
| StartedAt: 2023-04-11 18:59:57 -0400 (Tue, 11 Apr 2023) |
| EndedAt: 2023-04-11 19:07:37 -0400 (Tue, 11 Apr 2023) |
| EllapsedTime: 459.5 seconds |
| RetCode: 0 |
| Status: OK |
| CheckDir: BubbleTree.Rcheck |
| Warnings: 0 |
##############################################################################
##############################################################################
###
### Running command:
###
### /home/biocbuild/bbs-3.17-bioc/R/bin/R CMD check --install=check:BubbleTree.install-out.txt --library=/home/biocbuild/bbs-3.17-bioc/R/site-library --timings BubbleTree_2.29.0.tar.gz
###
##############################################################################
##############################################################################
* using log directory ‘/home/biocbuild/bbs-3.17-bioc/meat/BubbleTree.Rcheck’
* using R version 4.3.0 alpha (2023-04-03 r84154)
* using platform: x86_64-pc-linux-gnu (64-bit)
* R was compiled by
gcc (Ubuntu 11.3.0-1ubuntu1~22.04) 11.3.0
GNU Fortran (Ubuntu 11.3.0-1ubuntu1~22.04) 11.3.0
* running under: Ubuntu 22.04.2 LTS
* using session charset: UTF-8
* checking for file ‘BubbleTree/DESCRIPTION’ ... OK
* checking extension type ... Package
* this is package ‘BubbleTree’ version ‘2.29.0’
* checking package namespace information ... OK
* checking package dependencies ... OK
* checking if this is a source package ... OK
* checking if there is a namespace ... OK
* checking for hidden files and directories ... OK
* checking for portable file names ... OK
* checking for sufficient/correct file permissions ... OK
* checking whether package ‘BubbleTree’ can be installed ... OK
* checking installed package size ... NOTE
installed size is 23.8Mb
sub-directories of 1Mb or more:
data 23.4Mb
* checking package directory ... OK
* checking ‘build’ directory ... OK
* checking DESCRIPTION meta-information ...Warning in person1(given = given[[i]], family = family[[i]], middle = middle[[i]], :
It is recommended to use ‘given’ instead of ‘middle’.
OK
* checking top-level files ... OK
* checking for left-over files ... OK
* checking index information ... OK
* checking package subdirectories ... OK
* checking R files for non-ASCII characters ... OK
* checking R files for syntax errors ... OK
* checking whether the package can be loaded ... OK
* checking whether the package can be loaded with stated dependencies ... OK
* checking whether the package can be unloaded cleanly ... OK
* checking whether the namespace can be loaded with stated dependencies ... OK
* checking whether the namespace can be unloaded cleanly ... OK
* checking loading without being on the library search path ... OK
* checking dependencies in R code ... OK
* checking S3 generic/method consistency ... OK
* checking replacement functions ... OK
* checking foreign function calls ... OK
* checking R code for possible problems ... NOTE
annoByOverlap,Annotate: no visible binding for global variable
'queryHits'
Undefined global functions or variables:
queryHits
* checking Rd files ... OK
* checking Rd metadata ... OK
* checking Rd cross-references ... OK
* checking for missing documentation entries ... OK
* checking for code/documentation mismatches ... OK
* checking Rd \usage sections ... OK
* checking Rd contents ... OK
* checking for unstated dependencies in examples ... OK
* checking contents of ‘data’ directory ... OK
* checking data for non-ASCII characters ... OK
* checking data for ASCII and uncompressed saves ... OK
* checking files in ‘vignettes’ ... OK
* checking examples ... OK
Examples with CPU (user + system) or elapsed time > 5s
user system elapsed
makeRBD 14.993 0.968 15.961
heteroLociTrack 6.742 0.388 7.130
* checking for unstated dependencies in vignettes ... OK
* checking package vignettes in ‘inst/doc’ ... OK
* checking running R code from vignettes ...
‘BubbleTree-vignette.Rmd’ using ‘UTF-8’... OK
NONE
* checking re-building of vignette outputs ... OK
* checking PDF version of manual ... OK
* DONE
Status: 2 NOTEs
See
‘/home/biocbuild/bbs-3.17-bioc/meat/BubbleTree.Rcheck/00check.log’
for details.
BubbleTree.Rcheck/00install.out
############################################################################## ############################################################################## ### ### Running command: ### ### /home/biocbuild/bbs-3.17-bioc/R/bin/R CMD INSTALL BubbleTree ### ############################################################################## ############################################################################## * installing to library ‘/home/biocbuild/bbs-3.17-bioc/R/site-library’ * installing *source* package ‘BubbleTree’ ... ** using staged installation Warning in person1(given = given[[i]], family = family[[i]], middle = middle[[i]], : It is recommended to use ‘given’ instead of ‘middle’. ** R ** data ** inst ** byte-compile and prepare package for lazy loading ** help *** installing help indices ** building package indices ** installing vignettes ** testing if installed package can be loaded from temporary location ** testing if installed package can be loaded from final location ** testing if installed package keeps a record of temporary installation path * DONE (BubbleTree)
BubbleTree.Rcheck/BubbleTree-Ex.timings
| name | user | system | elapsed | |
| Annotate | 0.000 | 0.000 | 0.001 | |
| BTreePlotter | 1.164 | 0.060 | 1.223 | |
| BTreePredictor | 0.006 | 0.000 | 0.006 | |
| RBD | 0 | 0 | 0 | |
| RscoreTrack | 0.476 | 0.016 | 0.491 | |
| TrackPlotter | 0 | 0 | 0 | |
| annoByGenesAndCyto | 0.531 | 0.048 | 0.578 | |
| bafTrack | 0.255 | 0.028 | 0.284 | |
| btcompare | 0.000 | 0.003 | 0.002 | |
| btpredict | 2.369 | 0.160 | 2.530 | |
| drawBTree | 0.281 | 0.012 | 0.294 | |
| drawBubbles | 0.311 | 0.000 | 0.311 | |
| drawFeatures | 1.130 | 0.064 | 1.195 | |
| getTracks | 0.621 | 0.012 | 0.632 | |
| heteroLociTrack | 6.742 | 0.388 | 7.130 | |
| info | 2.545 | 0.032 | 2.577 | |
| loadRBD | 0.020 | 0.004 | 0.024 | |
| makeRBD | 14.993 | 0.968 | 15.961 | |
| saveXLS | 0.308 | 0.034 | 0.364 | |
| trackBTree | 0.309 | 0.028 | 0.337 | |
| xyTrack | 0.236 | 0.008 | 0.244 | |