| Back to Multiple platform build/check report for BioC 3.17 |
|
This page was generated on 2023-04-12 10:55:41 -0400 (Wed, 12 Apr 2023).
| Hostname | OS | Arch (*) | R version | Installed pkgs |
|---|---|---|---|---|
| nebbiolo1 | Linux (Ubuntu 22.04.1 LTS) | x86_64 | 4.3.0 alpha (2023-04-03 r84154) | 4547 |
| nebbiolo2 | Linux (Ubuntu 20.04.5 LTS) | x86_64 | R Under development (unstable) (2023-02-14 r83833) -- "Unsuffered Consequences" | 4333 |
| Click on any hostname to see more info about the system (e.g. compilers) (*) as reported by 'uname -p', except on Windows and Mac OS X | ||||
|
To the developers/maintainers of the RPA package: - Allow up to 24 hours (and sometimes 48 hours) for your latest push to git@git.bioconductor.org:packages/RPA.git to reflect on this report. See Troubleshooting Build Report for more information. - Use the following Renviron settings to reproduce errors and warnings. Note: If "R CMD check" recently failed on the Linux builder over a missing dependency, add the missing dependency to "Suggests" in your DESCRIPTION file. See the Renviron.bioc for details. |
| Package 1743/2207 | Hostname | OS / Arch | INSTALL | BUILD | CHECK | BUILD BIN | ||||||||
| RPA 1.55.2 (landing page) Leo Lahti
| nebbiolo1 | Linux (Ubuntu 22.04.1 LTS) / x86_64 | OK | OK | OK | |||||||||
| nebbiolo2 | Linux (Ubuntu 20.04.5 LTS) / x86_64 | OK | OK | OK | ||||||||||
| Package: RPA |
| Version: 1.55.2 |
| Command: /home/biocbuild/bbs-3.17-bioc/R/bin/R CMD check --install=check:RPA.install-out.txt --library=/home/biocbuild/bbs-3.17-bioc/R/site-library --timings RPA_1.55.2.tar.gz |
| StartedAt: 2023-04-12 08:59:14 -0400 (Wed, 12 Apr 2023) |
| EndedAt: 2023-04-12 09:01:48 -0400 (Wed, 12 Apr 2023) |
| EllapsedTime: 154.4 seconds |
| RetCode: 0 |
| Status: OK |
| CheckDir: RPA.Rcheck |
| Warnings: 0 |
##############################################################################
##############################################################################
###
### Running command:
###
### /home/biocbuild/bbs-3.17-bioc/R/bin/R CMD check --install=check:RPA.install-out.txt --library=/home/biocbuild/bbs-3.17-bioc/R/site-library --timings RPA_1.55.2.tar.gz
###
##############################################################################
##############################################################################
* using log directory ‘/home/biocbuild/bbs-3.17-bioc/meat/RPA.Rcheck’
* using R Under development (unstable) (2023-02-14 r83833)
* using platform: x86_64-pc-linux-gnu (64-bit)
* R was compiled by
gcc (Ubuntu 9.4.0-1ubuntu1~20.04.1) 9.4.0
GNU Fortran (Ubuntu 9.4.0-1ubuntu1~20.04.1) 9.4.0
* running under: Ubuntu 20.04.6 LTS
* using session charset: UTF-8
* checking for file ‘RPA/DESCRIPTION’ ... OK
* checking extension type ... Package
* this is package ‘RPA’ version ‘1.55.2’
* package encoding: UTF-8
* checking package namespace information ... OK
* checking package dependencies ... OK
* checking if this is a source package ... OK
* checking if there is a namespace ... OK
* checking for hidden files and directories ... OK
* checking for portable file names ... OK
* checking for sufficient/correct file permissions ... OK
* checking whether package ‘RPA’ can be installed ... OK
* checking installed package size ... OK
* checking package directory ... OK
* checking ‘build’ directory ... OK
* checking DESCRIPTION meta-information ... OK
* checking top-level files ... OK
* checking for left-over files ... OK
* checking index information ... OK
* checking package subdirectories ... OK
* checking R files for non-ASCII characters ... OK
* checking R files for syntax errors ... OK
* checking whether the package can be loaded ... OK
* checking whether the package can be loaded with stated dependencies ... OK
* checking whether the package can be unloaded cleanly ... OK
* checking whether the namespace can be loaded with stated dependencies ... OK
* checking whether the namespace can be unloaded cleanly ... OK
* checking loading without being on the library search path ... OK
* checking dependencies in R code ... OK
* checking S3 generic/method consistency ... OK
* checking replacement functions ... OK
* checking foreign function calls ... OK
* checking R code for possible problems ... OK
* checking Rd files ... OK
* checking Rd metadata ... OK
* checking Rd cross-references ... OK
* checking for missing documentation entries ... OK
* checking for code/documentation mismatches ... OK
* checking Rd \usage sections ... OK
* checking Rd contents ... OK
* checking for unstated dependencies in examples ... OK
* checking files in ‘vignettes’ ... OK
* checking examples ... OK
* checking for unstated dependencies in ‘tests’ ... OK
* checking tests ...
Running ‘rpa.R’
OK
* checking for unstated dependencies in vignettes ... OK
* checking package vignettes in ‘inst/doc’ ... OK
* checking running R code from vignettes ...
‘RPA.Rmd’ using ‘UTF-8’... OK
NONE
* checking re-building of vignette outputs ... OK
* checking PDF version of manual ... OK
* DONE
Status: OK
RPA.Rcheck/00install.out
############################################################################## ############################################################################## ### ### Running command: ### ### /home/biocbuild/bbs-3.17-bioc/R/bin/R CMD INSTALL RPA ### ############################################################################## ############################################################################## * installing to library ‘/home/biocbuild/bbs-3.17-bioc/R/site-library’ * installing *source* package ‘RPA’ ... ** using staged installation ** R ** inst ** byte-compile and prepare package for lazy loading ** help *** installing help indices ** building package indices ** installing vignettes ** testing if installed package can be loaded from temporary location ** testing if installed package can be loaded from final location ** testing if installed package keeps a record of temporary installation path * DONE (RPA)
RPA.Rcheck/tests/rpa.Rout
R Under development (unstable) (2023-02-14 r83833) -- "Unsuffered Consequences" Copyright (C) 2023 The R Foundation for Statistical Computing Platform: x86_64-pc-linux-gnu (64-bit) R is free software and comes with ABSOLUTELY NO WARRANTY. You are welcome to redistribute it under certain conditions. Type 'license()' or 'licence()' for distribution details. R is a collaborative project with many contributors. Type 'contributors()' for more information and 'citation()' on how to cite R or R packages in publications. Type 'demo()' for some demos, 'help()' for on-line help, or 'help.start()' for an HTML browser interface to help. Type 'q()' to quit R. > #library(affy) > #library(affydata) > #library(RPA) > #data(Dilution) > #eset <- rpa(Dilution) > > proc.time() user system elapsed 0.193 0.028 0.206
RPA.Rcheck/RPA-Ex.timings
| name | user | system | elapsed | |
| RPA-package | 0 | 0 | 0 | |
| RPA.iteration | 0 | 0 | 0 | |
| RPA.preprocess | 0 | 0 | 0 | |
| collect.hyperparameters | 0 | 0 | 0 | |
| d.update.fast | 0 | 0 | 0 | |
| estimate.affinities | 0 | 0 | 0 | |
| estimate.hyperparameters | 0 | 0 | 0 | |
| frpa | 0 | 0 | 0 | |
| get.batches | 0 | 0 | 0 | |
| get.probe.matrix | 0 | 0 | 0 | |
| get.probe.parameters | 0 | 0 | 0 | |
| get.probeset | 0 | 0 | 0 | |
| hyperparameter.update | 0.000 | 0.001 | 0.000 | |
| online.quantile | 0 | 0 | 0 | |
| probe.parameters.tolist | 0 | 0 | 0 | |
| probeplot | 0 | 0 | 0 | |
| probetable | 0.000 | 0.001 | 0.000 | |
| retrieve.probesets | 0 | 0 | 0 | |
| rpa | 0 | 0 | 0 | |
| rpa.complete | 0 | 0 | 0 | |
| rpa.fit | 0 | 0 | 0 | |
| rpa.online | 0 | 0 | 0 | |
| rpa.plot | 0.000 | 0.000 | 0.001 | |
| rpa.summarize | 0 | 0 | 0 | |
| rpaplot | 0.001 | 0.000 | 0.000 | |
| sample.probeset | 0 | 0 | 0 | |
| summarize.batch | 0 | 0 | 0 | |
| summarize.batches | 0 | 0 | 0 | |
| summarize_probedata | 0 | 0 | 0 | |
| updating.hyperparameters | 0 | 0 | 0 | |