| Back to Build/check report for BioC 3.17 annotations |
|
This page was generated on 2023-10-11 08:30:04 -0400 (Wed, 11 Oct 2023).
| Hostname | OS | Arch (*) | R version | Installed pkgs |
|---|---|---|---|---|
| nebbiolo1 | Linux (Ubuntu 22.04.2 LTS) | x86_64 | 4.3.1 (2023-06-16) -- "Beagle Scouts" | 4626 |
| Click on any hostname to see more info about the system (e.g. compilers) (*) as reported by 'uname -p', except on Windows and Mac OS X | ||||
| Package 23/37 | Hostname | OS / Arch | INSTALL | BUILD | CHECK | ||||||||
| hpAnnot 1.1.0 (landing page) Marta R. Hidalgo
| nebbiolo1 | Linux (Ubuntu 22.04.2 LTS) / x86_64 | OK | OK | ERROR | ||||||||
|
To the developers/maintainers of the hpAnnot package: - Use the following Renviron settings to reproduce errors and warnings. - If 'R CMD check' started to fail recently on the Linux builder(s) over a missing dependency, add the missing dependency to 'Suggests:' in your DESCRIPTION file. See Renviron.bioc for more information. |
| Package: hpAnnot |
| Version: 1.1.0 |
| Command: /home/biocbuild/bbs-3.17-bioc/R/bin/R CMD build --keep-empty-dirs --no-resave-data hpAnnot |
| StartedAt: 2023-10-11 05:31:18 -0400 (Wed, 11 Oct 2023) |
| EndedAt: 2023-10-11 05:31:52 -0400 (Wed, 11 Oct 2023) |
| EllapsedTime: 34.1 seconds |
| RetCode: 0 |
| Status: OK |
| PackageFile: hpAnnot_1.1.0.tar.gz |
| PackageFileSize: 228.8 MiB |
##############################################################################
##############################################################################
###
### Running command:
###
### /home/biocbuild/bbs-3.17-bioc/R/bin/R CMD build --keep-empty-dirs --no-resave-data hpAnnot
###
##############################################################################
##############################################################################
* checking for file ‘hpAnnot/DESCRIPTION’ ... OK
* preparing ‘hpAnnot’:
* checking DESCRIPTION meta-information ... OK
* installing the package to build vignettes
* creating vignettes ... OK
Warning: ‘inst/doc’ files
‘hpAnnot-vignette.Rmd’, ‘hpAnnot-vignette.pdf’, ‘hpAnnot-vignette.R’
ignored as vignettes have been rebuilt.
Run R CMD build with --no-build-vignettes to prevent rebuilding.
* checking for LF line-endings in source and make files and shell scripts
* checking for empty or unneeded directories
Omitted ‘LazyData’ from DESCRIPTION
* building ‘hpAnnot_1.1.0.tar.gz’