| Back to Build/check report for BioC 3.17 |
|
This page was generated on 2022-12-28 09:00:40 -0500 (Wed, 28 Dec 2022).
| Hostname | OS | Arch (*) | R version | Installed pkgs |
|---|---|---|---|---|
| palomino5 | Windows Server 2022 Datacenter | x64 | R Under development (unstable) (2022-12-25 r83502 ucrt) -- "Unsuffered Consequences" | 4051 |
| Click on any hostname to see more info about the system (e.g. compilers) (*) as reported by 'uname -p', except on Windows and Mac OS X | ||||
|
To the developers/maintainers of the rmspc package: Make sure to use the following settings in order to reproduce any error or warning you see on this page. |
| Package 1680/2158 | Hostname | OS / Arch | INSTALL | BUILD | CHECK | BUILD BIN | ||||||||
| rmspc 1.5.0 (landing page) Meriem Bahda
| palomino5 | Windows Server 2022 Datacenter / x64 | OK | OK | OK | OK | ||||||||
| Package: rmspc |
| Version: 1.5.0 |
| Command: rm -rf rmspc.buildbin-libdir && mkdir rmspc.buildbin-libdir && F:\biocbuild\bbs-3.17-bioc\R\bin\R.exe CMD INSTALL --build --library=rmspc.buildbin-libdir rmspc_1.5.0.tar.gz |
| StartedAt: 2022-12-28 06:30:54 -0500 (Wed, 28 Dec 2022) |
| EndedAt: 2022-12-28 06:31:22 -0500 (Wed, 28 Dec 2022) |
| EllapsedTime: 27.4 seconds |
| RetCode: 0 |
| Status: OK |
| PackageFile: rmspc_1.5.0.zip |
| PackageFileSize: 1.639 MiB |
############################################################################## ############################################################################## ### ### Running command: ### ### rm -rf rmspc.buildbin-libdir && mkdir rmspc.buildbin-libdir && F:\biocbuild\bbs-3.17-bioc\R\bin\R.exe CMD INSTALL --build --library=rmspc.buildbin-libdir rmspc_1.5.0.tar.gz ### ############################################################################## ############################################################################## * installing *source* package 'rmspc' ... ** using staged installation ** R ** inst ** byte-compile and prepare package for lazy loading ** help *** installing help indices ** building package indices ** installing vignettes ** testing if installed package can be loaded from temporary location ** testing if installed package can be loaded from final location ** testing if installed package keeps a record of temporary installation path * MD5 sums packaged installation of 'rmspc' as rmspc_1.5.0.zip * DONE (rmspc)