| Back to Build/check report for BioC 3.17 |
|
This page was generated on 2023-01-02 09:00:40 -0500 (Mon, 02 Jan 2023).
| Hostname | OS | Arch (*) | R version | Installed pkgs |
|---|---|---|---|---|
| palomino5 | Windows Server 2022 Datacenter | x64 | R Under development (unstable) (2022-12-25 r83502 ucrt) -- "Unsuffered Consequences" | 4165 |
| Click on any hostname to see more info about the system (e.g. compilers) (*) as reported by 'uname -p', except on Windows and Mac OS X | ||||
|
To the developers/maintainers of the msgbsR package: Make sure to use the following settings in order to reproduce any error or warning you see on this page. |
| Package 1257/2158 | Hostname | OS / Arch | INSTALL | BUILD | CHECK | BUILD BIN | ||||||||
| msgbsR 1.23.0 (landing page) Benjamin Mayne
| palomino5 | Windows Server 2022 Datacenter / x64 | OK | OK | OK | OK | ||||||||
| Package: msgbsR |
| Version: 1.23.0 |
| Command: F:\biocbuild\bbs-3.17-bioc\R\bin\R.exe CMD check --no-multiarch --install=check:msgbsR.install-out.txt --library=F:\biocbuild\bbs-3.17-bioc\R\library --no-vignettes --timings msgbsR_1.23.0.tar.gz |
| StartedAt: 2022-12-29 01:38:43 -0500 (Thu, 29 Dec 2022) |
| EndedAt: 2022-12-29 01:43:49 -0500 (Thu, 29 Dec 2022) |
| EllapsedTime: 306.2 seconds |
| RetCode: 0 |
| Status: OK |
| CheckDir: msgbsR.Rcheck |
| Warnings: 0 |
##############################################################################
##############################################################################
###
### Running command:
###
### F:\biocbuild\bbs-3.17-bioc\R\bin\R.exe CMD check --no-multiarch --install=check:msgbsR.install-out.txt --library=F:\biocbuild\bbs-3.17-bioc\R\library --no-vignettes --timings msgbsR_1.23.0.tar.gz
###
##############################################################################
##############################################################################
* using log directory 'F:/biocbuild/bbs-3.17-bioc-rtools43/meat/msgbsR.Rcheck'
* using R Under development (unstable) (2022-12-25 r83502 ucrt)
* using platform: x86_64-w64-mingw32 (64-bit)
* R was compiled by
gcc.exe (GCC) 10.4.0
GNU Fortran (GCC) 10.4.0
* running under: Windows Server x64 (build 20348)
* using session charset: UTF-8
* using option '--no-vignettes'
* checking for file 'msgbsR/DESCRIPTION' ... OK
* checking extension type ... Package
* this is package 'msgbsR' version '1.23.0'
* checking package namespace information ... OK
* checking package dependencies ... OK
* checking if this is a source package ... OK
* checking if there is a namespace ... OK
* checking for hidden files and directories ... OK
* checking for portable file names ... OK
* checking whether package 'msgbsR' can be installed ... OK
* checking installed package size ... NOTE
installed size is 15.5Mb
sub-directories of 1Mb or more:
extdata 15.2Mb
* checking package directory ... OK
* checking 'build' directory ... OK
* checking DESCRIPTION meta-information ... OK
* checking top-level files ... OK
* checking for left-over files ... OK
* checking index information ... OK
* checking package subdirectories ... OK
* checking R files for non-ASCII characters ... OK
* checking R files for syntax errors ... OK
* checking whether the package can be loaded ... OK
* checking whether the package can be loaded with stated dependencies ... OK
* checking whether the package can be unloaded cleanly ... OK
* checking whether the namespace can be loaded with stated dependencies ... OK
* checking whether the namespace can be unloaded cleanly ... OK
* checking dependencies in R code ... NOTE
Namespace in Imports field not imported from: 'utils'
All declared Imports should be used.
* checking S3 generic/method consistency ... OK
* checking replacement functions ... OK
* checking foreign function calls ... OK
* checking R code for possible problems ... OK
* checking Rd files ... OK
* checking Rd metadata ... OK
* checking Rd cross-references ... OK
* checking for missing documentation entries ... OK
* checking for code/documentation mismatches ... OK
* checking Rd \usage sections ... OK
* checking Rd contents ... OK
* checking for unstated dependencies in examples ... OK
* checking contents of 'data' directory ... OK
* checking data for non-ASCII characters ... OK
* checking data for ASCII and uncompressed saves ... OK
* checking sizes of PDF files under 'inst/doc' ... OK
* checking files in 'vignettes' ... OK
* checking examples ... OK
Examples with CPU (user + system) or elapsed time > 5s
user system elapsed
rawCounts 5.71 0.08 5.88
* checking for unstated dependencies in vignettes ... OK
* checking package vignettes in 'inst/doc' ... OK
* checking running R code from vignettes ... SKIPPED
* checking re-building of vignette outputs ... SKIPPED
* checking PDF version of manual ... OK
* DONE
Status: 2 NOTEs
See
'F:/biocbuild/bbs-3.17-bioc-rtools43/meat/msgbsR.Rcheck/00check.log'
for details.
msgbsR.Rcheck/00install.out
############################################################################## ############################################################################## ### ### Running command: ### ### F:\biocbuild\bbs-3.17-bioc\R\bin\R.exe CMD INSTALL msgbsR ### ############################################################################## ############################################################################## * installing to library 'F:/biocbuild/bbs-3.17-bioc/R/library' * installing *source* package 'msgbsR' ... ** using staged installation ** R ** data ** inst ** byte-compile and prepare package for lazy loading No methods found in package 'BiocGenerics' for request: 'clusterApply' when loading 'easyRNASeq' ** help *** installing help indices ** building package indices ** installing vignettes ** testing if installed package can be loaded from temporary location No methods found in package 'BiocGenerics' for request: 'clusterApply' when loading 'easyRNASeq' ** testing if installed package can be loaded from final location No methods found in package 'BiocGenerics' for request: 'clusterApply' when loading 'easyRNASeq' ** testing if installed package keeps a record of temporary installation path * DONE (msgbsR)
msgbsR.Rcheck/msgbsR-Ex.timings
| name | user | system | elapsed | |
| checkCuts | 2.42 | 1.46 | 4.21 | |
| diffMeth | 2.28 | 0.05 | 2.33 | |
| plotCircos | 0.98 | 0.08 | 1.06 | |
| plotCounts | 0.23 | 0.01 | 0.25 | |
| rawCounts | 5.71 | 0.08 | 5.88 | |