| Back to Build/check report for BioC 3.17 |
|
This page was generated on 2023-01-02 09:00:40 -0500 (Mon, 02 Jan 2023).
| Hostname | OS | Arch (*) | R version | Installed pkgs |
|---|---|---|---|---|
| palomino5 | Windows Server 2022 Datacenter | x64 | R Under development (unstable) (2022-12-25 r83502 ucrt) -- "Unsuffered Consequences" | 4165 |
| Click on any hostname to see more info about the system (e.g. compilers) (*) as reported by 'uname -p', except on Windows and Mac OS X | ||||
|
To the developers/maintainers of the msgbsR package: Make sure to use the following settings in order to reproduce any error or warning you see on this page. |
| Package 1257/2158 | Hostname | OS / Arch | INSTALL | BUILD | CHECK | BUILD BIN | ||||||||
| msgbsR 1.23.0 (landing page) Benjamin Mayne
| palomino5 | Windows Server 2022 Datacenter / x64 | OK | OK | OK | OK | ||||||||
| Package: msgbsR |
| Version: 1.23.0 |
| Command: rm -rf msgbsR.buildbin-libdir && mkdir msgbsR.buildbin-libdir && F:\biocbuild\bbs-3.17-bioc\R\bin\R.exe CMD INSTALL --build --library=msgbsR.buildbin-libdir msgbsR_1.23.0.tar.gz |
| StartedAt: 2022-12-29 05:25:56 -0500 (Thu, 29 Dec 2022) |
| EndedAt: 2022-12-29 05:26:59 -0500 (Thu, 29 Dec 2022) |
| EllapsedTime: 63.3 seconds |
| RetCode: 0 |
| Status: OK |
| PackageFile: msgbsR_1.23.0.zip |
| PackageFileSize: 15.19 MiB |
############################################################################## ############################################################################## ### ### Running command: ### ### rm -rf msgbsR.buildbin-libdir && mkdir msgbsR.buildbin-libdir && F:\biocbuild\bbs-3.17-bioc\R\bin\R.exe CMD INSTALL --build --library=msgbsR.buildbin-libdir msgbsR_1.23.0.tar.gz ### ############################################################################## ############################################################################## * installing *source* package 'msgbsR' ... ** using staged installation ** R ** data ** inst ** byte-compile and prepare package for lazy loading No methods found in package 'BiocGenerics' for request: 'clusterApply' when loading 'easyRNASeq' ** help *** installing help indices ** building package indices ** installing vignettes ** testing if installed package can be loaded from temporary location No methods found in package 'BiocGenerics' for request: 'clusterApply' when loading 'easyRNASeq' ** testing if installed package can be loaded from final location No methods found in package 'BiocGenerics' for request: 'clusterApply' when loading 'easyRNASeq' ** testing if installed package keeps a record of temporary installation path * MD5 sums packaged installation of 'msgbsR' as msgbsR_1.23.0.zip * DONE (msgbsR)