| Back to Build/check report for BioC 3.17 |
|
This page was generated on 2023-01-02 09:00:32 -0500 (Mon, 02 Jan 2023).
| Hostname | OS | Arch (*) | R version | Installed pkgs |
|---|---|---|---|---|
| palomino5 | Windows Server 2022 Datacenter | x64 | R Under development (unstable) (2022-12-25 r83502 ucrt) -- "Unsuffered Consequences" | 4165 |
| Click on any hostname to see more info about the system (e.g. compilers) (*) as reported by 'uname -p', except on Windows and Mac OS X | ||||
|
To the developers/maintainers of the granulator package: Make sure to use the following settings in order to reproduce any error or warning you see on this page. |
| Package 839/2158 | Hostname | OS / Arch | INSTALL | BUILD | CHECK | BUILD BIN | ||||||||
| granulator 1.7.0 (landing page) Sabina Pfister
| palomino5 | Windows Server 2022 Datacenter / x64 | OK | OK | OK | OK | ||||||||
| Package: granulator |
| Version: 1.7.0 |
| Command: chmod a+r granulator -R && F:\biocbuild\bbs-3.17-bioc\R\bin\R.exe CMD build --keep-empty-dirs --no-resave-data granulator |
| StartedAt: 2022-12-28 18:27:13 -0500 (Wed, 28 Dec 2022) |
| EndedAt: 2022-12-28 18:29:10 -0500 (Wed, 28 Dec 2022) |
| EllapsedTime: 116.9 seconds |
| RetCode: 0 |
| Status: OK |
| PackageFile: granulator_1.7.0.tar.gz |
| PackageFileSize: 873.1 KiB |
############################################################################## ############################################################################## ### ### Running command: ### ### chmod a+r granulator -R && F:\biocbuild\bbs-3.17-bioc\R\bin\R.exe CMD build --keep-empty-dirs --no-resave-data granulator ### ############################################################################## ############################################################################## * checking for file 'granulator/DESCRIPTION' ... OK * preparing 'granulator': * checking DESCRIPTION meta-information ... OK * installing the package to build vignettes * creating vignettes ... OK * checking for LF line-endings in source and make files and shell scripts * checking for empty or unneeded directories * looking to see if a 'data/datalist' file should be added * building 'granulator_1.7.0.tar.gz'