| Back to Build/check report for BioC 3.17 |
|
This page was generated on 2023-01-02 09:00:24 -0500 (Mon, 02 Jan 2023).
| Hostname | OS | Arch (*) | R version | Installed pkgs |
|---|---|---|---|---|
| palomino5 | Windows Server 2022 Datacenter | x64 | R Under development (unstable) (2022-12-25 r83502 ucrt) -- "Unsuffered Consequences" | 4165 |
| Click on any hostname to see more info about the system (e.g. compilers) (*) as reported by 'uname -p', except on Windows and Mac OS X | ||||
|
To the developers/maintainers of the consensusSeekeR package: Make sure to use the following settings in order to reproduce any error or warning you see on this page. |
| Package 397/2158 | Hostname | OS / Arch | INSTALL | BUILD | CHECK | BUILD BIN | ||||||||
| consensusSeekeR 1.27.0 (landing page) Astrid Deschenes
| palomino5 | Windows Server 2022 Datacenter / x64 | OK | OK | OK | OK | ||||||||
| Package: consensusSeekeR |
| Version: 1.27.0 |
| Command: chmod a+r consensusSeekeR -R && F:\biocbuild\bbs-3.17-bioc\R\bin\R.exe CMD build --keep-empty-dirs --no-resave-data consensusSeekeR |
| StartedAt: 2022-12-28 17:23:43 -0500 (Wed, 28 Dec 2022) |
| EndedAt: 2022-12-28 17:25:02 -0500 (Wed, 28 Dec 2022) |
| EllapsedTime: 78.7 seconds |
| RetCode: 0 |
| Status: OK |
| PackageFile: consensusSeekeR_1.27.0.tar.gz |
| PackageFileSize: 738 KiB |
##############################################################################
##############################################################################
###
### Running command:
###
### chmod a+r consensusSeekeR -R && F:\biocbuild\bbs-3.17-bioc\R\bin\R.exe CMD build --keep-empty-dirs --no-resave-data consensusSeekeR
###
##############################################################################
##############################################################################
* checking for file 'consensusSeekeR/DESCRIPTION' ... OK
* preparing 'consensusSeekeR':
* checking DESCRIPTION meta-information ... OK
* installing the package to build vignettes
* creating vignettes ... OK
* checking for LF line-endings in source and make files and shell scripts
* checking for empty or unneeded directories
* looking to see if a 'data/datalist' file should be added
NB: this package now depends on R (>= 3.5.0)
WARNING: Added dependency on R >= 3.5.0 because serialized objects in
serialize/load version 3 cannot be read in older versions of R.
File(s) containing such objects:
'consensusSeekeR/data/A549_CTCF_MYJ_NarrowPeaks_partial.RData'
'consensusSeekeR/data/A549_CTCF_MYJ_Peaks_partial.RData'
'consensusSeekeR/data/A549_CTCF_MYN_NarrowPeaks_partial.RData'
'consensusSeekeR/data/A549_CTCF_MYN_Peaks_partial.RData'
'consensusSeekeR/data/A549_FOSL2_01_NarrowPeaks_partial.RData'
'consensusSeekeR/data/A549_FOSL2_01_Peaks_partial.RData'
'consensusSeekeR/data/A549_FOXA1_01_NarrowPeaks_partial.RData'
'consensusSeekeR/data/A549_FOXA1_01_Peaks_partial.RData'
'consensusSeekeR/data/A549_NR3C1_CFQ_NarrowPeaks_partial.RData'
'consensusSeekeR/data/A549_NR3C1_CFQ_Peaks_partial.RData'
'consensusSeekeR/data/A549_NR3C1_CFR_NarrowPeaks_partial.RData'
'consensusSeekeR/data/A549_NR3C1_CFR_Peaks_partial.RData'
'consensusSeekeR/data/A549_NR3C1_CFS_NarrowPeaks_partial.RData'
'consensusSeekeR/data/A549_NR3C1_CFS_Peaks_partial.RData'
'consensusSeekeR/data/NOrMAL_nucleosome_positions.RData'
'consensusSeekeR/data/NOrMAL_nucleosome_ranges.RData'
'consensusSeekeR/data/NucPosSimulator_nucleosome_positions.RData'
'consensusSeekeR/data/NucPosSimulator_nucleosome_ranges.RData'
'consensusSeekeR/data/PING_nucleosome_positions.RData'
'consensusSeekeR/data/PING_nucleosome_ranges.RData'
* building 'consensusSeekeR_1.27.0.tar.gz'