| Back to Build/check report for BioC 3.17 |
|
This page was generated on 2023-01-02 09:00:46 -0500 (Mon, 02 Jan 2023).
| Hostname | OS | Arch (*) | R version | Installed pkgs |
|---|---|---|---|---|
| palomino5 | Windows Server 2022 Datacenter | x64 | R Under development (unstable) (2022-12-25 r83502 ucrt) -- "Unsuffered Consequences" | 4165 |
| Click on any hostname to see more info about the system (e.g. compilers) (*) as reported by 'uname -p', except on Windows and Mac OS X | ||||
|
To the developers/maintainers of the RCX package: Make sure to use the following settings in order to reproduce any error or warning you see on this page. |
| Package 1602/2158 | Hostname | OS / Arch | INSTALL | BUILD | CHECK | BUILD BIN | ||||||||
| RCX 1.3.1 (landing page) Florian Auer
| palomino5 | Windows Server 2022 Datacenter / x64 | OK | OK | OK | OK | ||||||||
| Package: RCX |
| Version: 1.3.1 |
| Command: rm -rf RCX.buildbin-libdir && mkdir RCX.buildbin-libdir && F:\biocbuild\bbs-3.17-bioc\R\bin\R.exe CMD INSTALL --build --library=RCX.buildbin-libdir RCX_1.3.1.tar.gz |
| StartedAt: 2022-12-29 05:35:56 -0500 (Thu, 29 Dec 2022) |
| EndedAt: 2022-12-29 05:36:19 -0500 (Thu, 29 Dec 2022) |
| EllapsedTime: 23.5 seconds |
| RetCode: 0 |
| Status: OK |
| PackageFile: RCX_1.3.1.zip |
| PackageFileSize: 3.604 MiB |
############################################################################## ############################################################################## ### ### Running command: ### ### rm -rf RCX.buildbin-libdir && mkdir RCX.buildbin-libdir && F:\biocbuild\bbs-3.17-bioc\R\bin\R.exe CMD INSTALL --build --library=RCX.buildbin-libdir RCX_1.3.1.tar.gz ### ############################################################################## ############################################################################## * installing *source* package 'RCX' ... ** using staged installation ** R ** inst ** byte-compile and prepare package for lazy loading ** help *** installing help indices ** building package indices ** installing vignettes ** testing if installed package can be loaded from temporary location ** testing if installed package can be loaded from final location ** testing if installed package keeps a record of temporary installation path * MD5 sums packaged installation of 'RCX' as RCX_1.3.1.zip * DONE (RCX)