| Back to Build/check report for BioC 3.17 |
|
This page was generated on 2023-01-02 09:00:33 -0500 (Mon, 02 Jan 2023).
| Hostname | OS | Arch (*) | R version | Installed pkgs |
|---|---|---|---|---|
| palomino5 | Windows Server 2022 Datacenter | x64 | R Under development (unstable) (2022-12-25 r83502 ucrt) -- "Unsuffered Consequences" | 4165 |
| Click on any hostname to see more info about the system (e.g. compilers) (*) as reported by 'uname -p', except on Windows and Mac OS X | ||||
|
To the developers/maintainers of the Harshlight package: Make sure to use the following settings in order to reproduce any error or warning you see on this page. |
| Package 876/2158 | Hostname | OS / Arch | INSTALL | BUILD | CHECK | BUILD BIN | ||||||||
| Harshlight 1.71.0 (landing page) Maurizio Pellegrino
| palomino5 | Windows Server 2022 Datacenter / x64 | OK | OK | WARNINGS | OK | ||||||||
| Package: Harshlight |
| Version: 1.71.0 |
| Command: rm -rf Harshlight.buildbin-libdir && mkdir Harshlight.buildbin-libdir && F:\biocbuild\bbs-3.17-bioc\R\bin\R.exe CMD INSTALL --build --library=Harshlight.buildbin-libdir Harshlight_1.71.0.tar.gz |
| StartedAt: 2022-12-29 05:14:59 -0500 (Thu, 29 Dec 2022) |
| EndedAt: 2022-12-29 05:15:16 -0500 (Thu, 29 Dec 2022) |
| EllapsedTime: 16.8 seconds |
| RetCode: 0 |
| Status: OK |
| PackageFile: Harshlight_1.71.0.zip |
| PackageFileSize: 219.8 KiB |
##############################################################################
##############################################################################
###
### Running command:
###
### rm -rf Harshlight.buildbin-libdir && mkdir Harshlight.buildbin-libdir && F:\biocbuild\bbs-3.17-bioc\R\bin\R.exe CMD INSTALL --build --library=Harshlight.buildbin-libdir Harshlight_1.71.0.tar.gz
###
##############################################################################
##############################################################################
* installing *source* package 'Harshlight' ...
** using staged installation
** libs
using C compiler: 'gcc.exe (GCC) 12.2.0'
gcc -I"F:/biocbuild/bbs-3.17-bioc/R/include" -DNDEBUG -I"c:/rtools42/x86_64-w64-mingw32.static.posix/include" -O2 -Wall -std=gnu99 -mfpmath=sse -msse2 -mstackrealign -c Harshlight.c -o Harshlight.o
Harshlight.c: In function 'extended_defects':
Harshlight.c:564:20: warning: variable 'p_num_points' set but not used [-Wunused-but-set-variable]
564 | int num_points, *p_num_points; //number of points inside the median kernel
| ^~~~~~~~~~~~
Harshlight.c: In function 'image_dilation':
Harshlight.c:948:10: warning: variable 'cell_value' set but not used [-Wunused-but-set-variable]
948 | double cell_value;
| ^~~~~~~~~~
Harshlight.c: In function 'norm':
Harshlight.c:1316:27: warning: unused variable 'sorted2' [-Wunused-variable]
1316 | double *sorted; double *sorted2;
| ^~~~~~~
Harshlight.c: In function 'report_overall_header':
Harshlight.c:1471:26: warning: unknown conversion type character ')' in format [-Wformat=]
1471 | PP "%d %d moveto (%.2f%) show\n", x_text_val, y_text - 215, *diff_br);
| ^
Harshlight.c:1474:26: warning: unknown conversion type character ')' in format [-Wformat=]
1474 | PP "%d %d moveto (%.2f%) show\n", x_text_val, y_text - 230, *diff_dr);
| ^
Harshlight.c: In function 'chip_summary':
Harshlight.c:1532:107: warning: unknown conversion type character ')' in format [-Wformat=]
1532 | PP "%d %d moveto (Extended defects: the variance of the Error Image explained by the background is %.2f%) show\n", x_text, y_text - 30, *var);
| ^
Harshlight.c:1542:26: warning: unknown conversion type character ')' in format [-Wformat=]
1542 | PP "%d %d moveto (%.2f%) show\n", x_val_1, y_text - 100, *perc_c);
| ^
Harshlight.c:1543:26: warning: unknown conversion type character ')' in format [-Wformat=]
1543 | PP "%d %d moveto (%.2f%) show\n", x_val_2, y_text - 100, *perc_d);
| ^
Harshlight.c: In function 'extended_stop':
Harshlight.c:1555:107: warning: unknown conversion type character ')' in format [-Wformat=]
1555 | PP "%d %d moveto (Extended defects: the variance of the Error Image explained by the background is %.2f%) show\n", x_text, y_text - 30, *var);
| ^
gcc -shared -s -static-libgcc -o Harshlight.dll tmp.def Harshlight.o -Lc:/rtools42/x86_64-w64-mingw32.static.posix/lib/x64 -Lc:/rtools42/x86_64-w64-mingw32.static.posix/lib -LF:/biocbuild/bbs-3.17-bioc/R/bin/x64 -lR
installing to F:/biocbuild/bbs-3.17-bioc-rtools43/meat/Harshlight.buildbin-libdir/00LOCK-Harshlight/00new/Harshlight/libs/x64
** R
** data
** inst
** byte-compile and prepare package for lazy loading
** help
*** installing help indices
** building package indices
** installing vignettes
** testing if installed package can be loaded from temporary location
** testing if installed package can be loaded from final location
** testing if installed package keeps a record of temporary installation path
* MD5 sums
packaged installation of 'Harshlight' as Harshlight_1.71.0.zip
* DONE (Harshlight)