| Back to Build/check report for BioC 3.17 | 
 | 
This page was generated on 2023-01-02 09:00:22 -0500 (Mon, 02 Jan 2023).
| Hostname | OS | Arch (*) | R version | Installed pkgs | 
|---|---|---|---|---|
| palomino5 | Windows Server 2022 Datacenter | x64 | R Under development (unstable) (2022-12-25 r83502 ucrt) -- "Unsuffered Consequences" | 4165 | 
| Click on any hostname to see more info about the system (e.g. compilers) (*) as reported by 'uname -p', except on Windows and Mac OS X | ||||
| To the developers/maintainers of the CexoR package: Make sure to use the following settings in order to reproduce any error or warning you see on this page. | 
| Package 287/2158 | Hostname | OS / Arch | INSTALL | BUILD | CHECK | BUILD BIN | ||||||||
| CexoR 1.37.0  (landing page) Pedro Madrigal 
 | palomino5 | Windows Server 2022 Datacenter / x64 | OK | OK | OK | OK | ||||||||
| Package: CexoR | 
| Version: 1.37.0 | 
| Command: chmod a+r CexoR -R && F:\biocbuild\bbs-3.17-bioc\R\bin\R.exe CMD build --keep-empty-dirs --no-resave-data CexoR | 
| StartedAt: 2022-12-28 17:10:25 -0500 (Wed, 28 Dec 2022) | 
| EndedAt: 2022-12-28 17:11:25 -0500 (Wed, 28 Dec 2022) | 
| EllapsedTime: 59.7 seconds | 
| RetCode: 0 | 
| Status: OK | 
| PackageFile: CexoR_1.37.0.tar.gz | 
| PackageFileSize: 1.661 MiB | 
############################################################################## ############################################################################## ### ### Running command: ### ### chmod a+r CexoR -R && F:\biocbuild\bbs-3.17-bioc\R\bin\R.exe CMD build --keep-empty-dirs --no-resave-data CexoR ### ############################################################################## ############################################################################## * checking for file 'CexoR/DESCRIPTION' ... OK * preparing 'CexoR': * checking DESCRIPTION meta-information ... OK * installing the package to build vignettes * creating vignettes ... OK * checking for LF line-endings in source and make files and shell scripts * checking for empty or unneeded directories * building 'CexoR_1.37.0.tar.gz'