| Back to Build/check report for BioC 3.17 |
|
This page was generated on 2023-01-02 09:00:22 -0500 (Mon, 02 Jan 2023).
| Hostname | OS | Arch (*) | R version | Installed pkgs |
|---|---|---|---|---|
| palomino5 | Windows Server 2022 Datacenter | x64 | R Under development (unstable) (2022-12-25 r83502 ucrt) -- "Unsuffered Consequences" | 4165 |
| Click on any hostname to see more info about the system (e.g. compilers) (*) as reported by 'uname -p', except on Windows and Mac OS X | ||||
|
To the developers/maintainers of the CexoR package: Make sure to use the following settings in order to reproduce any error or warning you see on this page. |
| Package 287/2158 | Hostname | OS / Arch | INSTALL | BUILD | CHECK | BUILD BIN | ||||||||
| CexoR 1.37.0 (landing page) Pedro Madrigal
| palomino5 | Windows Server 2022 Datacenter / x64 | OK | OK | OK | OK | ||||||||
| Package: CexoR |
| Version: 1.37.0 |
| Command: rm -rf CexoR.buildbin-libdir && mkdir CexoR.buildbin-libdir && F:\biocbuild\bbs-3.17-bioc\R\bin\R.exe CMD INSTALL --build --library=CexoR.buildbin-libdir CexoR_1.37.0.tar.gz |
| StartedAt: 2022-12-29 04:56:44 -0500 (Thu, 29 Dec 2022) |
| EndedAt: 2022-12-29 04:57:14 -0500 (Thu, 29 Dec 2022) |
| EllapsedTime: 29.7 seconds |
| RetCode: 0 |
| Status: OK |
| PackageFile: CexoR_1.37.0.zip |
| PackageFileSize: 1.698 MiB |
############################################################################## ############################################################################## ### ### Running command: ### ### rm -rf CexoR.buildbin-libdir && mkdir CexoR.buildbin-libdir && F:\biocbuild\bbs-3.17-bioc\R\bin\R.exe CMD INSTALL --build --library=CexoR.buildbin-libdir CexoR_1.37.0.tar.gz ### ############################################################################## ############################################################################## * installing *source* package 'CexoR' ... ** using staged installation ** R ** inst ** byte-compile and prepare package for lazy loading Warning: replacing previous import 'Biostrings::pattern' by 'grid::pattern' when loading 'genomation' ** help *** installing help indices ** building package indices ** installing vignettes ** testing if installed package can be loaded from temporary location Warning: replacing previous import 'Biostrings::pattern' by 'grid::pattern' when loading 'genomation' ** testing if installed package can be loaded from final location Warning: replacing previous import 'Biostrings::pattern' by 'grid::pattern' when loading 'genomation' ** testing if installed package keeps a record of temporary installation path * MD5 sums packaged installation of 'CexoR' as CexoR_1.37.0.zip * DONE (CexoR)