| Back to Mac ARM64 build report for BioC 3.16 |
|
This page was generated on 2023-04-19 11:01:58 -0400 (Wed, 19 Apr 2023).
| Hostname | OS | Arch (*) | R version | Installed pkgs |
|---|---|---|---|---|
| kjohnson | macOS 13.0 Ventura | arm64 | 4.2.2 (2022-10-31) -- "Innocent and Trusting" | 4256 |
| Click on any hostname to see more info about the system (e.g. compilers) (*) as reported by 'uname -p', except on Windows and Mac OS X | ||||
|
To the developers/maintainers of the rTRM package: Make sure to use the following settings in order to reproduce any error or warning you see on this page. |
| Package 1750/2183 | Hostname | OS / Arch | INSTALL | BUILD | BUILD BIN | ||||||||
| rTRM 1.36.0 (landing page) Diego Diez
| kjohnson | macOS 13.0 Ventura / arm64 | OK | OK | OK | ||||||||
| Package: rTRM |
| Version: 1.36.0 |
| Command: /Library/Frameworks/R.framework/Resources/bin/R CMD build --keep-empty-dirs --no-resave-data rTRM |
| StartedAt: 2023-04-18 02:47:36 -0400 (Tue, 18 Apr 2023) |
| EndedAt: 2023-04-18 02:49:06 -0400 (Tue, 18 Apr 2023) |
| EllapsedTime: 90.5 seconds |
| RetCode: 0 |
| Status: OK |
| PackageFile: rTRM_1.36.0.tar.gz |
| PackageFileSize: 3.581 MiB |
##############################################################################
##############################################################################
###
### Running command:
###
### /Library/Frameworks/R.framework/Resources/bin/R CMD build --keep-empty-dirs --no-resave-data rTRM
###
##############################################################################
##############################################################################
* checking for file ‘rTRM/DESCRIPTION’ ... OK
* preparing ‘rTRM’:
* checking DESCRIPTION meta-information ... OK
* installing the package to process help pages
* building the PDF package manual
Loading required package: igraph
Attaching package: ‘igraph’
The following objects are masked from ‘package:stats’:
decompose, spectrum
The following object is masked from ‘package:base’:
union
* creating vignettes ... OK
* checking for LF line-endings in source and make files and shell scripts
* checking for empty or unneeded directories
* looking to see if a ‘data/datalist’ file should be added
* building ‘rTRM_1.36.0.tar.gz’