| Back to Mac ARM64 build report for BioC 3.16 |
|
This page was generated on 2023-04-19 11:01:58 -0400 (Wed, 19 Apr 2023).
| Hostname | OS | Arch (*) | R version | Installed pkgs |
|---|---|---|---|---|
| kjohnson | macOS 13.0 Ventura | arm64 | 4.2.2 (2022-10-31) -- "Innocent and Trusting" | 4256 |
| Click on any hostname to see more info about the system (e.g. compilers) (*) as reported by 'uname -p', except on Windows and Mac OS X | ||||
|
To the developers/maintainers of the rTRM package: Make sure to use the following settings in order to reproduce any error or warning you see on this page. |
| Package 1750/2183 | Hostname | OS / Arch | INSTALL | BUILD | BUILD BIN | ||||||||
| rTRM 1.36.0 (landing page) Diego Diez
| kjohnson | macOS 13.0 Ventura / arm64 | OK | OK | OK | ||||||||
| Package: rTRM |
| Version: 1.36.0 |
| Command: rm -rf rTRM.buildbin-libdir && mkdir rTRM.buildbin-libdir && /Users/biocbuild/BBS/utils/build-universal.sh rTRM_1.36.0.tar.gz /Library/Frameworks/R.framework/Resources/bin/R rTRM.buildbin-libdir |
| StartedAt: 2023-04-18 19:09:40 -0400 (Tue, 18 Apr 2023) |
| EndedAt: 2023-04-18 19:10:23 -0400 (Tue, 18 Apr 2023) |
| EllapsedTime: 43.3 seconds |
| RetCode: 0 |
| Status: OK |
| PackageFile: rTRM_1.36.0.tgz |
| PackageFileSize: 3.418 MiB |
##############################################################################
##############################################################################
###
### Running command:
###
### rm -rf rTRM.buildbin-libdir && mkdir rTRM.buildbin-libdir && /Users/biocbuild/BBS/utils/build-universal.sh rTRM_1.36.0.tar.gz /Library/Frameworks/R.framework/Resources/bin/R rTRM.buildbin-libdir
###
##############################################################################
##############################################################################
>>>>>>>
>>>>>>> INSTALLATION WITH 'R CMD INSTALL --preclean --no-multiarch --library=rTRM.buildbin-libdir rTRM_1.36.0.tar.gz'
>>>>>>>
* installing *source* package ‘rTRM’ ...
** using staged installation
** R
** data
** inst
** byte-compile and prepare package for lazy loading
** help
Loading required package: igraph
Attaching package: ‘igraph’
The following objects are masked from ‘package:stats’:
decompose, spectrum
The following object is masked from ‘package:base’:
union
*** installing help indices
** building package indices
** installing vignettes
** testing if installed package can be loaded from temporary location
** testing if installed package can be loaded from final location
** testing if installed package keeps a record of temporary installation path
* DONE (rTRM)